BEGIN:VCALENDAR
VERSION:2.0
PRODID:-//The Law Society of Newfoundland and Labrador - ECPv6.15.19//NONSGML v1.0//EN
CALSCALE:GREGORIAN
METHOD:PUBLISH
X-WR-CALNAME:The Law Society of Newfoundland and Labrador
X-ORIGINAL-URL:https://lsnl.ca
X-WR-CALDESC:Events for The Law Society of Newfoundland and Labrador
REFRESH-INTERVAL;VALUE=DURATION:PT1H
X-Robots-Tag:noindex
X-PUBLISHED-TTL:PT1H
BEGIN:VTIMEZONE
TZID:America/St_Johns
BEGIN:DAYLIGHT
TZOFFSETFROM:-0330
TZOFFSETTO:-0230
TZNAME:NDT
DTSTART:20220313T053000
END:DAYLIGHT
BEGIN:STANDARD
TZOFFSETFROM:-0230
TZOFFSETTO:-0330
TZNAME:NST
DTSTART:20221106T043000
END:STANDARD
BEGIN:DAYLIGHT
TZOFFSETFROM:-0330
TZOFFSETTO:-0230
TZNAME:NDT
DTSTART:20230312T053000
END:DAYLIGHT
BEGIN:STANDARD
TZOFFSETFROM:-0230
TZOFFSETTO:-0330
TZNAME:NST
DTSTART:20231105T043000
END:STANDARD
BEGIN:DAYLIGHT
TZOFFSETFROM:-0330
TZOFFSETTO:-0230
TZNAME:NDT
DTSTART:20240310T053000
END:DAYLIGHT
BEGIN:STANDARD
TZOFFSETFROM:-0230
TZOFFSETTO:-0330
TZNAME:NST
DTSTART:20241103T043000
END:STANDARD
END:VTIMEZONE
BEGIN:VEVENT
DTSTART;VALUE=DATE:20231123
DTEND;VALUE=DATE:20231124
DTSTAMP:20260421T194252
CREATED:20231102T150919Z
LAST-MODIFIED:20231102T150919Z
UID:21746-1700697600-1700783999@lsnl.ca
SUMMARY:Administrative Law Conference 2023
DESCRIPTION:Featuring the Honourable Mr. Justice Malcolm Rowe\, Supreme Court of Canada\n\n\n\n\n\n\n\nThursday\, November 23\, 2023\n9:00 am – 4:00 pm\nVancouver Location TBA\nor attend via webinar \nWho should attend: Those who appear before\, advise\, or sit as a member of an administrative tribunal and/or those who appear as counsel in court in applications for judicial review and appeals from administrative tribunals \nLearning level: Intermediate/Advanced \nIt can be difficult to stay on top of all the changes happening in administrative law. This annual conference is your efficient solution to learning about recent decisions\, legislative updates\, and current trends in this complex practice area. \nHear from a distinguished faculty of judges\, academics\, and leading lawyers who have researched\, analyzed\, and curated key developments over the past year to share with you. You will leave this conference up to date and equipped with new practice tips for your administrative law files. \nThis year\, we are honoured to have the Honourable Mr. Justice Malcolm Rowe speaking at the conference. \nJoin us and review a year’s worth of administrative law developments in a day! \nAfter taking this program\, you will: \n\nunderstand and be able to apply the latest court decisions and legislative updates to your practice\nbe aware of changes needed by tribunals to implement UNDRIP\nlearn about litigating in parallel universes\ngain an understanding of judicial review where a limited appeal exists\n\nLaw Society of BC CPD Hours: 6 hours (this course will contain a minimum of 1 hour pertaining to professional responsibility and ethics\, client care and relations\, and/or practice management). \nCourse Chairs\nAlison M. Latimer\, KC — Barrister & Solicitor\, Vancouver\nElena F. Miller — BC Labour Relations Board\, Vancouver \nCan’t make the webinar or rebroadcasts? Want online CPD available 24/7?\nSubscribe to Courses On Demand\, our comprehensive online resource with 21\,500+ videos and 5\,400+ papers from CLEBC courses. This course will be added to Courses on Demand approximately 30 days from the original course date.
URL:https://lsnl.ca/event/administrative-law-conference-2023/
LOCATION:Online
CATEGORIES:Continuing Professional Development
END:VEVENT
BEGIN:VEVENT
DTSTART;TZID=America/St_Johns:20231123T080000
DTEND;TZID=America/St_Johns:20231123T170000
DTSTAMP:20260421T194252
CREATED:20231023T163335Z
LAST-MODIFIED:20231023T163335Z
UID:21695-1700726400-1700758800@lsnl.ca
SUMMARY:AI and Ethics in Litigation and Dispute Resolution
DESCRIPTION:Overview of AI in litigation and dispute resolution\, including its benefits and limitations\nEthical considerations in using AI in litigation and dispute resolution\, such as maintaining lawyer-client privilege\, ensuring transparency\, and avoiding biased outcomes\nCase studies highlighting ethical dilemmas in AI and litigation\, such as the use of predictive analytics in sentencing decisions\n\n\n\nPractical examples: \n\nUse of AI tools such as predictive coding in e-discovery and legal analytics in case assessment\nAddressing concerns related to maintaining lawyer-client privilege while using AI tools in litigation and dispute resolution\nExamining the potential for bias in AI systems used for predictive analytics in sentencing decisions\n\nTime: 8am EDT / 9am ADT /12pm GMT /1pm WAT / 2pm CAT / 8pm HKT & MYT \nDate: Thursday 23rd November 2023 \nSpeakers:\nShikin Datu Gulam\nHin Han Shum \nModerators:\nMalcolm Mercer \nRegister here \nThe series comprises an additional 4 episodes exploring  the role of AI cross practice as follows: \n\nEpisode 3 January 2024 : AI and Ethics in Contract Review and Due Diligence\nEpisode 4  February 2024 : AI and Ethics in Data Privacy and Cybersecurity\nEpisode 5 March 2024 : AI and Ethics in Intellectual Property\nEpisode 6 April 2024 : AI and Ethics in Access to Justice\n\n\n\n\nOrganiser \n\nThe Commonwealth Lawyers Association.
URL:https://lsnl.ca/event/ai-and-ethics-in-litigation-and-dispute-resolution/
LOCATION:Online
CATEGORIES:Continuing Professional Development
END:VEVENT
END:VCALENDAR