BEGIN:VCALENDAR
VERSION:2.0
PRODID:-//The Law Society of Newfoundland and Labrador - ECPv6.15.19//NONSGML v1.0//EN
CALSCALE:GREGORIAN
METHOD:PUBLISH
X-WR-CALNAME:The Law Society of Newfoundland and Labrador
X-ORIGINAL-URL:https://lsnl.ca
X-WR-CALDESC:Events for The Law Society of Newfoundland and Labrador
REFRESH-INTERVAL;VALUE=DURATION:PT1H
X-Robots-Tag:noindex
X-PUBLISHED-TTL:PT1H
BEGIN:VTIMEZONE
TZID:America/St_Johns
BEGIN:DAYLIGHT
TZOFFSETFROM:-0330
TZOFFSETTO:-0230
TZNAME:NDT
DTSTART:20220313T053000
END:DAYLIGHT
BEGIN:STANDARD
TZOFFSETFROM:-0230
TZOFFSETTO:-0330
TZNAME:NST
DTSTART:20221106T043000
END:STANDARD
BEGIN:DAYLIGHT
TZOFFSETFROM:-0330
TZOFFSETTO:-0230
TZNAME:NDT
DTSTART:20230312T053000
END:DAYLIGHT
BEGIN:STANDARD
TZOFFSETFROM:-0230
TZOFFSETTO:-0330
TZNAME:NST
DTSTART:20231105T043000
END:STANDARD
BEGIN:DAYLIGHT
TZOFFSETFROM:-0330
TZOFFSETTO:-0230
TZNAME:NDT
DTSTART:20240310T053000
END:DAYLIGHT
BEGIN:STANDARD
TZOFFSETFROM:-0230
TZOFFSETTO:-0330
TZNAME:NST
DTSTART:20241103T043000
END:STANDARD
END:VTIMEZONE
BEGIN:VEVENT
DTSTART;VALUE=DATE:20231124
DTEND;VALUE=DATE:20231125
DTSTAMP:20260421T194255
CREATED:20231102T151151Z
LAST-MODIFIED:20231102T151151Z
UID:21748-1700784000-1700870399@lsnl.ca
SUMMARY:Aboriginal Law Conference 2023: Self-determination and Self-governance
DESCRIPTION:Your essential yearly update \nFriday\, November 24\, 2023\n9:00 am – 4:30 pm\nPinnacle Harbourfront Hotel\, 1133 West Hasting Street\, Vancouver\nor attend via webinar \nWho should attend: Lawyers practicing in the area of Aboriginal law\, in private practice\, industry\, and government; others who focus on Aboriginal law issues will also benefit\, including Indigenous organizations\, in-house counsel\, and law students \nLearning level: All levels \nThis year we will bring together leading Aboriginal law practitioners to speak on the theme of self-determination and self-governance. We will explore the legal and practical implications of current developments affecting Indigenous Peoples\, governments\, and industry. \nWe are pleased to have with us the Honourable Senator Michèle Audette\, who will be joined by Darius Bossé\, to speak on Strengthening the Indigenous Languages Act. \nOther topics will include Indigenous Water Rights and Protected and Conserved Areas\, Indigenous and Settler Governments and Legal Systems\, Community Lawmaking and Indigenous Children and Families\, and an exploration of the rise of “Métis Denialism.” \nCourse Chairs\nRosanne M. Kyle\, KC — Mandell Pinder LLP\, Vancouver\nStephen Mussell — Mandell Pinder LLP\, oskana ka-asastēki (Regina) & Vancouver \nCan’t make the webinar or rebroadcasts? Want online CPD available 24/7?\nSubscribe to Courses On Demand\, our comprehensive online resource with 1\,500+ videos and 5\,400+ papers from CLEBC courses. This course will be added to Courses on Demand approximately 30 days from the original course date.
URL:https://lsnl.ca/event/aboriginal-law-conference-2023-self-determination-and-self-governance/
LOCATION:Online
CATEGORIES:Continuing Professional Development
END:VEVENT
BEGIN:VEVENT
DTSTART;TZID=America/St_Johns:20231124T090000
DTEND;TZID=America/St_Johns:20231124T120000
DTSTAMP:20260421T194255
CREATED:20231102T151336Z
LAST-MODIFIED:20231102T151336Z
UID:21750-1700816400-1700827200@lsnl.ca
SUMMARY:Breaking Out of the Form: Smart Direction for Better Drafting 2023
DESCRIPTION:Please note: This course will not be added to Courses on Demand.  Courses involving professional speakers and skills-based workshops generally do not get added to Courses on Demand. \nWho should attend: Lawyers who want to be deal makers\, not deal breakers—those who want to learn how to create agreements that are an effortless reading experience while still reflecting the critical terms of a deal \nLearning level: Fundamental/Intermediate \nIt’s time to write contracts differently! Stuart Teicher\, Esq. (the “CLE Performer”) uses his unique style to explain why lawyers need to break free from the restrictions of the past—those dreaded forms. Whether it’s rewriting the form or drafting from scratch\, Stuart teaches us how to make our contract drafting better by focusing on the essence of transactional drafting\, the details of proper contract structure\, and the key details in our writing. \n\nMaking the deal—a reminder about how the client thinks\, what they care about\, and how to translate that into an agreement\n\n\nWhy contract structure is critical\n\nthe importance of content grouping\nwhen formatting matters\neliminating obstacles…like block paragraphs\n\n\n\n\nDrafting contingencies that work and the role of definitions\n\n\nDrafting clearly and without ambiguity\n\ndeconstructing complex clauses\nincorporating plain language without reducing enforceability\nreworking boilerplate provisions\n\n\n\n\nGetting down to the details\n\nwhen to use shall\, must\, and will\ngrammar rules you should ignore in contract drafting\na few words on proper punctuation\nunique contract styles and when they might be valuable\n\n\n\n\nSome practical tips for a smoother transaction\n\nHere’s what past registrants had to say: \n“Outstanding. Tricked me into thinking I was being entertained\, instead of learning drafting/writing skills. Funny!” \n“Stuart knows how to keep the audience engaged! The three hours were illuminating\, enlightening\, and informative!” \nYou may also be interested in A Deeper Dive into the Details of Persuasive Writing on Friday\, November 17\, 2023. \nCourse Instructor\nStuart Teicher\, Esq. — Teicher Professional Growth\, LLC\, East Brunswick\, New Jersey
URL:https://lsnl.ca/event/breaking-out-of-the-form-smart-direction-for-better-drafting-2023/
LOCATION:Online
CATEGORIES:Continuing Professional Development
END:VEVENT
END:VCALENDAR