BEGIN:VCALENDAR
VERSION:2.0
PRODID:-//The Law Society of Newfoundland and Labrador - ECPv6.15.19//NONSGML v1.0//EN
CALSCALE:GREGORIAN
METHOD:PUBLISH
X-WR-CALNAME:The Law Society of Newfoundland and Labrador
X-ORIGINAL-URL:https://lsnl.ca
X-WR-CALDESC:Events for The Law Society of Newfoundland and Labrador
REFRESH-INTERVAL;VALUE=DURATION:PT1H
X-Robots-Tag:noindex
X-PUBLISHED-TTL:PT1H
BEGIN:VTIMEZONE
TZID:America/St_Johns
BEGIN:DAYLIGHT
TZOFFSETFROM:-0330
TZOFFSETTO:-0230
TZNAME:NDT
DTSTART:20220313T053000
END:DAYLIGHT
BEGIN:STANDARD
TZOFFSETFROM:-0230
TZOFFSETTO:-0330
TZNAME:NST
DTSTART:20221106T043000
END:STANDARD
BEGIN:DAYLIGHT
TZOFFSETFROM:-0330
TZOFFSETTO:-0230
TZNAME:NDT
DTSTART:20230312T053000
END:DAYLIGHT
BEGIN:STANDARD
TZOFFSETFROM:-0230
TZOFFSETTO:-0330
TZNAME:NST
DTSTART:20231105T043000
END:STANDARD
BEGIN:DAYLIGHT
TZOFFSETFROM:-0330
TZOFFSETTO:-0230
TZNAME:NDT
DTSTART:20240310T053000
END:DAYLIGHT
BEGIN:STANDARD
TZOFFSETFROM:-0230
TZOFFSETTO:-0330
TZNAME:NST
DTSTART:20241103T043000
END:STANDARD
END:VTIMEZONE
BEGIN:VEVENT
DTSTART;VALUE=DATE:20231128
DTEND;VALUE=DATE:20231129
DTSTAMP:20260421T181339
CREATED:20231102T151606Z
LAST-MODIFIED:20231102T151606Z
UID:21752-1701129600-1701215999@lsnl.ca
SUMMARY:Commercial Litigation 2023
DESCRIPTION:Master the essentials of current commercial litigation practice! \nWho should attend: Civil litigators\, corporate-commercial solicitors\, in-house counsel \nLearning level: Fundamental/Intermediate \nThis comprehensive program is for general civil litigators who seek a review of the key procedural and substantive matters shaping the conduct of commercial litigation. \nAs with previous editions of this program\, this year’s course will blend core topic areas\, current legal issues\, and advocacy skills to create a wide-ranging yet practical program. This session will focus on litigation strategy and its relation to the management of the issues pertaining to the various phases of a commercial file. \nThis course will make counsel more effective in serving clients in this important niche of litigation practice. \nCourse Chairs\nBrent Olthuis\, KC — Olthuis van Ert\, Vancouver\nTaylor-Marie Young — Rush Ihas Hardwick LLP\, Kelowna \nCan’t make the webinar or rebroadcasts? Want online CPD available 24/7?\nSubscribe to Courses On Demand\, our comprehensive online resource with 1\,500+ videos and 5\,400+ papers from CLEBC courses. This course will be added to Courses on Demand approximately 30 days from the original course date.
URL:https://lsnl.ca/event/commercial-litigation-2023/
LOCATION:Online
CATEGORIES:Continuing Professional Development
END:VEVENT
BEGIN:VEVENT
DTSTART;TZID=America/St_Johns:20231128T133000
DTEND;TZID=America/St_Johns:20231128T153000
DTSTAMP:20260421T181339
CREATED:20231124T154202Z
LAST-MODIFIED:20231124T154202Z
UID:21930-1701178200-1701185400@lsnl.ca
SUMMARY:Public Safety Canada Webinar Series: Combatting Online Child Sexual Exploitation
DESCRIPTION:Register for the Public Safety Canada Webinar Series: Combatting Online Child Sexual Exploitation. \nWebinar 1: Public Safety Canada Webinar on Emerging Technological Trends: The Impacts of Generative AI and Deepfakes on Online Child Sexual Exploitation\, November 28th\, 1:30 pm – 3:30 pm EST. \nTo Register \nPlease click on the link below. You will then receive a confirmation email with login details. \nhttps://us02web.zoom.us/meeting/register/tZEkfuCppzouH9R6FM76mwX0Wp-xHBgcqH9f \nIf you have registered but have not received the Zoom link\, please check your email inbox for the confirmation email from Public Safety Canada – Sécurité publique Canada or contact tinsae.woldetensae@hillandknowlton.com. \nFor any questions about the event\, please do not hesitate to email our team at onlinecseeseenligne@ps-sp.gc.ca.
URL:https://lsnl.ca/event/public-safety-canada-webinar-series-combatting-online-child-sexual-exploitation/
LOCATION:Online
CATEGORIES:Continuing Professional Development
END:VEVENT
END:VCALENDAR