BEGIN:VCALENDAR
VERSION:2.0
PRODID:-//The Law Society of Newfoundland and Labrador - ECPv6.15.19//NONSGML v1.0//EN
CALSCALE:GREGORIAN
METHOD:PUBLISH
X-ORIGINAL-URL:https://lsnl.ca
X-WR-CALDESC:Events for The Law Society of Newfoundland and Labrador
REFRESH-INTERVAL;VALUE=DURATION:PT1H
X-Robots-Tag:noindex
X-PUBLISHED-TTL:PT1H
BEGIN:VTIMEZONE
TZID:America/St_Johns
BEGIN:DAYLIGHT
TZOFFSETFROM:-0330
TZOFFSETTO:-0230
TZNAME:NDT
DTSTART:20220313T053000
END:DAYLIGHT
BEGIN:STANDARD
TZOFFSETFROM:-0230
TZOFFSETTO:-0330
TZNAME:NST
DTSTART:20221106T043000
END:STANDARD
BEGIN:DAYLIGHT
TZOFFSETFROM:-0330
TZOFFSETTO:-0230
TZNAME:NDT
DTSTART:20230312T053000
END:DAYLIGHT
BEGIN:STANDARD
TZOFFSETFROM:-0230
TZOFFSETTO:-0330
TZNAME:NST
DTSTART:20231105T043000
END:STANDARD
BEGIN:DAYLIGHT
TZOFFSETFROM:-0330
TZOFFSETTO:-0230
TZNAME:NDT
DTSTART:20240310T053000
END:DAYLIGHT
BEGIN:STANDARD
TZOFFSETFROM:-0230
TZOFFSETTO:-0330
TZNAME:NST
DTSTART:20241103T043000
END:STANDARD
END:VTIMEZONE
BEGIN:VEVENT
DTSTART;VALUE=DATE:20231213
DTEND;VALUE=DATE:20231215
DTSTAMP:20260421T181422
CREATED:20231204T201618Z
LAST-MODIFIED:20231204T201656Z
UID:21986-1702425600-1702598399@lsnl.ca
SUMMARY:Fundamentals of Mediation by the Continuing Legal Education Society of British Columbia
DESCRIPTION:Add to your lawyer skills!\n\n\n\n\n\n\nPlease note: This course will not be added to Courses on Demand. Courses involving professional speakers and skills-based workshops generally do not get added to Courses on Demand. \nWho should attend: Anyone wishing to extend their practice to include dispute resolution; the course will also be of interest to lawyers who attend mediation as counsel. \nLearning level: Fundamental \nAre you planning to become a mediator\, or to add valuable skills to your existing litigation toolkit? Dispute resolution skills will enhance your value to your clients. \nThis two-day course provides you with the entry-level training for general civil mediation. You will become familiar with the basics of mediation in a coached\, practical setting. \nThe course is a permitted prerequisite for the CLEBC course Mediation Skills Level 2 and has been approved as mediation training requirements for Mediate BC. \nAfter taking this course\, you will: \n\nhave a negotiation model to apply to your mediation work as either counsel or as a mediator\nbe able to use a step-by-step process framework for proceeding through the stages of mediation\nfeel confident using macro and micro skills to act as an effective counsel/mediator\nhave the tools to manage the mediation process\, including how and when to caucus\, working through impasse\, and helping the parties to reach resolution\n\nPlease note: This course is offered remotely through a Zoom platform. A device equipped with a camera and microphone will be required to participate. \nLaw Society of BC CPD Hours: 16 hours (a minimum of 2 hours pertaining to professional responsibility and ethics\, client care and relations\, and/or practice management). \nThis course also counts towards the Family Law ADR Qualification Hours. \nCourse Chairs\nMark L. Tweedy\, C. Med.\, C. Arb. — Mark Tweedy Mediation + Arbitration\, Vancouver\nRenee Collins\, RRM — Quantum Mediation\, Vancouver
URL:https://lsnl.ca/event/fundamentals-of-mediation-by-the-continuing-legal-education-society-of-british-columbia/
LOCATION:Online
CATEGORIES:Continuing Professional Development
END:VEVENT
END:VCALENDAR