BEGIN:VCALENDAR
VERSION:2.0
PRODID:-//The Law Society of Newfoundland and Labrador - ECPv6.15.19//NONSGML v1.0//EN
CALSCALE:GREGORIAN
METHOD:PUBLISH
X-WR-CALNAME:The Law Society of Newfoundland and Labrador
X-ORIGINAL-URL:https://lsnl.ca
X-WR-CALDESC:Events for The Law Society of Newfoundland and Labrador
REFRESH-INTERVAL;VALUE=DURATION:PT1H
X-Robots-Tag:noindex
X-PUBLISHED-TTL:PT1H
BEGIN:VTIMEZONE
TZID:America/St_Johns
BEGIN:DAYLIGHT
TZOFFSETFROM:-0330
TZOFFSETTO:-0230
TZNAME:NDT
DTSTART:20230312T053000
END:DAYLIGHT
BEGIN:STANDARD
TZOFFSETFROM:-0230
TZOFFSETTO:-0330
TZNAME:NST
DTSTART:20231105T043000
END:STANDARD
BEGIN:DAYLIGHT
TZOFFSETFROM:-0330
TZOFFSETTO:-0230
TZNAME:NDT
DTSTART:20240310T053000
END:DAYLIGHT
BEGIN:STANDARD
TZOFFSETFROM:-0230
TZOFFSETTO:-0330
TZNAME:NST
DTSTART:20241103T043000
END:STANDARD
BEGIN:DAYLIGHT
TZOFFSETFROM:-0330
TZOFFSETTO:-0230
TZNAME:NDT
DTSTART:20250309T053000
END:DAYLIGHT
BEGIN:STANDARD
TZOFFSETFROM:-0230
TZOFFSETTO:-0330
TZNAME:NST
DTSTART:20251102T043000
END:STANDARD
END:VTIMEZONE
BEGIN:VEVENT
DTSTART;VALUE=DATE:20240117
DTEND;VALUE=DATE:20240120
DTSTAMP:20260421T195850
CREATED:20231222T131318Z
LAST-MODIFIED:20231222T131318Z
UID:22190-1705449600-1705708799@lsnl.ca
SUMMARY:Intermediate Family Law Mediation by the Continuing Legal Education Society of British Columbia
DESCRIPTION:Please note: This course will not be added to Courses on Demand.  Courses involving professional speakers and skills-based workshops generally do not get added to Courses on Demand. \nWho should attend: All those wishing to enhance their mediation skills and understanding. This course is essential for new family mediators. \nLearning level: Intermediate/Advanced \nThe third course in CLEBC’s Family Law Mediation curriculum\, this program will give you a better understanding of family dynamics and power in mediation. You will also learn about process design options and have the opportunity to enhance your interview skills through role-play and exercises. \nFinally\, you will hear about how to document and record sessions\, agreements\, and memorandums of understanding to give you a better understanding of the nature and source of conflict in the context of family dispute resolution\, as well as the role and objectives of a mediator. \nFor those wishing to become Family Law Mediators under the Family Law Act\, this is the third of four courses in our 80-hour curriculum. \nThis course will count for 24 hours of mediation training and will include exercises and role-plays in mediation settings. \nPlease note: This course is offered remotely through a Zoom platform. A device equipped with a camera and microphone will be required to participate. \nPrerequisites: Introduction to Family Dispute Resolution\, and Family Law Mediation Fundamentals or equivalent training. \nQualify as a Family Law Mediator: 80 hours of Family Law Mediation Training including Screening for Family Violence Training!\nRegister for all 5 courses and receive 25% off the regular price*\n*Contact Customer Service to take advantage of this offer. \n1. Introduction to Family Dispute Resolution\nhursday and Friday\, September 14 and 15\, 2023 \n2. Family Violence Screening Training\nTuesday and Wednesday\, September 26 and 27\, 2023\n \n3. Family Law Mediation Fundamentals\nWednesday\, Thursday\, and Friday\, November 1\, 2\, and 3\, 2023 \n4. Intermediate Family Law Mediation\nWednesday\, Thursday\, and Friday\, January 17\, 18\, and 19\, 2024 \n5. Advanced Family Mediation\nThursday and Friday\, April 25 and 26\, 2024 \n*DISCLAIMER: Learners are required to participate fully in the course. “Full participation” is in the faculty’s sole discretion. Activities such as reading the paper\, watching videos on the computer\, not being present\, engaging in phone calls\, and disrupting the class with irrelevant activities will demonstrate a lack of full participation. \n\n\n\nTHE CHAIRS OF THIS COURSE HAVE THE RIGHT TO REVOKE [MEDIATION] ACCREDITATION TO DISTRACTED OR “NON-PRESENT” INDIVIDUALS ENROLLED IN THE COURSE.\n\n\n\nLaw Society of BC CPD Hours: 24 hours (including a minimum of 2 hours pertaining to professional responsibility and ethics\, client care and relations\, and/or practice management) \nCourse Chairs\nCarol W. Hickman\, KC — Virgin Hickman\, Vancouver\nArlene H. Henry\, KC — Arlene H. Henry Law Corporation\, Vancouver \n\n\n\nPricing\n\nEARLY BIRD \nRegister by Dec. 20/23\nRegular Price\nAfter Dec. 20/23\n\n\n\n\nWebinar\n$1\,574\n$1\,749\n\n\nAre you an Indigenous lawyer or community member?\nClick here for special pricing.\n \nUnable to attend a course without financial assistance from CLEBC?\nClick here for bursary information. \nWant to register for a course now\, but prefer a monthly payment plan?\nCheck out our Easy Pay Plan. \nRegistration includes an electronic copy of the workshop materials.\n\n\n\nDiscover all of our Family Law resources here \nCLEBC Program Coordinator\nDarsey Meredith\ndarseym@cle.bc.ca \n\n\n\n\n\n\n 
URL:https://lsnl.ca/event/intermediate-family-law-mediation-by-the-continuing-legal-education-society-of-british-columbia/
LOCATION:Online
CATEGORIES:Continuing Professional Development
END:VEVENT
BEGIN:VEVENT
DTSTART;TZID=America/St_Johns:20240119T130000
DTEND;TZID=America/St_Johns:20240119T160000
DTSTAMP:20260421T195850
CREATED:20231221T155516Z
LAST-MODIFIED:20231221T155516Z
UID:22153-1705669200-1705680000@lsnl.ca
SUMMARY:Representing Clients Before the Social Benefits Tribunal 2024 by the Law Society of Ontario
DESCRIPTION:Are you looking to enhance your advocacy skills to effectively represent a client before the Social Benefits Tribunal? This program gives you techniques and strategies to advocate better\, including preparing the client and witnesses\, presenting and challenging evidence\, and making submissions. Learn about common trends and how to efficiently research\, review the Tribunal’s rules\, and stay current with your procedural knowledge. \n\n\nObtain an introduction to the Tribunal\nLearn about practices and procedures when appearing before the Tribunal\nUnderstand the art of preparing the file for a Tribunal hearing
URL:https://lsnl.ca/event/representing-clients-before-the-social-benefits-tribunal-2024-by-the-law-society-of-ontario/
LOCATION:Online
CATEGORIES:Continuing Professional Development
END:VEVENT
END:VCALENDAR