BEGIN:VCALENDAR
VERSION:2.0
PRODID:-//The Law Society of Newfoundland and Labrador - ECPv6.15.19//NONSGML v1.0//EN
CALSCALE:GREGORIAN
METHOD:PUBLISH
X-WR-CALNAME:The Law Society of Newfoundland and Labrador
X-ORIGINAL-URL:https://lsnl.ca
X-WR-CALDESC:Events for The Law Society of Newfoundland and Labrador
REFRESH-INTERVAL;VALUE=DURATION:PT1H
X-Robots-Tag:noindex
X-PUBLISHED-TTL:PT1H
BEGIN:VTIMEZONE
TZID:America/St_Johns
BEGIN:DAYLIGHT
TZOFFSETFROM:-0330
TZOFFSETTO:-0230
TZNAME:NDT
DTSTART:20230312T053000
END:DAYLIGHT
BEGIN:STANDARD
TZOFFSETFROM:-0230
TZOFFSETTO:-0330
TZNAME:NST
DTSTART:20231105T043000
END:STANDARD
BEGIN:DAYLIGHT
TZOFFSETFROM:-0330
TZOFFSETTO:-0230
TZNAME:NDT
DTSTART:20240310T053000
END:DAYLIGHT
BEGIN:STANDARD
TZOFFSETFROM:-0230
TZOFFSETTO:-0330
TZNAME:NST
DTSTART:20241103T043000
END:STANDARD
BEGIN:DAYLIGHT
TZOFFSETFROM:-0330
TZOFFSETTO:-0230
TZNAME:NDT
DTSTART:20250309T053000
END:DAYLIGHT
BEGIN:STANDARD
TZOFFSETFROM:-0230
TZOFFSETTO:-0330
TZNAME:NST
DTSTART:20251102T043000
END:STANDARD
END:VTIMEZONE
BEGIN:VEVENT
DTSTART;VALUE=DATE:20240122
DTEND;VALUE=DATE:20240124
DTSTAMP:20260421T181313
CREATED:20231220T183649Z
LAST-MODIFIED:20231220T183649Z
UID:22124-1705881600-1706054399@lsnl.ca
SUMMARY:Artificial Intelligence (AI) and the Law by Osgoode Hall Law School
DESCRIPTION:Artificial intelligence is disrupting and revolutionizing a broad spectrum of industries. While innovation creates the potential for new opportunities\, AI has also opened the door to a multitude of novel legal issues\, challenges and risks.\nOrganizations – and their advisors – need to understand what AI actually is\, how the technology works\, and the legal impact AI is having across practice areas. \nOver two full days\, a leading faculty of industry and legal experts\, will help you decode need-to-know technology and terminology\, guide you through the evolving AI regulatory framework in Canada and abroad\, and provide practical insights and strategies on how to prepare and comply. You will receive up-to-date knowledge and tools to help you create compliance frameworks and policies to competently manage your business in a changing world. \n\nRegistration includes 120-day unlimited\, online access to the recorded program. \n\n\n\nWhat you’ll learn\n\nIntroduction to Artificial Intelligence – what it is and isn’t\, understanding the technology and terminology\, and different models\nPractical applications of AI in businesses\nOverview of the AI regulatory landscape in Canada\, the US and EU\nThe impact of AI on privacy law\nHow to establish compliance frameworks to mitigate risk\nThe use of AI in the criminal justice process and its impact on evidence\nIP issues for AI-generated content\nEthical implications of AI\, including access to justice\, surveillance\, bias and human rights issues\nUnderstanding options for AI insurance and assessing risk\nHow to develop an AI policy for your business\nWhat’s next for AI and how to best prepare?\n\n\n\n\n\n\n\nWho Should Attend\n\n\n\n\n\nLawyers interested or advising on artificial intelligence (AI)\, technology\, privacy\, data security\, intellectual property law\nIn-house counsel\nGovernment and regulatory counsel or representatives\nCompliance and risk management professionals\nPrivacy\, information\, security and technology officers\nProfessionals in a managerial\, executive or director position looking to increase their knowledge of artificial intelligence
URL:https://lsnl.ca/event/artificial-intelligence-ai-and-the-law-by-osgoode-hall-law-school/
LOCATION:Online
CATEGORIES:Continuing Professional Development
END:VEVENT
END:VCALENDAR