BEGIN:VCALENDAR
VERSION:2.0
PRODID:-//The Law Society of Newfoundland and Labrador - ECPv6.15.19//NONSGML v1.0//EN
CALSCALE:GREGORIAN
METHOD:PUBLISH
X-ORIGINAL-URL:https://lsnl.ca
X-WR-CALDESC:Events for The Law Society of Newfoundland and Labrador
REFRESH-INTERVAL;VALUE=DURATION:PT1H
X-Robots-Tag:noindex
X-PUBLISHED-TTL:PT1H
BEGIN:VTIMEZONE
TZID:America/St_Johns
BEGIN:DAYLIGHT
TZOFFSETFROM:-0330
TZOFFSETTO:-0230
TZNAME:NDT
DTSTART:20230312T053000
END:DAYLIGHT
BEGIN:STANDARD
TZOFFSETFROM:-0230
TZOFFSETTO:-0330
TZNAME:NST
DTSTART:20231105T043000
END:STANDARD
BEGIN:DAYLIGHT
TZOFFSETFROM:-0330
TZOFFSETTO:-0230
TZNAME:NDT
DTSTART:20240310T053000
END:DAYLIGHT
BEGIN:STANDARD
TZOFFSETFROM:-0230
TZOFFSETTO:-0330
TZNAME:NST
DTSTART:20241103T043000
END:STANDARD
BEGIN:DAYLIGHT
TZOFFSETFROM:-0330
TZOFFSETTO:-0230
TZNAME:NDT
DTSTART:20250309T053000
END:DAYLIGHT
BEGIN:STANDARD
TZOFFSETFROM:-0230
TZOFFSETTO:-0330
TZNAME:NST
DTSTART:20251102T043000
END:STANDARD
END:VTIMEZONE
BEGIN:VEVENT
DTSTART;TZID=America/St_Johns:20240124T090000
DTEND;TZID=America/St_Johns:20240124T120000
DTSTAMP:20260421T163506
CREATED:20231221T155324Z
LAST-MODIFIED:20231221T155324Z
UID:22151-1706086800-1706097600@lsnl.ca
SUMMARY:The Annotated Will 2024 by the Law Society of Ontario
DESCRIPTION:Year after year\, this foundational program delivers practical tips on drafting clear and effective wills for your clients. Focusing on different provisions each time\, our panel of experts examines the components of a will precedent and alerts you to any changes to legislation or interpretation you will need to know about. \n\nWhat are some of the most common drafting errors?\nWhen would you consider using multiple Wills?\nIs it time to re-vamp your “boilerplate” clauses?\nWhat issues should you consider when planning for ODSP recipients?\nWhat practices and procedures do you need to follow after the Will is signed?\nWhat do you need to know about disclaimers and the doctrine of accelerated interests?\n\n\n\n\n\n\n\n\n\n\n\n\nIndividual registrations may use this printable order form \nGroup registrations\, please see our FAQs for group rate information. If you are registering a group of 2 or more\, please send an email to cpdreg@lso.ca including the full name\, email address\, and licensee number (if applicable) of each registrant along with a reference to the order number. \nIf you place an order via email\, please do not provide your credit card information (number and security code) in the message. A member of the CPD Registration team will contact you to obtain the payment information.
URL:https://lsnl.ca/event/the-annotated-will-2024-by-the-law-society-of-ontario/
LOCATION:Online
CATEGORIES:Continuing Professional Development
END:VEVENT
BEGIN:VEVENT
DTSTART;TZID=America/St_Johns:20240124T103000
DTEND;TZID=America/St_Johns:20240124T143000
DTSTAMP:20260421T163506
CREATED:20240116T150816Z
LAST-MODIFIED:20240116T150932Z
UID:22362-1706092200-1706106600@lsnl.ca
SUMMARY:FREE International Virtual Recruitment Fair by the Provincial Office of Immigration and Multiculturalism
DESCRIPTION:The Provincial Office of Immigration and Multiculturalism would like to invite you to participate in our FREE International Virtual Recruitment Fair. This fair is targeting international talent from South Asia and the Middle East and is promising to be a very well-attended event.  It will be a great opportunity to meet with qualified candidates for your business. \nClick here to register now or email Sarah Thompson at sarahthompson@gov.nl.ca to get started! \nKey Information for employers to note: \n\nEmployers will need to create an event booth where interested candidates will go to learn more about your company and employment opportunities.  Once registered you will receive step-by-step guidance on how to do this.  However\, if you need help to create your booth\, please email Burke at burkebrokenshire@gov.nl.ca for assistance.\n**Employers can log in to the event platform once your booth is complete at https://newfoundlandandlabradorcanada4.vfairs.ca/ and begin reviewing resumes\, shortlisting candidates and scheduling interviews as soon as you create your booth.**  This is a new feature with this fair and highly recommended!\nThere will be an info session prior to the fair where you will get your questions answered about the fair and how to hire through the NL Provincial Nominee Program and Atlantic Immigration Program.\nJob seekers will have the opportunity to browse the platform and apply for jobs one week before the start of the virtual fair.\n\nHost a Successful Virtual Job Fair – Check Out this vFairs Demo! – YouTube \nKey Dates \n\nJanuary 15 – Booth Creation Deadline (soft deadline)\nJanuary 17 – Virtual Fair Opened to Attendees to Browse the Platform\nJanuary 22 @ 10:30 am – Employer Immigration Programs Info Session and Event Platform and Booth Walk-through\nJanuary 24 – Event is live from 10:30 am – 2:30 pm
URL:https://lsnl.ca/event/free-international-virtual-recruitment-fair-by-the-provincial-office-of-immigration-and-multiculturalism/
LOCATION:Online
CATEGORIES:Continuing Professional Development
END:VEVENT
END:VCALENDAR