BEGIN:VCALENDAR
VERSION:2.0
PRODID:-//The Law Society of Newfoundland and Labrador - ECPv6.15.19//NONSGML v1.0//EN
CALSCALE:GREGORIAN
METHOD:PUBLISH
X-ORIGINAL-URL:https://lsnl.ca
X-WR-CALDESC:Events for The Law Society of Newfoundland and Labrador
REFRESH-INTERVAL;VALUE=DURATION:PT1H
X-Robots-Tag:noindex
X-PUBLISHED-TTL:PT1H
BEGIN:VTIMEZONE
TZID:America/St_Johns
BEGIN:DAYLIGHT
TZOFFSETFROM:-0330
TZOFFSETTO:-0230
TZNAME:NDT
DTSTART:20230312T053000
END:DAYLIGHT
BEGIN:STANDARD
TZOFFSETFROM:-0230
TZOFFSETTO:-0330
TZNAME:NST
DTSTART:20231105T043000
END:STANDARD
BEGIN:DAYLIGHT
TZOFFSETFROM:-0330
TZOFFSETTO:-0230
TZNAME:NDT
DTSTART:20240310T053000
END:DAYLIGHT
BEGIN:STANDARD
TZOFFSETFROM:-0230
TZOFFSETTO:-0330
TZNAME:NST
DTSTART:20241103T043000
END:STANDARD
BEGIN:DAYLIGHT
TZOFFSETFROM:-0330
TZOFFSETTO:-0230
TZNAME:NDT
DTSTART:20250309T053000
END:DAYLIGHT
BEGIN:STANDARD
TZOFFSETFROM:-0230
TZOFFSETTO:-0330
TZNAME:NST
DTSTART:20251102T043000
END:STANDARD
END:VTIMEZONE
BEGIN:VEVENT
DTSTART;VALUE=DATE:20240126
DTEND;VALUE=DATE:20240127
DTSTAMP:20260421T163630
CREATED:20231220T190024Z
LAST-MODIFIED:20231220T190024Z
UID:22126-1706227200-1706313599@lsnl.ca
SUMMARY:Mental Health Court: Essentials for Lawyers and Treatment Providers by Osgoode Hall Law School
DESCRIPTION:Join an experienced\, multi-disciplinary faculty as they examine current issues in the Mental Health Court from both a legal and treatment perspective.\nThis program is essential for those appearing as counsel or as a mental health worker in the Mental Health Court. \nIn one intensive day\, you’ll hear from all parties involved in the mental health court process and gain a comprehensive understanding of the intersection between justice and treatment and how this specialty court can provide positive results for all. \n\n\nWhat you’ll learn\nLegal practitioners and treatment providers with significant mental health court experience will discuss: \n\n\n\nFundamentals of criminal justice and mental health treatment collaboration in mental health courts\nLegal and treatment issues impacting mental health fitness hearings and assessment hearings\nEthical issues arising from multidisciplinary collaborations\nHow criminal justice and treatment practitioners can optimize their effectiveness in mental health court\nStrategies for working in a multi-disciplinary team (relationship between criminal justice practitioners\, law enforcement\, social work practitioners and mental health treatment providers)\nBest practices in tackling operational issues and in accessing community resources\n\n\n\n\n\nDon’t miss this opportunity to network and learn from acknowledged experts. This program is specifically designed for both lawyers and treatment providers/mental health workers (with or without experience in the mental health courts). \n\n\n\n\nWho Should Attend\n\n\n\n\n\nCrown lawyers\nDefence counsel\nDuty counsel\nTreatment providers and Mental Health Court workers\nHealth care and social services professionals\nJudges\nOther Professionals involved in the Mental Health Court process
URL:https://lsnl.ca/event/mental-health-court-essentials-for-lawyers-and-treatment-providers-by-osgoode-hall-law-school/
LOCATION:Online
CATEGORIES:Continuing Professional Development
END:VEVENT
END:VCALENDAR