BEGIN:VCALENDAR
VERSION:2.0
PRODID:-//The Law Society of Newfoundland and Labrador - ECPv6.15.19//NONSGML v1.0//EN
CALSCALE:GREGORIAN
METHOD:PUBLISH
X-WR-CALNAME:The Law Society of Newfoundland and Labrador
X-ORIGINAL-URL:https://lsnl.ca
X-WR-CALDESC:Events for The Law Society of Newfoundland and Labrador
REFRESH-INTERVAL;VALUE=DURATION:PT1H
X-Robots-Tag:noindex
X-PUBLISHED-TTL:PT1H
BEGIN:VTIMEZONE
TZID:America/St_Johns
BEGIN:DAYLIGHT
TZOFFSETFROM:-0330
TZOFFSETTO:-0230
TZNAME:NDT
DTSTART:20230312T053000
END:DAYLIGHT
BEGIN:STANDARD
TZOFFSETFROM:-0230
TZOFFSETTO:-0330
TZNAME:NST
DTSTART:20231105T043000
END:STANDARD
BEGIN:DAYLIGHT
TZOFFSETFROM:-0330
TZOFFSETTO:-0230
TZNAME:NDT
DTSTART:20240310T053000
END:DAYLIGHT
BEGIN:STANDARD
TZOFFSETFROM:-0230
TZOFFSETTO:-0330
TZNAME:NST
DTSTART:20241103T043000
END:STANDARD
BEGIN:DAYLIGHT
TZOFFSETFROM:-0330
TZOFFSETTO:-0230
TZNAME:NDT
DTSTART:20250309T053000
END:DAYLIGHT
BEGIN:STANDARD
TZOFFSETFROM:-0230
TZOFFSETTO:-0330
TZNAME:NST
DTSTART:20251102T043000
END:STANDARD
END:VTIMEZONE
BEGIN:VEVENT
DTSTART;TZID=America/St_Johns:20240129T120000
DTEND;TZID=America/St_Johns:20240129T133000
DTSTAMP:20260421T144752
CREATED:20231207T143651Z
LAST-MODIFIED:20231207T143651Z
UID:22014-1706529600-1706535000@lsnl.ca
SUMMARY:In-House Tips to Develop and Update a Privacy Management Program by the Canadian Bar Association
DESCRIPTION:In-House Tips to Develop and Update a Privacy Management Program\nPresented by the CBA Privacy and Access Law Section \nBoth locally and globally\, privacy is in constant evolution with laws and regulations being amended and adopted every year. In our interconnected world\, Canadian businesses are more often than not subject to various privacy regimes\, some of which provide for hefty fines in the event of non-compliance. Having a privacy management program has become an essential best practice\, and even an express statutory requirement in some instances. A well-designed privacy management program is thus key to avoiding both the legal and business risks of non-compliance. In this webinar\, our speakers will provide tips to developing and updating a privacy management program for businesses of all sizes and will provide real-life examples in light of recent developments.
URL:https://lsnl.ca/event/in-house-tips-to-develop-and-update-a-privacy-management-program-by-the-canadian-bar-association/
LOCATION:Online
CATEGORIES:Continuing Professional Development
END:VEVENT
BEGIN:VEVENT
DTSTART;TZID=America/St_Johns:20240129T180000
DTEND;TZID=America/St_Johns:20240129T190000
DTSTAMP:20260421T144752
CREATED:20240122T130525Z
LAST-MODIFIED:20240122T130525Z
UID:22385-1706551200-1706554800@lsnl.ca
SUMMARY:Atlantic Immigrant Career Loan Fund Webinar
DESCRIPTION:The Immigrant Services Association of Nova Scotia offers assistance to permanent residents and new Canadian citizens looking to upgrade their credentials to find work in their field\, or a related field.  \nThe Atlantic Immigrant Career Loan Fund (AICLF) is a federally-sponsored program that provides micro-loans to assist permanent residents or new citizens in acquiring the training they need to pursue their career goals. This program covers all of Atlantic Canada\, including Newfoundland and Labrador.  \nThe Immigrant Services Association of Nova Scotia is hosting an event exploring how this initiative can help immigrants with permanent resident status or Canadian citizenship obtain training and certification in their chosen fields or related fields in their new home provinces. \nDuring this webinar\, participants will learn: \n\nWho is eligible for the AICLF\nWhat costs the AICLF can cover\nThe kinds of programs the AICLF can help pay for\nHow the AICLF is funded and how it is administered across Atlantic Canada\nWhy the AICLF is a better choice for immigrants in Atlantic Canada than funding through a private institution on their own\n\nFor more information or to register for this session taking place on 29 January 2024\, please register before the deadline on 25 January 2023\, please [click here].
URL:https://lsnl.ca/event/atlantic-immigrant-career-loan-fund-webinar/
LOCATION:Online
CATEGORIES:Continuing Professional Development
END:VEVENT
END:VCALENDAR