BEGIN:VCALENDAR
VERSION:2.0
PRODID:-//The Law Society of Newfoundland and Labrador - ECPv6.15.19//NONSGML v1.0//EN
CALSCALE:GREGORIAN
METHOD:PUBLISH
X-WR-CALNAME:The Law Society of Newfoundland and Labrador
X-ORIGINAL-URL:https://lsnl.ca
X-WR-CALDESC:Events for The Law Society of Newfoundland and Labrador
REFRESH-INTERVAL;VALUE=DURATION:PT1H
X-Robots-Tag:noindex
X-PUBLISHED-TTL:PT1H
BEGIN:VTIMEZONE
TZID:America/St_Johns
BEGIN:DAYLIGHT
TZOFFSETFROM:-0330
TZOFFSETTO:-0230
TZNAME:NDT
DTSTART:20230312T053000
END:DAYLIGHT
BEGIN:STANDARD
TZOFFSETFROM:-0230
TZOFFSETTO:-0330
TZNAME:NST
DTSTART:20231105T043000
END:STANDARD
BEGIN:DAYLIGHT
TZOFFSETFROM:-0330
TZOFFSETTO:-0230
TZNAME:NDT
DTSTART:20240310T053000
END:DAYLIGHT
BEGIN:STANDARD
TZOFFSETFROM:-0230
TZOFFSETTO:-0330
TZNAME:NST
DTSTART:20241103T043000
END:STANDARD
BEGIN:DAYLIGHT
TZOFFSETFROM:-0330
TZOFFSETTO:-0230
TZNAME:NDT
DTSTART:20250309T053000
END:DAYLIGHT
BEGIN:STANDARD
TZOFFSETFROM:-0230
TZOFFSETTO:-0330
TZNAME:NST
DTSTART:20251102T043000
END:STANDARD
END:VTIMEZONE
BEGIN:VEVENT
DTSTART;VALUE=DATE:20240201
DTEND;VALUE=DATE:20240202
DTSTAMP:20260421T144901
CREATED:20231222T131504Z
LAST-MODIFIED:20231222T131504Z
UID:22192-1706745600-1706831999@lsnl.ca
SUMMARY:Real Estate Appraisal Reports 2024: What Lawyers Need to Know by the Continuing Legal Education Society of British Columbia
DESCRIPTION:Learn how to identify and expose any flaws in an appraisal report \nCan’t make the webinar or rebroadcasts? Want online CPD available 24/7?\nSubscribe to Courses On Demand\, our comprehensive online resource with 1\,500+ videos and 5\,400+ papers from CLEBC courses. This course will be added to Courses on Demand approximately 30 days from the original course date. \nWho should attend: Lawyers working in the areas of real estate\, creditors’ remedies\, foreclosures\, family law\, and estates; in-house counsel and those working with the Department of Justice; municipal officers\, architects\, engineers\, urban developers\, and consultants \nLearning level: All levels \nThese are volatile times: real estate prices are rising rapidly\, and financial institutions are trending toward requiring minimal appraisal reports. If you have cases involving foreclosure\, matrimonial settlement\, probate\, or appraiser negligence\, where residential or commercial appraisal reports are a part of the evidence\, then you need to know how to review appraisal reports. \nJoin us to learn the quick check system of reviewing appraisals that can identify and expose any flaws in an appraisal report. You will be provided with inside information about appraisers and appraisal reports not normally disclosed outside the appraisal community. \nYou will learn about: \n\nthe current trend towards “desk top” appraisal reports\, and their liability issue\nproblematic mistakes that occur in most appraisal reports\nappraiser professional standards and how to use them in appraiser negligence cases\nhow to quick-check any appraisal report for mechanical flaws\nhow the cost approach works and why it is the best representation of value\nhow to review the sales comparison approach and the mechanics of all adjustments\nmistakes in condo appraisal reports and how to quickly calculate the correct value\nhow to detect appraiser fraud\nhow to argue appraiser negligence cases\n\nThis course is guaranteed to change the way you look at appraisals and appraisers\, giving you a big advantage in litigation. Included is a 76-page book that completely covers all aspects of appraisal review. \nLaw Society of BC CPD Hours: 6 hours (this course will contain a minimum of 1 hour pertaining to professional responsibility and ethics\, client care and relations\, and/or practice management) \nCourse Chair\nSteven G. Coull — Forensic Appraisal Reviewer\, Strategic International Appraisement Services\, Parksville\n \n\n\n\nPricing\nEARLY BIRD \nRegister by Jan. 4/24\nRegular Price\nAfter Jan. 4/24\n\n\n\n\nIn-person*\n$584\n$654\n\n\nIn-person Articled Student*\n$372\n$372\n\n\nWebinar\n$494\n$564\n\n\nWebinar Articled Student\n$282\n$282\n\n\n\n\n\n\n\n*Please note: The in-person session is dependent on a minimum number of registrants and may not be confirmed until 4 weeks before the course date. \nAre you an Indigenous lawyer/Articled Student/legal support staff/paralegal or community member?\nWe value your contributions and encourage your participation in all of our programs. To increase accessibility\, we offer a 50% discount* to all Indigenous lawyers/Articled Students/legal support staff/paralegals and a limited number of free online registrations to non-lawyer Indigenous community members. (*discount applies to Regular prices\, not Early Bird prices). Please contact Customer Service to find out more. \nUnable to attend a course without financial assistance from CLEBC?\nClick here for bursary information. \nWant to register for a course now\, but prefer a monthly payment plan?\nCheck out our Easy Pay Plan. \nRegistration includes an electronic copy of the reference materials and lunch for\nin-person registration.\n\n\n\nJust want the materials from the course?\nSubscribe to Online Course Materials and access 5\,400+ papers produced for CLEBC courses since 2001. \nCLEBC Program Lawyer*\nTeresa Sheward\ntsheward@cle.bc.ca\n*non-practising
URL:https://lsnl.ca/event/real-estate-appraisal-reports-2024-what-lawyers-need-to-know-by-the-continuing-legal-education-society-of-british-columbia/
LOCATION:Online
CATEGORIES:Continuing Professional Development
END:VEVENT
END:VCALENDAR