BEGIN:VCALENDAR
VERSION:2.0
PRODID:-//The Law Society of Newfoundland and Labrador - ECPv6.15.19//NONSGML v1.0//EN
CALSCALE:GREGORIAN
METHOD:PUBLISH
X-WR-CALNAME:The Law Society of Newfoundland and Labrador
X-ORIGINAL-URL:https://lsnl.ca
X-WR-CALDESC:Events for The Law Society of Newfoundland and Labrador
REFRESH-INTERVAL;VALUE=DURATION:PT1H
X-Robots-Tag:noindex
X-PUBLISHED-TTL:PT1H
BEGIN:VTIMEZONE
TZID:America/St_Johns
BEGIN:DAYLIGHT
TZOFFSETFROM:-0330
TZOFFSETTO:-0230
TZNAME:NDT
DTSTART:20230312T053000
END:DAYLIGHT
BEGIN:STANDARD
TZOFFSETFROM:-0230
TZOFFSETTO:-0330
TZNAME:NST
DTSTART:20231105T043000
END:STANDARD
BEGIN:DAYLIGHT
TZOFFSETFROM:-0330
TZOFFSETTO:-0230
TZNAME:NDT
DTSTART:20240310T053000
END:DAYLIGHT
BEGIN:STANDARD
TZOFFSETFROM:-0230
TZOFFSETTO:-0330
TZNAME:NST
DTSTART:20241103T043000
END:STANDARD
BEGIN:DAYLIGHT
TZOFFSETFROM:-0330
TZOFFSETTO:-0230
TZNAME:NDT
DTSTART:20250309T053000
END:DAYLIGHT
BEGIN:STANDARD
TZOFFSETFROM:-0230
TZOFFSETTO:-0330
TZNAME:NST
DTSTART:20251102T043000
END:STANDARD
END:VTIMEZONE
BEGIN:VEVENT
DTSTART;TZID=America/St_Johns:20240213T180000
DTEND;TZID=America/St_Johns:20240215T203000
DTSTAMP:20260421T163417
CREATED:20231220T190613Z
LAST-MODIFIED:20231220T190613Z
UID:22128-1707847200-1708029000@lsnl.ca
SUMMARY:Taxation in Wills and Estates by Osgoode Hall Law School
DESCRIPTION:Taxation can be a complex topic for any Wills and Estates practitioner.\nWhether you’re confronted with a complex estate planning matter or retained to draft a basic will\, a fundamental understanding of tax issues is essential to Wills and Estates practice. \nTax considerations underpin the majority of estate planning and drafting matters. You need an understanding of taxation concepts and considerations in order to successfully practice in the area of Wills and Estates. In this intensive\, two-evening program\, an expert faculty will help unpack critical\, and often complex\, tax issues. \n\nRegistration includes 120-day unlimited\, online access to the recorded program. \n\n\n\nWhat You’ll Learn\n\n\n\n\nFundamentals of Steps in an Estate Freeze to Minimize Tax on Death \n\nDeferral of tax considerations\nWhat is an estate freeze? How do you implement an estate freeze?\n\n\n\nDealing with Double Taxation \n\nWhy is post-mortem planning needed?\nPost-mortem planning tools\, rules and procedures\nConsiderations when choosing between the alternatives\n\n\n\nTaxation on Death \n\nDeemed dispositions\, registered plans\, spousal transfers and spousal trusts\, personal tax\, gifts of property and other issues relevant at death\nElecting out of the Roll Over Provisions\nWhat is a testamentary trust and testamentary spousal trust? What are the rules and concerns?\n\n\n\n\n\n\n\nTerminal Returns \n\nWhat is a rights and things return? What is the process?\nAre there other potential rights returns?\n\n\n\nThe Graduated Rate Estate – Pits and Traps \n\nReporting Regime under the Estate Administration Tax Act\nAre there options to avoid probate?\nEffect of probate planning\nNew rules\, offences and penalties for applications\nGREs – some tips\, pits and traps\n\n\n\n\n\n\n\nThis program is part of The Osgoode Intensive Program in Wills & Estates. For a full listing of required programs\, click here. \n\n\n\n\nWho Should Attend\n\n\n\n\nLawyers practicing or wishing to practice in wills and estates \n\n\n\n\n\n\n\n\n\n\nFebruary 13 & 15\, 2024\, 6:00 p.m. – 8:30 p.m. ET
URL:https://lsnl.ca/event/taxation-in-wills-and-estates-by-osgoode-hall-law-school/
LOCATION:Online
CATEGORIES:Continuing Professional Development
END:VEVENT
BEGIN:VEVENT
DTSTART;TZID=America/St_Johns:20240214T120000
DTEND;TZID=America/St_Johns:20240214T133000
DTSTAMP:20260421T163417
CREATED:20240125T190153Z
LAST-MODIFIED:20240125T190153Z
UID:22426-1707912000-1707917400@lsnl.ca
SUMMARY:The Politics of Unity Webinar Series by the Whistleblowing Canada Research Society
DESCRIPTION:Whistleblowing Canada Research Society is pleased to announce the first in our Webinar Series for 2024 on the topic of  “The Politics of Unity“\, which couldn’t be more apt given the chaos in the world around us at this time. \nWe welcome presenter Marianne Cerilli\, founder of the social purpose business\, Marianne Cerilli\, Change Agent – Community Development for Health\, Sustainability & Peace. \nMarianne’s university background is in health education. She has worked in various roles in government\, community and education since the 1970’s.  She started in sport\, fitness and recreation leadership\, and the Manitoba government as a youth program consultant with Youth and Employment Services\, then as a high school guidance counsellor\, and three term Member of the Legislative Assembly (MLA) of Manitoba from 1990 to 2003\, all by the time she was 42. Since then\, she has moved from university and college teaching to community organizing roles and ongoing political advocacy. \nTime:  12 noon ET \nCost:  By Donation \nRegister Now
URL:https://lsnl.ca/event/the-politics-of-unity-webinar-series-by-the-whistleblowing-canada-research-society/
LOCATION:Online
CATEGORIES:Continuing Professional Development
END:VEVENT
END:VCALENDAR