BEGIN:VCALENDAR
VERSION:2.0
PRODID:-//The Law Society of Newfoundland and Labrador - ECPv6.15.19//NONSGML v1.0//EN
CALSCALE:GREGORIAN
METHOD:PUBLISH
X-WR-CALNAME:The Law Society of Newfoundland and Labrador
X-ORIGINAL-URL:https://lsnl.ca
X-WR-CALDESC:Events for The Law Society of Newfoundland and Labrador
REFRESH-INTERVAL;VALUE=DURATION:PT1H
X-Robots-Tag:noindex
X-PUBLISHED-TTL:PT1H
BEGIN:VTIMEZONE
TZID:America/St_Johns
BEGIN:DAYLIGHT
TZOFFSETFROM:-0330
TZOFFSETTO:-0230
TZNAME:NDT
DTSTART:20230312T053000
END:DAYLIGHT
BEGIN:STANDARD
TZOFFSETFROM:-0230
TZOFFSETTO:-0330
TZNAME:NST
DTSTART:20231105T043000
END:STANDARD
BEGIN:DAYLIGHT
TZOFFSETFROM:-0330
TZOFFSETTO:-0230
TZNAME:NDT
DTSTART:20240310T053000
END:DAYLIGHT
BEGIN:STANDARD
TZOFFSETFROM:-0230
TZOFFSETTO:-0330
TZNAME:NST
DTSTART:20241103T043000
END:STANDARD
BEGIN:DAYLIGHT
TZOFFSETFROM:-0330
TZOFFSETTO:-0230
TZNAME:NDT
DTSTART:20250309T053000
END:DAYLIGHT
BEGIN:STANDARD
TZOFFSETFROM:-0230
TZOFFSETTO:-0330
TZNAME:NST
DTSTART:20251102T043000
END:STANDARD
END:VTIMEZONE
BEGIN:VEVENT
DTSTART;VALUE=DATE:20240221
DTEND;VALUE=DATE:20240223
DTSTAMP:20260421T144846
CREATED:20231221T162423Z
LAST-MODIFIED:20231221T162423Z
UID:22174-1708473600-1708646399@lsnl.ca
SUMMARY:Workplaces that Work: Building and maintaining productive union-management relationships by the Nova Scotia Barristers' Society
DESCRIPTION:Collective bargaining\, contract administration\, and occupational safety have always involved close contact between unions and employers\, but the areas of required interface have increased dramatically and become more complex. Protecting psychological health and safety\, preventing harassment\, promoting equity\, diversity\, and inclusion (EDI)\, and ensuring civility and respect are all tasks that require positive\, productive working relationships between unions and employers. This intensive two-day seminar will prepare management and union representatives to work together on these issues. \nThrough interactive exercises\, panel discussions\, and case studies\, participants will learn to: \n\nAppreciate the legal and practical roles of union and employer representatives in developing and maintaining a productive working relationship;\nReduce the risk of negative conflict between workplace participants;\nPromote a healthy workplace;\nBuild the communication framework and trust necessary to deal with key areas of mutual interest to employers and unions\, including:\nProtecting psychological health and safety;\nPreventing harassment and violence;\nPromoting equity\, diversity\, inclusion\, and belonging;\nEnsuring civility and respect;\nRestoring workplaces that have become toxic.
URL:https://lsnl.ca/event/workplaces-that-work-building-and-maintaining-productive-union-management-relationships-by-the-nova-scotia-barristers-society/
LOCATION:Online
CATEGORIES:Continuing Professional Development
END:VEVENT
END:VCALENDAR