BEGIN:VCALENDAR
VERSION:2.0
PRODID:-//The Law Society of Newfoundland and Labrador - ECPv6.15.19//NONSGML v1.0//EN
CALSCALE:GREGORIAN
METHOD:PUBLISH
X-WR-CALNAME:The Law Society of Newfoundland and Labrador
X-ORIGINAL-URL:https://lsnl.ca
X-WR-CALDESC:Events for The Law Society of Newfoundland and Labrador
REFRESH-INTERVAL;VALUE=DURATION:PT1H
X-Robots-Tag:noindex
X-PUBLISHED-TTL:PT1H
BEGIN:VTIMEZONE
TZID:America/St_Johns
BEGIN:DAYLIGHT
TZOFFSETFROM:-0330
TZOFFSETTO:-0230
TZNAME:NDT
DTSTART:20230312T053000
END:DAYLIGHT
BEGIN:STANDARD
TZOFFSETFROM:-0230
TZOFFSETTO:-0330
TZNAME:NST
DTSTART:20231105T043000
END:STANDARD
BEGIN:DAYLIGHT
TZOFFSETFROM:-0330
TZOFFSETTO:-0230
TZNAME:NDT
DTSTART:20240310T053000
END:DAYLIGHT
BEGIN:STANDARD
TZOFFSETFROM:-0230
TZOFFSETTO:-0330
TZNAME:NST
DTSTART:20241103T043000
END:STANDARD
BEGIN:DAYLIGHT
TZOFFSETFROM:-0330
TZOFFSETTO:-0230
TZNAME:NDT
DTSTART:20250309T053000
END:DAYLIGHT
BEGIN:STANDARD
TZOFFSETFROM:-0230
TZOFFSETTO:-0330
TZNAME:NST
DTSTART:20251102T043000
END:STANDARD
END:VTIMEZONE
BEGIN:VEVENT
DTSTART;VALUE=DATE:20240223
DTEND;VALUE=DATE:20240224
DTSTAMP:20260421T144851
CREATED:20231207T142121Z
LAST-MODIFIED:20231207T142121Z
UID:22004-1708646400-1708732799@lsnl.ca
SUMMARY:Privacy and Cybersecurity Law and Practice by Osgoode Hall Law School
DESCRIPTION:Privacy and Cybersecurity Law and Practice\n\nWhat You’ll Learn\nWho Should Attend\nFaculty\nAgenda\nPricing and Group Rates\nFinancial Assistance\nCPD and Accreditation\nFAQs\nClient and Technical Support\n\nRegister \nProgram Chairs\nEric Charleston \nPartner\, Borden Ladner Gervais LLP \nSylvia Klasovec Kingsmill \nGlobal Privacy Leader\, Partner\, Risk Consulting\, KPMG Canada \nCanadian privacy and cybersecurity laws are changing.  Stay on top of updates in law and practice. Know the rules.  Know your obligations.\nIt is a pivotal time for privacy and cybersecurity law in Canada. As a professional who advises on or works in privacy\, it is imperative that you keep up to date in this high stakes\, ever-evolving field. \nOver one intensive day\, a leading faculty of industry and legal experts\, will guide you through the “must-know” changes to Canadian privacy and cybersecurity laws and regulations and the latest critical topics. You will also get immediately applicable insights and practical strategies to competently manage today’s cybersecurity threat landscape. \nRegistration includes 120-day unlimited\, online access to the recorded program. \nWhat You’ll Learn\nGet fully briefed on the latest in privacy and cybersecurity law and practice\, including: \nNeed-to-know changes to the privacy regulatory landscape in Canada\, including: \n\nthe latest on Bill C-27\, including AIDA\nBill C-26\nimplementation of Quebec’s Law 25\nCompliance strategies and tactics\n\nEnsuring compliance: how to update privacy clauses\, policies and processes \nUnderstanding de-identification and how it differs from anonymization \nWhat to include in data breach agreements \nThe latest on ethical issues surrounding AI\, including bias\, discrimination and monitoring requirements \nThe privacy and security concerns with data portability in Canada and globally \nReview and reflect on recent breaches and cases\, including missteps and lessons learned \nBest practices for preparing for and handling data breaches and cybersecurity incidents\, including vendor breach management \nWho Should Attend\nLawyers interested or advising on privacy\, cybersecurity\, IT/e-commerce law \nGovernment and regulatory counsel or representatives \nPrivacy\, information\, security\, and technology officers \nCompliance and risk management professionals \nConsultants in IT or privacy and cybersecurity \nProfessionals in a managerial\, executive or director position looking to increase their knowledge in privacy and cybersecurity \nFaculty\nProgram Chairs\nEric Charleston \nPartner\, Borden Ladner Gervais LLP \nSylvia Klasovec Kingsmill \nGlobal Privacy Leader\, Partner\, Risk Consulting\, KPMG Canada \nFull Instructor ListOpen Accordion
URL:https://lsnl.ca/event/privacy-and-cybersecurity-law-and-practice-by-osgoode-hall-law-school/
LOCATION:Online
CATEGORIES:Continuing Professional Development
END:VEVENT
BEGIN:VEVENT
DTSTART;TZID=America/St_Johns:20240223T123000
DTEND;TZID=America/St_Johns:20240223T133000
DTSTAMP:20260421T144851
CREATED:20240221T180246Z
LAST-MODIFIED:20240221T200548Z
UID:22600-1708691400-1708695000@lsnl.ca
SUMMARY:The Insight Approach to Family Dispute Resolution: Free Webinar - Family Dispute Resolution Institute Atlantic
DESCRIPTION:The newly launched Family Dispute Resolution Institute Atlantic (FDRIA\, a non-profit professional association) is holding a free lunchtime webinar on “The Insight Approach to Family Dispute Resolution\,” presented by Jacinta Gallant (collaborative lawyer\, mediator & international trainer located in PEI) via Zoom. \nIn this workshop\, Jacinta Gallant will introduce you to the Insight Approach to Family Dispute Resolution. We will start with a definition of conflict that makes sense for the work we do\, with a focus on the challenging human behaviours that we see every day. As we gain an understanding of the “how” and “why” of conflict behaviours\, we will explore how our problem-solving model can hinder our efforts to move towards resolution. \nThe goal of this workshop is to help you start asking more and telling less\, and feel the relief that comes from an approach that is grounded in understanding human behaviour. \nJacinta Gallant is a respected collaborative lawyer\, conflict trainer and innovator. She is recognized internationally for her insightful and experiential approach to teaching and managing conflict. Jacinta’s innovative resources\, Our Family in Two Homes\, help clients prepare to engage deeply\, and productively\, in Family Mediation and Collaborative Practice. Her conflict training focuses on the Insight Approach to Conflict and her goal as a trainer is to help conflict professionals meaningfully engage with clients. \nPlease email info@fdria.ca to register for this webinar.
URL:https://lsnl.ca/event/the-insight-approach-to-family-dispute-resolution-free-webinar-family-dispute-resolution-institute-atlantic/
LOCATION:Online
CATEGORIES:Continuing Professional Development
END:VEVENT
END:VCALENDAR