BEGIN:VCALENDAR
VERSION:2.0
PRODID:-//The Law Society of Newfoundland and Labrador - ECPv6.15.19//NONSGML v1.0//EN
CALSCALE:GREGORIAN
METHOD:PUBLISH
X-WR-CALNAME:The Law Society of Newfoundland and Labrador
X-ORIGINAL-URL:https://lsnl.ca
X-WR-CALDESC:Events for The Law Society of Newfoundland and Labrador
REFRESH-INTERVAL;VALUE=DURATION:PT1H
X-Robots-Tag:noindex
X-PUBLISHED-TTL:PT1H
BEGIN:VTIMEZONE
TZID:America/St_Johns
BEGIN:DAYLIGHT
TZOFFSETFROM:-0330
TZOFFSETTO:-0230
TZNAME:NDT
DTSTART:20230312T053000
END:DAYLIGHT
BEGIN:STANDARD
TZOFFSETFROM:-0230
TZOFFSETTO:-0330
TZNAME:NST
DTSTART:20231105T043000
END:STANDARD
BEGIN:DAYLIGHT
TZOFFSETFROM:-0330
TZOFFSETTO:-0230
TZNAME:NDT
DTSTART:20240310T053000
END:DAYLIGHT
BEGIN:STANDARD
TZOFFSETFROM:-0230
TZOFFSETTO:-0330
TZNAME:NST
DTSTART:20241103T043000
END:STANDARD
BEGIN:DAYLIGHT
TZOFFSETFROM:-0330
TZOFFSETTO:-0230
TZNAME:NDT
DTSTART:20250309T053000
END:DAYLIGHT
BEGIN:STANDARD
TZOFFSETFROM:-0230
TZOFFSETTO:-0330
TZNAME:NST
DTSTART:20251102T043000
END:STANDARD
END:VTIMEZONE
BEGIN:VEVENT
DTSTART;VALUE=DATE:20240226
DTEND;VALUE=DATE:20240229
DTSTAMP:20260421T131105
CREATED:20231023T163903Z
LAST-MODIFIED:20231023T164158Z
UID:21697-1708905600-1709164799@lsnl.ca
SUMMARY:The Borneo Rainforest Law Conference 2024
DESCRIPTION:ABOUT THE CONFERENCE \n\n\n\n\n\n\n\n\n\n\n\n\nSet against the spectacular backdrop of Malaysian Borneo\, with a charismatic blend of both old and new\, Kota Kinabalu will play host to legal practitioners from all over the world to debate issues of resonance in the profession\, to network and share best practice and innovations with colleagues and experts in the field. \nJoin the co-hosts\, the Commonwealth Lawyers Association and Sabah Law Society\, for this prestigious three-day international conference which will explore the themes of climate justice\, human rights\, funding\, constitutionalism and action within legal and government frameworks. \nThe conference will be hosted at the Sabah International Convention Centre\, Kota Kinabalu\, with delegates able to take advantage of a bespoke rate at the Hyatt Centric Hotel\, which can be booked independently after registration. \nWhy not expand your visit to discover what Malaysian Borneo has to offer\, from ocean deep to mountain high\, with a range of tours and activities for those with an appetite for discovery. \nThis three day event will place climate justice and human rights at the forefront of our debate\, and will offer a unique platform to explore perspectives from a diverse and experienced pan-Commonwealth speaking faculty. The rule of law will serve as a prism through which we will examine and discuss the pressing issues surrounding climate justice\, human rights\, constitutionalism and action. \n\n\n\n\n\n\n\n\n\n\n\n\n\n\n\n\n\n\nThis international conference will gather local and international lawyers\, academics and justice leaders from across the globe to discuss the most recent legal developments and best practices in a field that has resonance for us all\, irrespective of specialization. During the conference\, you will have the opportunity to confer with  practitioners as well as in-house counsels and academics in formal and informal settings. Therefore\, this international meeting will become an ideal chance for promoting and advancing legal knowledge as well as to strengthen global networking.
URL:https://lsnl.ca/event/the-borneo-rainforest-law-conference-2024/
CATEGORIES:Continuing Professional Development
END:VEVENT
END:VCALENDAR