BEGIN:VCALENDAR
VERSION:2.0
PRODID:-//The Law Society of Newfoundland and Labrador - ECPv6.15.19//NONSGML v1.0//EN
CALSCALE:GREGORIAN
METHOD:PUBLISH
X-ORIGINAL-URL:https://lsnl.ca
X-WR-CALDESC:Events for The Law Society of Newfoundland and Labrador
REFRESH-INTERVAL;VALUE=DURATION:PT1H
X-Robots-Tag:noindex
X-PUBLISHED-TTL:PT1H
BEGIN:VTIMEZONE
TZID:America/St_Johns
BEGIN:DAYLIGHT
TZOFFSETFROM:-0330
TZOFFSETTO:-0230
TZNAME:NDT
DTSTART:20230312T053000
END:DAYLIGHT
BEGIN:STANDARD
TZOFFSETFROM:-0230
TZOFFSETTO:-0330
TZNAME:NST
DTSTART:20231105T043000
END:STANDARD
BEGIN:DAYLIGHT
TZOFFSETFROM:-0330
TZOFFSETTO:-0230
TZNAME:NDT
DTSTART:20240310T053000
END:DAYLIGHT
BEGIN:STANDARD
TZOFFSETFROM:-0230
TZOFFSETTO:-0330
TZNAME:NST
DTSTART:20241103T043000
END:STANDARD
BEGIN:DAYLIGHT
TZOFFSETFROM:-0330
TZOFFSETTO:-0230
TZNAME:NDT
DTSTART:20250309T053000
END:DAYLIGHT
BEGIN:STANDARD
TZOFFSETFROM:-0230
TZOFFSETTO:-0330
TZNAME:NST
DTSTART:20251102T043000
END:STANDARD
END:VTIMEZONE
BEGIN:VEVENT
DTSTART;VALUE=DATE:20240229
DTEND;VALUE=DATE:20240301
DTSTAMP:20260421T130431
CREATED:20240126T143742Z
LAST-MODIFIED:20240222T161218Z
UID:22436-1709164800-1709251199@lsnl.ca
SUMMARY:Litigation In A Day Continuing Legal Education Event by the Canadian Bar Association - Newfoundland and Labrador
DESCRIPTION:Registration is now open for our upcoming Continuing Legal Education (CLE) event\, “Litigation In A Day.” Join us for a day dedicated to deepening your understanding of litigation\, featuring sessions on Pleadings\, Evidence & Witness\, Family Law\, Negotiation\, and Settlement. Our distinguished speakers will provide practical insights and strategies to enhance your skills at all stages of litigation. \nFREE for all articling students. \nBelow you will find the proposed agenda for the day followed by registration and contact details. Please note program is tentative and subject to change. \nCONTINUING LEGAL EDUCATION PROGRAM\nThursday\, February 29th\, 2024\n9:00AM – 5:00PM\nMarble Mountain Resort – Bishops Tavern\nLitigation In A Day \nPROGRAM \n8:30am – 9:00am       Registration \n9:00am – 9:05am       Welcome and Opening Remarks \n9:05am – 10:05am     Persuasive Pleadings – Compelling Storytelling\, Litigation Blueprint and Other Opportunities \n10:10am – 11:10am   Beyond the Objection: Navigating Evidence and Witnesses \n11:10am – 11:30am   Networking/Refreshment Break (included with registration) \n11:30pm – 12:30pm  Understanding the Dynamics of Family Law Litigation \n12:30pm – 1:20pm     Lunch (included with registration) \n1:20pm – 2:20pm       Strategic Conversations: The Art of Negotiation \n2:25pm – 3:25pm       Unveiling Judicial insights of Written and Oral Advocacy \n3:25pm – 3:45pm      Networking/Refreshment Break (included with registration) \n3:45pm – 4:45pm      Closing the Case: Strategies for Successful Settlements \n4:45pm – 4:50pm      Closing Remarks\n \nCLE HOURS: 6 \nREGISTRATION FEES\nCBA Member: $228.85 ($199 + $29.85 HST)\nNon-CBA Member: $343.85 ($299 + $44.85 HST) Not a CBA member? Contact me to join now! \nPAYMENT\nPayment can be submitted by emt to cba-nl@cba.org or by cheque\, payable to the Canadian Bar Association – NL Branch\, noting the registrants name(s).\nMail to: Canadian Bar Association – NL Branch\, 55 Elizabeth Avenue\, Box 16\, St. John’s\, NL A1A 1W9. \nRegistration includes lunch and morning and afternoon refreshments. Please advise if you have any allergies or dietary restrictions. \nPROGRAM LOCATION\nMarble Mountain Resort\nAddress: 2 Marble Drive\, Steady Brook\, NL\nPhone: 709-637-7601 x6 Ask for Liane to receive a 15% discount off accommodations. \nTRAVEL AND ACCOMMODATIONS\nIf you are traveling to the February 29th program\, a reminder to book your accommodations early. CBA members will receive a 15% discount off accommodation reservations from February 28th- March 4\, 2024. \nWe also remind members that CBA-NL continues to partner with PAL Airlines as the exclusive preferred supplier for air travel within Newfoundland and Labrador. To make a reservation\, or to inquire about the CBA-NL discount rates on corporate fares\, contact the PAL Airlines reservations office at 1-800-563-2800\, quoting the CBA-NL contract number/booking code 13CBA010. This code is exclusive to CBA-NL members to receive discounts on PAL travel. \nAll questions can be sent to Robyn via cba-nl@cba.org \n  \nPosted: January 26\, 2024
URL:https://lsnl.ca/event/litigation-in-a-day-continuing-legal-education-cle-event-by-the-canadian-bar-association-newfoundland-and-labrador/
CATEGORIES:Continuing Professional Development
END:VEVENT
BEGIN:VEVENT
DTSTART;TZID=America/St_Johns:20240229T090000
DTEND;TZID=America/St_Johns:20240229T130000
DTSTAMP:20260421T130431
CREATED:20231222T131846Z
LAST-MODIFIED:20231222T131846Z
UID:22196-1709197200-1709211600@lsnl.ca
SUMMARY:Animal Law Express 2024 by the Continuing Legal Education Society of British Columbia
DESCRIPTION:Leap into the latest and greatest developments in animal law\n\n\n\n\n\n\n\nThursday\, February 29\, 2024\n9:00 am – 12:45 pm\nvia webinar only \nCan’t make the webinar or rebroadcasts?\nWant online CPD available 24/7?\nSubscribe to Courses On Demand\, our comprehensive online resource with 1\,500+ videos and 5\,400+ papers from CLEBC courses. This course will be added to Courses on Demand approximately 30 days from the original course date. \nWho should attend: Lawyers interested in animal law; lawyers interested in developing a new practice; litigators\, lawyers who practice family law\, wills & estates lawyers\, criminal law\, or environmental law. \nLearning level: All levels \nAnimal law is more than dog bite law\, intersecting with an increasing number of mainstream practice areas like family\, human rights\, and environmental law. This exciting fast-paced half-day course will bring together leaders in the field\, including featured speaker\, the Honourable Attorney General Niki Sharma\, KC\, to share the latest and greatest developments in animal law—summarized in 15- to 30-minute increments. \nAt this course\, you will learn about: \n\n“pet custody”—groundbreaking legislative changes for how animals are viewed in the family law context\nunpacking the Criminal Code and regulatory crimes against animals\nanimal law in environmental and climate concerns\, Rights of Nature\nIndigenous perspectives on wildlife law\nhow human rights law impacts people and their animals\nupcoming federal legislative developments for animals\nIndigenous non-Western and Social Justice perspectives\, for all species of animals\, wild and domestic\n\nLaw Society of BC CPD Hours: 3 hours (this course will contain a minimum of .5 hours pertaining to professional responsibility and ethics\, client care and relations\, and/or practice management) \nCourse Chair\nV. Victoria Shroff — Shroff Animal Law (Shroff & Associates); Adjunct Professor of Animal Law\, Peter A. Allard School of Law; Faculty\, School of Legal Studies\, Capilano University\, Vancouver; Associate Fellow Oxford Centre for Animal Ethics\, UK \n\n\n\nPricing\nEARLY BIRD \nRegister by Feb. 1/24\nRegular Price\nAfter Feb. 1/24\n\n\n\n\nLive Webinar\n$247\n$282\n\n\nLive Webinar Articled Student\n$141\n$141\n\n\n\n\n\n\nAre you an Indigenous lawyer/Articled Student/legal support staff/paralegal or community member?\nWe value your contributions and encourage your participation in all of our programs. To increase accessibility\, we offer a 50% discount* to all Indigenous lawyers/Articled Students/legal support staff/paralegals and a limited number of free online registrations to non-lawyer Indigenous community members. (*discount applies to Regular prices\, not Early Bird prices). Please contact Customer Service to find out more. \nUnable to attend a course without financial assistance from CLEBC?\nClick here for bursary information. \nWant to register for a course now\, but prefer a monthly payment plan?\nCheck out our Easy Pay Plan. \nRegistration includes an electronic copy of the reference materials.\n\n\n\nJust want the materials from the course?\nSubscribe to Online Course Materials and access 5\,400+ papers produced for CLEBC courses since 2001. \nCLEBC Program Lawyer*\nGenevieve Chang\ngchang@cle.bc.ca\n*non-practising
URL:https://lsnl.ca/event/animal-law-express-2024-by-the-continuing-legal-education-society-of-british-columbia/
LOCATION:Online
CATEGORIES:Continuing Professional Development
END:VEVENT
END:VCALENDAR