BEGIN:VCALENDAR
VERSION:2.0
PRODID:-//The Law Society of Newfoundland and Labrador - ECPv6.15.19//NONSGML v1.0//EN
CALSCALE:GREGORIAN
METHOD:PUBLISH
X-WR-CALNAME:The Law Society of Newfoundland and Labrador
X-ORIGINAL-URL:https://lsnl.ca
X-WR-CALDESC:Events for The Law Society of Newfoundland and Labrador
REFRESH-INTERVAL;VALUE=DURATION:PT1H
X-Robots-Tag:noindex
X-PUBLISHED-TTL:PT1H
BEGIN:VTIMEZONE
TZID:America/St_Johns
BEGIN:DAYLIGHT
TZOFFSETFROM:-0330
TZOFFSETTO:-0230
TZNAME:NDT
DTSTART:20230312T053000
END:DAYLIGHT
BEGIN:STANDARD
TZOFFSETFROM:-0230
TZOFFSETTO:-0330
TZNAME:NST
DTSTART:20231105T043000
END:STANDARD
BEGIN:DAYLIGHT
TZOFFSETFROM:-0330
TZOFFSETTO:-0230
TZNAME:NDT
DTSTART:20240310T053000
END:DAYLIGHT
BEGIN:STANDARD
TZOFFSETFROM:-0230
TZOFFSETTO:-0330
TZNAME:NST
DTSTART:20241103T043000
END:STANDARD
BEGIN:DAYLIGHT
TZOFFSETFROM:-0330
TZOFFSETTO:-0230
TZNAME:NDT
DTSTART:20250309T053000
END:DAYLIGHT
BEGIN:STANDARD
TZOFFSETFROM:-0230
TZOFFSETTO:-0330
TZNAME:NST
DTSTART:20251102T043000
END:STANDARD
END:VTIMEZONE
BEGIN:VEVENT
DTSTART;VALUE=DATE:20240304
DTEND;VALUE=DATE:20240305
DTSTAMP:20260421T130336
CREATED:20231220T200908Z
LAST-MODIFIED:20231220T200908Z
UID:22136-1709510400-1709596799@lsnl.ca
SUMMARY:Effective Decision Writing for Administrative Adjudicators by Osgoode Hall Law School
DESCRIPTION:A joint program between SOAR and OsgoodePD.\nLearn the fundamental skills involved in writing clear\, concise and well-reasoned decisions \nDelivered by and for members of the administrative justice community\, this powerful one-day workshop is a mix of interactive\, skills and knowledge-based training. \nAlongside one of Canada’s recognized leaders in Decision Writing\, Pamela Chapman\, a group of expert facilitators from the administrative justice community will lead small group discussions and provide individualized feedback. \n\n\n\nWhat you’ll learn\nYou will engage in practical writing exercises\, and learn: \n\n\nThe key components of clear\, concise\, well-reasoned decisions \n\n\nCore writing principles\, including context and point-first writing \n\n\nStrategies for drafting effective introductions \n\n\nPowerful tips on decision structure and issue-driven organization \n\n\nRecent developments in the duty to give reasons \n\n\nPLUS! You will obtain valuable resources including checklists\, tip sheets\, legal sources on sufficiency and sample decisions. \n\n\n  \n\n\n\n\n\n\nWho Should Attend\n\n\n\n\nNew and experienced decision-writers\, reviewers\, and counsel with administrative and regulatory agencies\, boards and tribunals. \n\n\n\n\n\n\nThis is an introductory course but will be useful for anyone who has not done a full-day structured program on decision writing\, or who wants a refresher.
URL:https://lsnl.ca/event/effective-decision-writing-for-administrative-adjudicators-by-osgoode-hall-law-school-2/
LOCATION:Online
CATEGORIES:Continuing Professional Development
END:VEVENT
BEGIN:VEVENT
DTSTART;VALUE=DATE:20240304
DTEND;VALUE=DATE:20240306
DTSTAMP:20260421T130336
CREATED:20231222T132040Z
LAST-MODIFIED:20231222T132040Z
UID:22198-1709510400-1709683199@lsnl.ca
SUMMARY:Basics of Wills and Estate Planning 2023 by the Continuing Legal Education Society of British Columbia
DESCRIPTION:Everything you need to know to launch your wills and estates career\n\n\n\n\n\n\n\n—Rebroadcasts—\nOn the rebroadcast date\, you will have until midnight of that rebroadcast date to access the course. Please note that technical support will be available during regular CLEBC business hours. \nJump Start on CPD 2024\nMonday\, March 4 and Tuesday March 5\, 2024 \nCan’t make the webinar or rebroadcasts?\nWant online CPD available 24/7?\nSubscribe to Courses On Demand\, our comprehensive online resource with 21\,500+ videos and 5\,400+ papers from CLEBC courses. This course will be added to Courses on Demand approximately 30 days from the original course date. \n\nWho should attend: Those new to the practice of wills\, estates and trusts\, including newly called lawyers\, and more experienced lawyers wanting to develop a practice in this area. This course may also be of interest to those who want a refresher and also to notaries. \nLearning level: Fundamental \nWant to develop a successful wills and estates practice\, but unsure of where to start? This course will provide you with the fundamental building blocks by teaching you how to draft a will\, how to create a basic estate plan\, and how to incorporate a will into an estate plan. \nTopics will also include when to consider trust planning\, how to integrate corporate succession\, estate tax issues\, and mediation. \nFrom interviewing clients and taking instructions\, to analyzing the components of an estate plan\, to focusing on key will drafting considerations\, this course has it covered! Experienced practitioners will provide you with valuable insights and helpful practice tips for every step. You will leave with essential information to move forward with your wills and estates files. \nJoin us and be prepared for practice! \nAfter taking this program\, you will: \n\nunderstand how to create a basic estate plan\, including drafting a will\nbe able to better interview clients and understand their expectations\ngain knowledge of different techniques in estate planning\nhave the tools to develop a successful wills and estates practice\n\nLaw Society of BC CPD Hours: 12 hours (this course will contain a minimum of 2 hours pertaining to professional responsibility and ethics\, client care and relations\, and/or practice management). \nCourse Chairs\nEric B. Clavier — Fasken Martineau DuMoulin LLP\, Vancouver\nEmily Clough — Clark Wilson LLP\, Vancouver \n\n\n\n\n\nJump Start 2024\nEARLY BIRD \nRegister by Feb. 5/24\nRegular Price\nAfter Feb. 5/24\n\n\n\n\nRebroadcast\n$889\n$1\,016\n\n\nRebroadcast Articled Student\n$508\n$508\n\n\n\n\n\n\nAre you an Indigenous lawyer/Articled Student/legal support staff/paralegal\, or community member?\nWe value your contributions and encourage your participation in all of our programs. To increase accessibility\, we offer a 50% discount* to all Indigenous lawyers/Articled Students/legal support staff/paralegals and a limited number of free online registrations to non-lawyer Indigenous community members (*discount applies to regular price\, not Early Bird price). Please contact Customer Service to find out more.\n \nUnable to attend a course without financial assistance from CLEBC?\nClick here for bursary information. \nWant to register for a course now\, but prefer a monthly payment plan?\nCheck out our Easy Pay Plan. \nRegistration includes an electronic copy of the reference materials.\n\n\n\nJust want the materials from the course?\nSubscribe to Online Course Materials and access 5\,400+ papers produced for CLEBC courses since 2001. \nCLEBC Program Lawyer*\nNadia Myerthall\nnmyerthall@cle.bc.ca\n*non-practising
URL:https://lsnl.ca/event/basics-of-wills-and-estate-planning-2023-by-the-continuing-legal-education-society-of-british-columbia/
LOCATION:Online
CATEGORIES:Continuing Professional Development
END:VEVENT
END:VCALENDAR