BEGIN:VCALENDAR
VERSION:2.0
PRODID:-//The Law Society of Newfoundland and Labrador - ECPv6.15.19//NONSGML v1.0//EN
CALSCALE:GREGORIAN
METHOD:PUBLISH
X-WR-CALNAME:The Law Society of Newfoundland and Labrador
X-ORIGINAL-URL:https://lsnl.ca
X-WR-CALDESC:Events for The Law Society of Newfoundland and Labrador
REFRESH-INTERVAL;VALUE=DURATION:PT1H
X-Robots-Tag:noindex
X-PUBLISHED-TTL:PT1H
BEGIN:VTIMEZONE
TZID:America/St_Johns
BEGIN:DAYLIGHT
TZOFFSETFROM:-0330
TZOFFSETTO:-0230
TZNAME:NDT
DTSTART:20230312T053000
END:DAYLIGHT
BEGIN:STANDARD
TZOFFSETFROM:-0230
TZOFFSETTO:-0330
TZNAME:NST
DTSTART:20231105T043000
END:STANDARD
BEGIN:DAYLIGHT
TZOFFSETFROM:-0330
TZOFFSETTO:-0230
TZNAME:NDT
DTSTART:20240310T053000
END:DAYLIGHT
BEGIN:STANDARD
TZOFFSETFROM:-0230
TZOFFSETTO:-0330
TZNAME:NST
DTSTART:20241103T043000
END:STANDARD
BEGIN:DAYLIGHT
TZOFFSETFROM:-0330
TZOFFSETTO:-0230
TZNAME:NDT
DTSTART:20250309T053000
END:DAYLIGHT
BEGIN:STANDARD
TZOFFSETFROM:-0230
TZOFFSETTO:-0330
TZNAME:NST
DTSTART:20251102T043000
END:STANDARD
END:VTIMEZONE
BEGIN:VEVENT
DTSTART;VALUE=DATE:20240306
DTEND;VALUE=DATE:20240307
DTSTAMP:20260421T131137
CREATED:20231222T132221Z
LAST-MODIFIED:20231222T132221Z
UID:22200-1709683200-1709769599@lsnl.ca
SUMMARY:Pension Division on Relationship Breakdown 2023 by the Continuing Legal Education Society of British Columbia
DESCRIPTION:What you’ve always wanted to know\n\n\n\n\n\n\n\n—Rebroadcasts—\nOn the rebroadcast date\, you will have until midnight of that rebroadcast date to access the course. Please note that technical support will be available during regular CLEBC business hours. \nJump Start on CPD 2024\nWednesday\, March 6\, 2024 \nCan’t make the webinar or rebroadcasts?\nWant online CPD available 24/7?\nSubscribe to Courses On Demand\, our comprehensive online resource with 21\,500+ videos and 5\,400+ papers from CLEBC courses. This course will be added to Courses on Demand approximately 30 days from the original course date. \n\nWho should attend: Lawyers of all experience levels practicing family law and in-house counsel with responsibility for pension administration \nLearning level: All levels \nCLEBC is pleased to present the first full-day pension division program in over 10 years. Join us for a highly interactive and dynamic course focusing on pension division best practices\, in-depth drafting tips & traps\, ethical considerations\, client and pension professional management\, legal updates\, and industry developments. \nColin Galinski will chair the program and will be joined by leading practitioners and pension professionals to deliver the course content. \nAfter taking this program\, you will: \n\nunderstand developments in pension law in BC\ngain insights and tips from the pension corporation\nreceive actuarial advice\ngain drafting tips for dealing with pensions\n\nLaw Society of BC CPD Hours: 6 hours (this course will contain a minimum of 1 hour pertaining to professional responsibility and ethics\, client care and relations\, and/or practice management) \nCourse Chair\nColin Galinski — Galinski Pension and Benefits Law\, Vancouver \n\n\n\n\n\nJump Start 2024\nEARLY BIRD \nRegister by Feb. 5/24\nRegular Price\nAfter Feb. 5/24\n\n\n\n\nRebroadcast\n$445\n$508\n\n\nRebroadcast Articled Student\n$254\n$254\n\n\n\n\n\n\nAre you an Indigenous lawyer/Articled Student/legal support staff/paralegal or community member?\nWe value your contributions and encourage your participation in all of our programs. To increase accessibility\, we offer a 50% discount* to all Indigenous lawyers/Articled Students/legal support staff/paralegals and a limited number of free online registrations to non-lawyer Indigenous community members. (*discount applies to Regular prices\, not Early Bird prices). Please contact Customer Service to find out more. \nUnable to attend a course without financial assistance from CLEBC?\nClick here for bursary information. \nWant to register for a course now\, but prefer a monthly payment plan?\nCheck out our Easy Pay Plan. \nRegistration includes an electronic copy of the reference materials.\n\n\n\nJust want the materials from the course?\nSubscribe to Online Course Materials and access 5\,400+ papers produced for CLEBC courses since 2001. \nCLEBC Program Lawyer*\nNadia Myerthall\nnmyerthall@cle.bc.ca\n*non-practising
URL:https://lsnl.ca/event/pension-division-on-relationship-breakdown-2023-by-the-continuing-legal-education-society-of-british-columbia/
LOCATION:Online
CATEGORIES:Continuing Professional Development
END:VEVENT
BEGIN:VEVENT
DTSTART;VALUE=DATE:20240306
DTEND;VALUE=DATE:20240308
DTSTAMP:20260421T131137
CREATED:20231222T132405Z
LAST-MODIFIED:20231222T132405Z
UID:22202-1709683200-1709855999@lsnl.ca
SUMMARY:Canadian Elder Law Conference 2023
DESCRIPTION:Presented by CLEBC in collaboration with CCEL \nTools for aging populations \nClick on the links to register for either Day 1 or Day 2. \n—Rebroadcasts—\nOn the rebroadcast date\, you will have until midnight of that rebroadcast date to access the course. Please note that technical support will be available during regular CLEBC business hours. \nJump Start on CPD 2024\nWednesday and Thursday\, March 6 and 7\, 2024 \nCan’t make the webinar or rebroadcasts?\nWant online CPD available 24/7?\nSubscribe to Courses On Demand\, our comprehensive online resource with 21\,500+ videos and 5\,400+ papers from CLEBC courses. This course will be added to Courses on Demand approximately 30 days from the original course date. \n\nWho should attend: Lawyers practicing in the areas of elder law\, family law\, and wills\, estates and trusts. This conference may also be of interest to notaries\, health care professionals\, social workers\, advocacy groups\, financial trustees\, and anyone concerned with the rights of older people. \nLearning level: Intermediate/Advanced \nThe Canadian Elder Law Conference is a two-day forum on the law and policy issues impacting older clients\, featuring updates on hot topics\, case law\, and current research on law and aging-related issues. Elder law is multi-faceted\, touching on diverse areas of practice\, including wills and estates\, family law\, health care rights\, and privacy law. \nExpect sessions on topics such as predatory marriages and divorces\, care facilities issues\, elder abuse prevention\, MAiD update\, the role of the medical expert in an estate practice\, and undue influence and capacity. Hear from practice leaders from across the country\, including lawyers\, medical experts\, and health care professionals. \nAfter taking this program\, you will: \n\nbe able to identify and address the legal issues that impact your older clients\ngain familiarity with recent trends\, cases\, developments\, and research in the law with respect to elder law topics such as predatory marriages and divorces\, care facilities\, medical experts\, undue influence\, and MAiD\nunderstand the legal\, practical\, and ethical issues in relation to older clients with respect to elder abuse\, agism\, and dementia\n\nLaw Society of BC CPD Hours: 12 hours (this course will contain a minimum of 2 hours pertaining to professional responsibility and ethics\, client care and relations\, and/or practice management) \nCourse Chairs\nHugh S. McLellan — McLellan Herbert Locke\, Vancouver\nKimberly A. Whaley — Whaley Estate Litigation Partners\, Toronto\nGeoffrey W. White\, KC — Geoffrey W. White Law Corporation\, Counsel\, Clark Wilson LLP\, Kelowna & Vancouver \n\n\n\n\n\nJump Start 2024\nEARLY BIRD \nRegister by Feb. 5/24\nRegular Price\nAfter Feb. 5/24\n\n\n\n\nRebroadcast\n$889\n$1\,016\n\n\nRebroadcast Articled Student\n$508\n$508\n\n\n\n\n\n\nAre you an Indigenous lawyer/Articled Student/legal support staff/paralegal or community member?\nWe value your contributions and encourage your participation in all of our programs. To increase accessibility\, we offer a 50% discount* to all Indigenous lawyers/Articled Students/legal support staff/paralegals and a limited number of free online registrations to non-lawyer Indigenous community members. (*discount applies to Regular prices\, not Early Bird prices). Please contact Customer Service to find out more. \nUnable to attend a course without financial assistance from CLEBC?\nClick here for bursary information. \nWant to register for a course now\, but prefer a monthly payment plan?\nCheck out our Easy Pay Plan. \nPlease Note: Students\, non-profit agency staff\, and others may be eligible for a full or partial registration fee scholarship. Contact Karen Campbell (bcli@bcli.org) to apply for a scholarship. Members of not-for-profit organizations (lawyer or non-lawyer) may be eligible for a 50% discount off the full price through CLEBC (contact CLEBC Customer Service). \nRegistration includes an electronic copy of the reference materials.\n\n\n\nJust want the materials from the course?\nSubscribe to Online Course Materials and access 5\,400+ papers produced for CLEBC courses since 2001. \nCLEBC Program Lawyer*\nNadia Myerthall\nnmyerthall@cle.bc.ca\n*non-practising
URL:https://lsnl.ca/event/canadian-elder-law-conference-2023/
LOCATION:Online
CATEGORIES:Continuing Professional Development
END:VEVENT
BEGIN:VEVENT
DTSTART;TZID=America/St_Johns:20240306T120000
DTEND;TZID=America/St_Johns:20240306T133000
DTSTAMP:20260421T131137
CREATED:20240202T134437Z
LAST-MODIFIED:20240202T134437Z
UID:22493-1709726400-1709731800@lsnl.ca
SUMMARY:Safeguard Your Success by Lawyer's Financial
DESCRIPTION:Learn why lawyers choose DBplus for a secure retirement \nLooking for retirement benefits that last for a lifetime?\nDBplus is a defined benefit pension plan available for all members of Canada’s legal community\, including sole practitioners and partners. DBplus is one of Canada’s fastest growing\, most sustainable\, and highest performing pension plans. And as a defined benefit plan\, DBplus provides you with retirement benefits that last for a lifetime. \nA pension for your whole life\nWhen you retire\, DBplus provides income every month for as long as you live. \nYour pension is protected\nContributions are invested and managed by some of the best professionals in the industry\, keeping your retirement income secure even when markets fluctuate. \nYour spouse is covered\nDBplus provides a lifetime pension to your surviving spouse. \nMore bang for your buck\nStarting in 2025\, your pension will grow faster while your contributions stay the same. \nJoin us on March 6th for an interactive webinar to discover the benefits of this plan\, ask your questions live and learn how your firm can get started. \n\n\n\nREGISTER NOW →\n\n\n\nMarch 6\, 2024 | 12:00pm (ET) \n*Webinar only available in English \nPrivacy Notice. Please note that you are being redirected to a non-CBA website. This site operates independently of CBA and has established its own privacy and security policies. Any information you provide to this site is provided directly to the site operator and subject to such third party’s privacy policy\, for which CBA shall not be responsible.
URL:https://lsnl.ca/event/safeguard-your-success-by-lawyers-financial/
LOCATION:Online
CATEGORIES:Continuing Professional Development
END:VEVENT
BEGIN:VEVENT
DTSTART;TZID=America/St_Johns:20240306T120000
DTEND;TZID=America/St_Johns:20240306T140000
DTSTAMP:20260421T131137
CREATED:20240226T132028Z
LAST-MODIFIED:20240226T132028Z
UID:22642-1709726400-1709733600@lsnl.ca
SUMMARY:Lessons from the Federal Court: Litigation Proofing Temporary Resident applications by ImmSeminars
DESCRIPTION:Presenter/s: Zeynab Ziaie Moayyad\, JD \nDate: 06 March 2024 \nTime: noon – 2 pm Pacific \nLocation: webinar \nType: webinar and recording \nPrice: $50.00 \nCPD approval: \n\nCICC 2 hours – 2 CPD hours approved. Includes 15 minutes of professionalism. Video recording will expire on 6 March 2025.\nLSBC 2 hours – 2 CPD hours approved. Video recording will expire 31 December 2024. Attendance to this course will provide you with .25 hours/15 minutes of ethics and professional responsibility component for your BC Law Society reporting.\nLaw Societies of Alberta\, Manitoba\, Newfoundland and Labrador\, and Nova Scotia\n\nFor members of these Law Societies\, consider including this course as a CPD learning activity in your mandatory annual requirements.\n\n\n\nOutline:  \n\n2023 Judicial Review of Refused Applications Overview\n\nStatistics from 2024\nDeveloping Trends\n\n\nMost Important Refusal Grounds\n\nPurpose of Trip\nFamily Ties\nFinancial Support\n\n\nUnderstanding Interaction of AI & Processing Outcomes\n\nData from present\nData from beyond present application (prior applications + other sources)\nTreatment of subsequent applications\nFinding Misrepresentation in Data\n\n\nPreparing Complete Applications\n\nIRCC Checklists\nBeyond Checklist\n\n\nVisitor Visas\n\nTop refusal grounds\nTop Tips for new applications\n\n\nStudy Permits\n\nTop refusal grounds\nTop Tips for new applications\n\n\nWork Permits\n\nTop refusal grounds\nTop Tips for new applications\n\n\nReapplications \n\nGCMS notes\nSubmissions addressing prior application refusals\n\n\nLessons beyond TR Files\nEthics/professionalism\nQ & A\n\nSpeaker: \nZeynab Ziaie Moayyad\, JD \nMs. Zeynab Ziaie Moayyed is an immigration lawyer licensed to practice law in Ontario and New York and the founder of Visa Law Group. Zeynab represents individual applicants and corporate clients in a wide range of immigration applications\, and in appeals and applications for judicial review of immigration decisions. Zeynab works closely with companies and individuals\, developing strategies for expanding operations and teams in Canada. \nZeynab is engaged in research on the use of technology in immigration systems and is a frequent writer and speaker on the development of technology on immigration policy and the impacts on applicants around the world. \nWhile speakers and topics are confirmed at the time of publication\, sometimes things happen which are beyond the control of Imm Seminars. If that happens substitutions or cancellations to speaker/s and/or topic/s may be necessary. In those cases\, Imm Seminars will advise all registrants by email as soon as possible. We will also update the Imm Seminars website. We appreciate your cooperation in these cases.
URL:https://lsnl.ca/event/lessons-from-the-federal-court-litigation-proofing-temporary-resident-applications-by-immseminars/
LOCATION:Online
CATEGORIES:Continuing Professional Development
END:VEVENT
END:VCALENDAR