BEGIN:VCALENDAR
VERSION:2.0
PRODID:-//The Law Society of Newfoundland and Labrador - ECPv6.15.19//NONSGML v1.0//EN
CALSCALE:GREGORIAN
METHOD:PUBLISH
X-ORIGINAL-URL:https://lsnl.ca
X-WR-CALDESC:Events for The Law Society of Newfoundland and Labrador
REFRESH-INTERVAL;VALUE=DURATION:PT1H
X-Robots-Tag:noindex
X-PUBLISHED-TTL:PT1H
BEGIN:VTIMEZONE
TZID:America/St_Johns
BEGIN:DAYLIGHT
TZOFFSETFROM:-0330
TZOFFSETTO:-0230
TZNAME:NDT
DTSTART:20230312T053000
END:DAYLIGHT
BEGIN:STANDARD
TZOFFSETFROM:-0230
TZOFFSETTO:-0330
TZNAME:NST
DTSTART:20231105T043000
END:STANDARD
BEGIN:DAYLIGHT
TZOFFSETFROM:-0330
TZOFFSETTO:-0230
TZNAME:NDT
DTSTART:20240310T053000
END:DAYLIGHT
BEGIN:STANDARD
TZOFFSETFROM:-0230
TZOFFSETTO:-0330
TZNAME:NST
DTSTART:20241103T043000
END:STANDARD
BEGIN:DAYLIGHT
TZOFFSETFROM:-0330
TZOFFSETTO:-0230
TZNAME:NDT
DTSTART:20250309T053000
END:DAYLIGHT
BEGIN:STANDARD
TZOFFSETFROM:-0230
TZOFFSETTO:-0330
TZNAME:NST
DTSTART:20251102T043000
END:STANDARD
END:VTIMEZONE
BEGIN:VEVENT
DTSTART;TZID=America/St_Johns:20240313T130000
DTEND;TZID=America/St_Johns:20240313T170000
DTSTAMP:20260421T130531
CREATED:20240227T151244Z
LAST-MODIFIED:20240227T152129Z
UID:22666-1710334800-1710349200@lsnl.ca
SUMMARY:AI and Ethics in Data Privacy and Cybersecurity by the Commonwealth Lawyers Association
DESCRIPTION:This webinar will offer: \n\nAn overview of AI in intellectual property law\, including its benefits and drawbacks/\nEthical considerations in using AI in intellectual property law\, such as ensuring accuracy\, avoiding plagiarism\, and protecting intellectual property rights\nBest practices for using AI ethically in intellectual property law\, such as training personnel and conducting regular audits\n\nPractical examples: \n\nUse of AI tools such as natural language processing and machine learning to analyse patent applications and identify potential infringements.\nEnsuring the accuracy and integrity of AI tools used in intellectual property law\, including avoiding plagiarism and protecting intellectual property rights.\nExamining the role of human ingenuity and creativity in the patent process when considering AI-generated inventions.\n\nEvent page: https://www.commonwealthlawyers.com/event/ai-and-ethics-in-intellectual-property/ \n \n  \nPosted: February 27\, 2024
URL:https://lsnl.ca/event/ai-and-ethics-in-data-privacy-and-cybersecurity-by-the-commonwealth-lawyers-association/
LOCATION:Online
CATEGORIES:Continuing Professional Development
END:VEVENT
END:VCALENDAR