BEGIN:VCALENDAR
VERSION:2.0
PRODID:-//The Law Society of Newfoundland and Labrador - ECPv6.15.19//NONSGML v1.0//EN
CALSCALE:GREGORIAN
METHOD:PUBLISH
X-WR-CALNAME:The Law Society of Newfoundland and Labrador
X-ORIGINAL-URL:https://lsnl.ca
X-WR-CALDESC:Events for The Law Society of Newfoundland and Labrador
REFRESH-INTERVAL;VALUE=DURATION:PT1H
X-Robots-Tag:noindex
X-PUBLISHED-TTL:PT1H
BEGIN:VTIMEZONE
TZID:America/St_Johns
BEGIN:DAYLIGHT
TZOFFSETFROM:-0330
TZOFFSETTO:-0230
TZNAME:NDT
DTSTART:20230312T053000
END:DAYLIGHT
BEGIN:STANDARD
TZOFFSETFROM:-0230
TZOFFSETTO:-0330
TZNAME:NST
DTSTART:20231105T043000
END:STANDARD
BEGIN:DAYLIGHT
TZOFFSETFROM:-0330
TZOFFSETTO:-0230
TZNAME:NDT
DTSTART:20240310T053000
END:DAYLIGHT
BEGIN:STANDARD
TZOFFSETFROM:-0230
TZOFFSETTO:-0330
TZNAME:NST
DTSTART:20241103T043000
END:STANDARD
BEGIN:DAYLIGHT
TZOFFSETFROM:-0330
TZOFFSETTO:-0230
TZNAME:NDT
DTSTART:20250309T053000
END:DAYLIGHT
BEGIN:STANDARD
TZOFFSETFROM:-0230
TZOFFSETTO:-0330
TZNAME:NST
DTSTART:20251102T043000
END:STANDARD
END:VTIMEZONE
BEGIN:VEVENT
DTSTART;TZID=America/St_Johns:20240322T120000
DTEND;TZID=America/St_Johns:20240322T133000
DTSTAMP:20260421T130423
CREATED:20240320T114942Z
LAST-MODIFIED:20240320T115512Z
UID:22815-1711108800-1711114200@lsnl.ca
SUMMARY:Mediation-Arbitration: A Dispute Resolution Option - Complimentary FDRIA Webinar
DESCRIPTION:Friday March 22\, 2024  |  12:00 noon AT / 12:30 PM NT\n1 hour followed by 15 minutes for further discussion with Colm or FDRIA \nZoom link included below. Registration not required.  \nRecording will be available on demand the following week.  \nColm Brannigan\nMediatior\, Arbitrator\, Coach & Trainer\nLL.M (ADR)\, C.Med\, C.Arb\, C.Med-Arb\, IMI Cert\, FCIArb \nMed-Arb is becoming an increasingly popular way to resolve disputes. It can be designed to resolve most disputes occurring in everyday personal and commercial matters efficiently\, effectively and fairly. It can be used to resolve disputes involving both lower and higher monetary amounts and disputes where relationships are of lesser or greater importance\, such as family disputes\, commercial disputes\, partnership disputes\, landlord and tenant disputes\, condominium disputes\, and many others.\nColm will give an overview of how med-arb can be used in dispute resolution with a focus on family disputes. \nColm Brannigan is a mediator\, med-arbitrator\, arbitrator\, coach\, and ADR trainer based in the GTA with an Ontario-wide practice. Colm has a solution-focused\, common-sense approach to conflict management and dispute resolution. He is recognized as a leading Canadian expert in the use of online dispute resolution (ODR) and in med-arb processes. Colm also provides ADR training and consulting services and is a regular writer on ADR topics and a frequent speaker on ADR at Programs/Conferences.
URL:https://lsnl.ca/event/mediation-arbitration-a-dispute-resolution-option-complimentary-fdria-webinar/
LOCATION:Online
CATEGORIES:Continuing Professional Development
END:VEVENT
END:VCALENDAR