BEGIN:VCALENDAR
VERSION:2.0
PRODID:-//The Law Society of Newfoundland and Labrador - ECPv6.15.19//NONSGML v1.0//EN
CALSCALE:GREGORIAN
METHOD:PUBLISH
X-WR-CALNAME:The Law Society of Newfoundland and Labrador
X-ORIGINAL-URL:https://lsnl.ca
X-WR-CALDESC:Events for The Law Society of Newfoundland and Labrador
REFRESH-INTERVAL;VALUE=DURATION:PT1H
X-Robots-Tag:noindex
X-PUBLISHED-TTL:PT1H
BEGIN:VTIMEZONE
TZID:America/St_Johns
BEGIN:DAYLIGHT
TZOFFSETFROM:-0330
TZOFFSETTO:-0230
TZNAME:NDT
DTSTART:20230312T053000
END:DAYLIGHT
BEGIN:STANDARD
TZOFFSETFROM:-0230
TZOFFSETTO:-0330
TZNAME:NST
DTSTART:20231105T043000
END:STANDARD
BEGIN:DAYLIGHT
TZOFFSETFROM:-0330
TZOFFSETTO:-0230
TZNAME:NDT
DTSTART:20240310T053000
END:DAYLIGHT
BEGIN:STANDARD
TZOFFSETFROM:-0230
TZOFFSETTO:-0330
TZNAME:NST
DTSTART:20241103T043000
END:STANDARD
BEGIN:DAYLIGHT
TZOFFSETFROM:-0330
TZOFFSETTO:-0230
TZNAME:NDT
DTSTART:20250309T053000
END:DAYLIGHT
BEGIN:STANDARD
TZOFFSETFROM:-0230
TZOFFSETTO:-0330
TZNAME:NST
DTSTART:20251102T043000
END:STANDARD
END:VTIMEZONE
BEGIN:VEVENT
DTSTART;TZID=America/St_Johns:20240325T180000
DTEND;TZID=America/St_Johns:20240325T190000
DTSTAMP:20260421T130425
CREATED:20240320T154635Z
LAST-MODIFIED:20240320T154659Z
UID:22819-1711389600-1711393200@lsnl.ca
SUMMARY:Atlantic Immigrant Career Loan Fund Information Session - by the Immigrant Services Association of Nova Scotia
DESCRIPTION:On March 25th\, join us for a one-hour webinar at 6:00 pm AST to learn about the Atlantic Immigrant Career Loan Fund (AICLF). This ISANS-led initiative can help immigrants with permanent resident status or Canadian citizenship obtain training and certification in their chosen fields or related fields in their new home provinces. \n During this event\, you will learn: \n\nWho is eligible for the AICLF\nWhat costs the AICLF can cover\nThe kinds of programs the AICLF can help pay for\nHow the AICLF is funded and how it is administered across Atlantic Canada\nWhy the AICLF is a better choice for immigrants in Atlantic Canada than funding through a private institution on their own\n\n During and after the presentation\, you can also ask any questions you might have about AICLF. \n Registration and attendance details: \n\nRegister for the event by submitting this form.\nThe registration deadline is 5 pm AST Thursday\, March 21st \nYou will receive a link to the meeting before the event\n\nFor more information\, please contact:   Ken Partridge  |  kpartridge@isans.ca \nMonday\, March 25 \n 6:00 – 7:00 pm AST \nPlatform: Microsoft Teams
URL:https://lsnl.ca/event/online-information-session-atlantic-immigrant-career-loan-fund-aiclf-by-the-immigrant-services-association-of-nova-scotia/
LOCATION:Online
CATEGORIES:Continuing Professional Development
END:VEVENT
BEGIN:VEVENT
DTSTART;TZID=America/St_Johns:20240325T190000
DTEND;TZID=America/St_Johns:20240325T210000
DTSTAMP:20260421T130425
CREATED:20240219T164631Z
LAST-MODIFIED:20240219T164847Z
UID:22584-1711393200-1711400400@lsnl.ca
SUMMARY:Justice Camp for Youth Gala by the Fédération des francophones de Terre-Neuve et du Labrador
DESCRIPTION:Please see the below invitation for the the Justice Camp for Youth Gala by the Fédération des francophones de Terre-Neuve et du Labrador that will take place on March 25. \n 
URL:https://lsnl.ca/event/justice-camp-for-youth-gala-by-the-federation-des-francophones-de-terre-neuve-et-du-labrador/
CATEGORIES:Continuing Professional Development
END:VEVENT
END:VCALENDAR