BEGIN:VCALENDAR
VERSION:2.0
PRODID:-//The Law Society of Newfoundland and Labrador - ECPv6.15.19//NONSGML v1.0//EN
CALSCALE:GREGORIAN
METHOD:PUBLISH
X-ORIGINAL-URL:https://lsnl.ca
X-WR-CALDESC:Events for The Law Society of Newfoundland and Labrador
REFRESH-INTERVAL;VALUE=DURATION:PT1H
X-Robots-Tag:noindex
X-PUBLISHED-TTL:PT1H
BEGIN:VTIMEZONE
TZID:America/St_Johns
BEGIN:DAYLIGHT
TZOFFSETFROM:-0330
TZOFFSETTO:-0230
TZNAME:NDT
DTSTART:20230312T053000
END:DAYLIGHT
BEGIN:STANDARD
TZOFFSETFROM:-0230
TZOFFSETTO:-0330
TZNAME:NST
DTSTART:20231105T043000
END:STANDARD
BEGIN:DAYLIGHT
TZOFFSETFROM:-0330
TZOFFSETTO:-0230
TZNAME:NDT
DTSTART:20240310T053000
END:DAYLIGHT
BEGIN:STANDARD
TZOFFSETFROM:-0230
TZOFFSETTO:-0330
TZNAME:NST
DTSTART:20241103T043000
END:STANDARD
BEGIN:DAYLIGHT
TZOFFSETFROM:-0330
TZOFFSETTO:-0230
TZNAME:NDT
DTSTART:20250309T053000
END:DAYLIGHT
BEGIN:STANDARD
TZOFFSETFROM:-0230
TZOFFSETTO:-0330
TZNAME:NST
DTSTART:20251102T043000
END:STANDARD
END:VTIMEZONE
BEGIN:VEVENT
DTSTART;VALUE=DATE:20240326
DTEND;VALUE=DATE:20240328
DTSTAMP:20260421T130533
CREATED:20231220T201539Z
LAST-MODIFIED:20231220T201617Z
UID:22142-1711411200-1711583999@lsnl.ca
SUMMARY:Drafting and Reviewing Search Warrants by Osgoode Hall School of Law
DESCRIPTION:Take advantage of this unique opportunity to take a deep dive into how to draft legally solid and successful warrants.\nCourt decisions continue to make apparent the importance of clear\, accurate and complete warrant applications\, and the dire consequences of deficient drafting. \nThis practical program will give you the knowledge and skills you need to draft\, review\, and revise a wide variety of search warrants\, and to identify and develop winning strategies for defending or attacking them. \n\nRegistration includes 120-day unlimited\, online access to the recorded program. Please note the workshop will NOT be recorded. \n\n\n\nWhat You’ll Learn\n\nPractical Issues in the Warrant Process: Cross-Discipline Panel Discussion\nLatest Hot Issues in Computer and Related Technology Searches\nReview of the Foundational Principles of Search and Seizure\nWarrant Writing and Reviewing 101\nInformers and Tipsters: Challenges and Strategies for Using Anonymous Sources\n\n\n\n\n\n\n\nWho Should Attend\n\n\n\n\n\nLaw enforcement officers\nRegulatory investigators (federal and provincial)\nDefence lawyers\nJudges\, including Justices of the Peace and lower court judges form all provinces and territories\nCrown Attorneys and Federal Prosecutors
URL:https://lsnl.ca/event/drafting-and-reviewing-search-warrants-by-osgoode-hall-school-of-law/
LOCATION:Online
CATEGORIES:Continuing Professional Development
END:VEVENT
END:VCALENDAR