BEGIN:VCALENDAR
VERSION:2.0
PRODID:-//The Law Society of Newfoundland and Labrador - ECPv6.15.19//NONSGML v1.0//EN
CALSCALE:GREGORIAN
METHOD:PUBLISH
X-WR-CALNAME:The Law Society of Newfoundland and Labrador
X-ORIGINAL-URL:https://lsnl.ca
X-WR-CALDESC:Events for The Law Society of Newfoundland and Labrador
REFRESH-INTERVAL;VALUE=DURATION:PT1H
X-Robots-Tag:noindex
X-PUBLISHED-TTL:PT1H
BEGIN:VTIMEZONE
TZID:America/St_Johns
BEGIN:DAYLIGHT
TZOFFSETFROM:-0330
TZOFFSETTO:-0230
TZNAME:NDT
DTSTART:20230312T053000
END:DAYLIGHT
BEGIN:STANDARD
TZOFFSETFROM:-0230
TZOFFSETTO:-0330
TZNAME:NST
DTSTART:20231105T043000
END:STANDARD
BEGIN:DAYLIGHT
TZOFFSETFROM:-0330
TZOFFSETTO:-0230
TZNAME:NDT
DTSTART:20240310T053000
END:DAYLIGHT
BEGIN:STANDARD
TZOFFSETFROM:-0230
TZOFFSETTO:-0330
TZNAME:NST
DTSTART:20241103T043000
END:STANDARD
BEGIN:DAYLIGHT
TZOFFSETFROM:-0330
TZOFFSETTO:-0230
TZNAME:NDT
DTSTART:20250309T053000
END:DAYLIGHT
BEGIN:STANDARD
TZOFFSETFROM:-0230
TZOFFSETTO:-0330
TZNAME:NST
DTSTART:20251102T043000
END:STANDARD
END:VTIMEZONE
BEGIN:VEVENT
DTSTART;TZID=America/St_Johns:20240401T090000
DTEND;TZID=America/St_Johns:20240401T123000
DTSTAMP:20260421T113144
CREATED:20231220T201331Z
LAST-MODIFIED:20231220T201331Z
UID:22140-1711962000-1711974600@lsnl.ca
SUMMARY:Intensive Skills Workshop: Will Drafting by Osgood Hall Law School
DESCRIPTION:Drafting a will that can stand up to challenges is the cornerstone of a successful estates practice.\nOver two half-days\, this intensive\, learn-by-doing program will provide a unique opportunity to hone your drafting skills while receiving individualized feedback. \nDrafting a tightly worded will can help protect you from potential challenges and is a skill that requires thoughtful consideration and practice. When a client comes into your office requesting a will\, it is critical that you are prepared to competently draft based on varying\, and sometimes\, complex scenarios. \nOsgoodePD’s Intensive Will Drafting Workshop will provide you with the tools and confidence you need to succeed. \nThis unique program includes sample fact scenarios\, lectures and small group breakout sessions. Personalized feedback will provide you with ample opportunity to develop and refine your drafting skills. \nYou must be prepared to complete a pre-program introductory webinar and drafting assignment which will be reviewed by an experienced faculty member and discussed in small groups at the program. You will be asked to refer to your own templates and precedents\, as well as learnings from the first half-day session\, in order to complete the assignment. \n\n\nWhat You’ll Learn\n\n\n\n\n\nHow to avoid common drafting errors\nThe basic administrative and preamble clauses that should be included in a will\, and how to revise them given different fact situations\nWhen to use multiple wills\, and how to effectively draft them\nThe components of a Simple Will\, and the situations in which it is appropriate to use\nYou will practice modifying standard clauses to effectively reflect client needs articulated in various fact scenarios\nHow to incorporate clauses to a situation where a family cottage or a second marriage may be involved\n\n\n\n\n\n\n\nThis program is part of The Osgoode Intensive Program in Wills & Estates. For a full listing of required programs\, click here. \n\n\n\n\nWho Should Attend\n\n\n\n\nLawyers practicing or wishing to practice in wills and estates \n\n\nMarch 5 & April 1\, 2024\, 9:00 a.m. – 12:30 p.m. ET
URL:https://lsnl.ca/event/intensive-skills-workshop-will-drafting-by-osgood-hall-law-school/
LOCATION:Online
CATEGORIES:Continuing Professional Development
END:VEVENT
END:VCALENDAR