BEGIN:VCALENDAR
VERSION:2.0
PRODID:-//The Law Society of Newfoundland and Labrador - ECPv6.15.19//NONSGML v1.0//EN
CALSCALE:GREGORIAN
METHOD:PUBLISH
X-WR-CALNAME:The Law Society of Newfoundland and Labrador
X-ORIGINAL-URL:https://lsnl.ca
X-WR-CALDESC:Events for The Law Society of Newfoundland and Labrador
REFRESH-INTERVAL;VALUE=DURATION:PT1H
X-Robots-Tag:noindex
X-PUBLISHED-TTL:PT1H
BEGIN:VTIMEZONE
TZID:America/St_Johns
BEGIN:DAYLIGHT
TZOFFSETFROM:-0330
TZOFFSETTO:-0230
TZNAME:NDT
DTSTART:20230312T053000
END:DAYLIGHT
BEGIN:STANDARD
TZOFFSETFROM:-0230
TZOFFSETTO:-0330
TZNAME:NST
DTSTART:20231105T043000
END:STANDARD
BEGIN:DAYLIGHT
TZOFFSETFROM:-0330
TZOFFSETTO:-0230
TZNAME:NDT
DTSTART:20240310T053000
END:DAYLIGHT
BEGIN:STANDARD
TZOFFSETFROM:-0230
TZOFFSETTO:-0330
TZNAME:NST
DTSTART:20241103T043000
END:STANDARD
BEGIN:DAYLIGHT
TZOFFSETFROM:-0330
TZOFFSETTO:-0230
TZNAME:NDT
DTSTART:20250309T053000
END:DAYLIGHT
BEGIN:STANDARD
TZOFFSETFROM:-0230
TZOFFSETTO:-0330
TZNAME:NST
DTSTART:20251102T043000
END:STANDARD
END:VTIMEZONE
BEGIN:VEVENT
DTSTART;VALUE=DATE:20240409
DTEND;VALUE=DATE:20240410
DTSTAMP:20260421T113232
CREATED:20231207T142602Z
LAST-MODIFIED:20231207T142602Z
UID:22008-1712620800-1712707199@lsnl.ca
SUMMARY:Fertility Law: Current and Emerging Issues by Osgoode Hall Law School
DESCRIPTION:Register\n\n\n\n\n\n\n\n\nProgram Chair\n\n\nSara R. Cohen\nFertility Law Canada™ at D2Law LLP\n\n\n\n\n\n\n\nFertility law issues continue to challenge and change. Are you up to date?\nFertility law is increasingly complex\, even for the experts who practice it daily. \nIn this constantly evolving legal landscape\, professionals working in this arena must ensure they are current and informed about the latest case law\, as well as the key legislative\, jurisdictional and procedural changes \n\n\nWhat You’ll Learn\nJoin Canada’s leading experts as they take you through the critical issues you and your clients grapple with daily\, including: \n\n\n\n\n\nCross-Canada check-up – key updates from across the nation\nWhen the love (or life) is gone: implications upon separation or death\nDrafting 101 – tips for making your agreements work\nPractice challenges and ethical dilemmas: strategies for protecting yourself and your client\nScreening 101: what you need to know to guide your clients through the process\nFertility law developments across the border and around the world\nCultural competence and the ART client\nWhen things go wrong – how to avoid and navigate the common (and not so common) pitfalls\n\n\n\n\n\n\n\nPlus! Get a grounding in the foundations of Fertility Law and procedure with our optional primer\, Fertility Law: Understanding the Key Concepts. Learn at your convenience and at your own pace in this unique On Demand program (total running time approximately 1 hour). This primer is included in your registration fee. Anticipated release date February 2024. \n\n\n\n\nWho Should Attend\n\n\n\n\n\nFamily Law Lawyers\nFertility Practitioners\nHealth Lawyers
URL:https://lsnl.ca/event/fertility-law-current-and-emerging-issues-by-osgoode-hall-law-school/
LOCATION:Online
CATEGORIES:Continuing Professional Development
END:VEVENT
END:VCALENDAR