BEGIN:VCALENDAR
VERSION:2.0
PRODID:-//The Law Society of Newfoundland and Labrador - ECPv6.15.19//NONSGML v1.0//EN
CALSCALE:GREGORIAN
METHOD:PUBLISH
X-WR-CALNAME:The Law Society of Newfoundland and Labrador
X-ORIGINAL-URL:https://lsnl.ca
X-WR-CALDESC:Events for The Law Society of Newfoundland and Labrador
REFRESH-INTERVAL;VALUE=DURATION:PT1H
X-Robots-Tag:noindex
X-PUBLISHED-TTL:PT1H
BEGIN:VTIMEZONE
TZID:America/St_Johns
BEGIN:DAYLIGHT
TZOFFSETFROM:-0330
TZOFFSETTO:-0230
TZNAME:NDT
DTSTART:20230312T053000
END:DAYLIGHT
BEGIN:STANDARD
TZOFFSETFROM:-0230
TZOFFSETTO:-0330
TZNAME:NST
DTSTART:20231105T043000
END:STANDARD
BEGIN:DAYLIGHT
TZOFFSETFROM:-0330
TZOFFSETTO:-0230
TZNAME:NDT
DTSTART:20240310T053000
END:DAYLIGHT
BEGIN:STANDARD
TZOFFSETFROM:-0230
TZOFFSETTO:-0330
TZNAME:NST
DTSTART:20241103T043000
END:STANDARD
BEGIN:DAYLIGHT
TZOFFSETFROM:-0330
TZOFFSETTO:-0230
TZNAME:NDT
DTSTART:20250309T053000
END:DAYLIGHT
BEGIN:STANDARD
TZOFFSETFROM:-0230
TZOFFSETTO:-0330
TZNAME:NST
DTSTART:20251102T043000
END:STANDARD
END:VTIMEZONE
BEGIN:VEVENT
DTSTART;TZID=America/St_Johns:20240425T143000
DTEND;TZID=America/St_Johns:20240425T160000
DTSTAMP:20260421T113219
CREATED:20240403T123037Z
LAST-MODIFIED:20240403T123037Z
UID:22873-1714055400-1714060800@lsnl.ca
SUMMARY:Privacy Investigations - International Association of Privacy Professionals - St. John's Chapter
DESCRIPTION:Please join the International Association of Privacy Professionals (IAPP) St. Johns  Chapter in welcoming Sean Murray who will present Privacy Investigations.  This virtual session is scheduled for Thursday\, April 25\, 2024\, 2:30-4:00 pm NL time. This session is open to all and is FREE of charge – you do not even need to be an IAPP member. \nBut you do have to register using the link: https://iapp.org/connect/communities/knowledgenets/a0lTS0000006bg1YAA/  \nAbout the Session\nSean Murray has served close to twenty years in senior roles with the Newfoundland and Labrador Office of the Information and Privacy Commissioner (OIPC)\, during which he has either led or carried out work associated with every aspect of the Office’s mandate. In this session\, Sean will share his experience in conducting and overseeing privacy investigations. What can a complainant expect from this process? What can a respondent (public body or custodian) anticipate? What is the goal of a privacy investigation? What is the value of the complaint investigation process to complainants\, respondents\, and the public at large? \nSpeaker\nSean Murray\, Director of Research and Quality Assurance\, Office of the Information and Privacy Commissioner\, Newfoundland and Labrador \nTime\n2:30-4:00 NL
URL:https://lsnl.ca/event/privacy-investigations-international-association-of-privacy-professionals-st-johns-chapter/
LOCATION:Online
CATEGORIES:Continuing Professional Development
END:VEVENT
END:VCALENDAR