BEGIN:VCALENDAR
VERSION:2.0
PRODID:-//The Law Society of Newfoundland and Labrador - ECPv6.15.19//NONSGML v1.0//EN
CALSCALE:GREGORIAN
METHOD:PUBLISH
X-WR-CALNAME:The Law Society of Newfoundland and Labrador
X-ORIGINAL-URL:https://lsnl.ca
X-WR-CALDESC:Events for The Law Society of Newfoundland and Labrador
REFRESH-INTERVAL;VALUE=DURATION:PT1H
X-Robots-Tag:noindex
X-PUBLISHED-TTL:PT1H
BEGIN:VTIMEZONE
TZID:America/St_Johns
BEGIN:DAYLIGHT
TZOFFSETFROM:-0330
TZOFFSETTO:-0230
TZNAME:NDT
DTSTART:20230312T053000
END:DAYLIGHT
BEGIN:STANDARD
TZOFFSETFROM:-0230
TZOFFSETTO:-0330
TZNAME:NST
DTSTART:20231105T043000
END:STANDARD
BEGIN:DAYLIGHT
TZOFFSETFROM:-0330
TZOFFSETTO:-0230
TZNAME:NDT
DTSTART:20240310T053000
END:DAYLIGHT
BEGIN:STANDARD
TZOFFSETFROM:-0230
TZOFFSETTO:-0330
TZNAME:NST
DTSTART:20241103T043000
END:STANDARD
BEGIN:DAYLIGHT
TZOFFSETFROM:-0330
TZOFFSETTO:-0230
TZNAME:NDT
DTSTART:20250309T053000
END:DAYLIGHT
BEGIN:STANDARD
TZOFFSETFROM:-0230
TZOFFSETTO:-0330
TZNAME:NST
DTSTART:20251102T043000
END:STANDARD
END:VTIMEZONE
BEGIN:VEVENT
DTSTART;VALUE=DATE:20240502
DTEND;VALUE=DATE:20240504
DTSTAMP:20260421T113251
CREATED:20240409T120647Z
LAST-MODIFIED:20240409T120647Z
UID:22910-1714608000-1714780799@lsnl.ca
SUMMARY:Employment Law Conference 2024 by the Continuing Legal Education Society of British Columbia
DESCRIPTION:Stay updated\, network with colleagues\, and get CPD credits all at once \nThursday and Friday\, May 2 and 3\, 2024\n9:00 am – 4:30 pm with a Networking reception 4:30 pm – 6:00 pm (Day 1)\n9:00 am – 4:00 pm (Day 2)\nPan Pacific Hotel\, 999 Canada Place\, Vancouver\nor attend via webinar \n—Rebroadcasts—\nOn the rebroadcast date\, you will have until midnight of that rebroadcast date to access the course. Please note that technical support will be available during regular CLEBC business hours. \nSummer Series 2024\nMonday and Tuesday\, July 15 and 16\, 2024\nMonday and Tuesday\, July 22 and 23\, 2024 \nCan’t make the webinar or rebroadcasts?\nWant online CPD available 24/7?\nSubscribe to Courses On Demand\, our comprehensive online resource with 1\,500+ videos and 5\,400+ papers from CLEBC courses. This course will be added to Courses on Demand approximately 30 days from the original course date. \nWho should attend: Employment lawyers\, in-house counsel\, and human resources professionals \nLearning level: All levels \nWith an agenda curated from your submissions\, leading practitioners and your colleagues will explore emerging issues in employment law and update you on the core topics. Employment relationships are evolving at a rapid pace and so is the law as a result of technology\, globalization\, and increasing diversity in the workplace. \nThis year\, Justice Alan M. Ross will join us on Day 1 of the conference as our featured lunch speaker. He will provide a view from the bench and discuss common pitfalls and best practices for employment lawyers when appearing before the court. \nAt this conference\, you will also: \n\nlearn about recent developments in core topics such as litigating workplace claims in multiple forums\, legal obligations when quitting\, and FOI in and outside the workplace\nget up to date on topics such temporary foreign workers\, recent BC Labour Code updates\, neurodiversity in the workplace\, and First Nations as employers\nget your annual employment case law update\nand more\n\nThis conference is your annual must-attend event where you can network with your colleagues while completing all of your Law Society continuing professional development requirements for the year. \nJoin us on Day 1\, Day 2\, or both days for a discussion of these important issues. \nConference attendees (both attending in person or online) are invited to join faculty at the conclusion of Day 1 of the conference (location TBA). A special thank you to Cooperwilliams Truman & Ito LLP for hosting this reception. \nLaw Society of BC CPD Hours: 12.5 hours (this course will contain a minimum of 2 hours pertaining to professional responsibility and ethics\, client care and relations\, and/or practice management)
URL:https://lsnl.ca/event/employment-law-conference-2024-by-the-continuing-legal-education-society-of-british-columbia/
LOCATION:Online
CATEGORIES:Continuing Professional Development
END:VEVENT
END:VCALENDAR