BEGIN:VCALENDAR
VERSION:2.0
PRODID:-//The Law Society of Newfoundland and Labrador - ECPv6.15.19//NONSGML v1.0//EN
CALSCALE:GREGORIAN
METHOD:PUBLISH
X-ORIGINAL-URL:https://lsnl.ca
X-WR-CALDESC:Events for The Law Society of Newfoundland and Labrador
REFRESH-INTERVAL;VALUE=DURATION:PT1H
X-Robots-Tag:noindex
X-PUBLISHED-TTL:PT1H
BEGIN:VTIMEZONE
TZID:America/St_Johns
BEGIN:DAYLIGHT
TZOFFSETFROM:-0330
TZOFFSETTO:-0230
TZNAME:NDT
DTSTART:20230312T053000
END:DAYLIGHT
BEGIN:STANDARD
TZOFFSETFROM:-0230
TZOFFSETTO:-0330
TZNAME:NST
DTSTART:20231105T043000
END:STANDARD
BEGIN:DAYLIGHT
TZOFFSETFROM:-0330
TZOFFSETTO:-0230
TZNAME:NDT
DTSTART:20240310T053000
END:DAYLIGHT
BEGIN:STANDARD
TZOFFSETFROM:-0230
TZOFFSETTO:-0330
TZNAME:NST
DTSTART:20241103T043000
END:STANDARD
BEGIN:DAYLIGHT
TZOFFSETFROM:-0330
TZOFFSETTO:-0230
TZNAME:NDT
DTSTART:20250309T053000
END:DAYLIGHT
BEGIN:STANDARD
TZOFFSETFROM:-0230
TZOFFSETTO:-0330
TZNAME:NST
DTSTART:20251102T043000
END:STANDARD
END:VTIMEZONE
BEGIN:VEVENT
DTSTART;TZID=America/St_Johns:20240517T120000
DTEND;TZID=America/St_Johns:20240517T130000
DTSTAMP:20260421T095051
CREATED:20240415T133648Z
LAST-MODIFIED:20240415T133648Z
UID:22965-1715947200-1715950800@lsnl.ca
SUMMARY:2024 Virtual Pink Tea Events
DESCRIPTION:While Pink Teas were used to gather women to strategize to get the right to vote and run for elected office\, our Pink Teas will feature female leaders so we learn about various issues and opportunities. We will be inspired to work together and realize our dreams. \nGet ready for this season’s 5 incredible monthly webinars. \n> May 17th featuring Charlotte Gray\, author \n> June 7th featuring Susana Craig\, Pulitzer Prize NYT journalist \n>September 13th guests to be announced \n>November 1st guests to be announced \nClick the ‘Get Tickets’ button to order a ticket for yourself and your colleagues and friends. You can purchase one or multiple dates\, or get the entire 2024 Virtual Pink Tea season and save! \nVisit famous5.ca/events for more information or contact f5f@mosaicevents.ca. \n\n\n\n\nOUR NEXT VPT IS FRIDAY\, MAY 17th\nMeet our guest speakers:\n\n\n\n\nCharlotte Gray\, Award-winning biographer & historian\nMeet Charlotte Gray\, award-winning author of twelve books of history and biography at our May 17 Virtual Pink Tea! \nCharlotte Gray is one of Canada’s best-known non-fiction writers\, the author of the latest bestseller – Passionate Mothers\, Powerful Sons: The Lives of Jennie Jerome Churchill and Sara Delano Roosevelt! \nWith an international reputation as an award-winning author and a renowned political and cultural commentator\, Charlotte Gray has been awarded five honorary doctorates from Canada’s leading universities. She is also a member of the Order of Canada\, a Library and Archives Canada Scholar\, and a Fellow of the Royal Society of Canada.”
URL:https://lsnl.ca/event/2024-virtual-pink-tea-events/
LOCATION:Online
CATEGORIES:Continuing Professional Development
END:VEVENT
END:VCALENDAR