BEGIN:VCALENDAR
VERSION:2.0
PRODID:-//The Law Society of Newfoundland and Labrador - ECPv6.15.19//NONSGML v1.0//EN
CALSCALE:GREGORIAN
METHOD:PUBLISH
X-WR-CALNAME:The Law Society of Newfoundland and Labrador
X-ORIGINAL-URL:https://lsnl.ca
X-WR-CALDESC:Events for The Law Society of Newfoundland and Labrador
REFRESH-INTERVAL;VALUE=DURATION:PT1H
X-Robots-Tag:noindex
X-PUBLISHED-TTL:PT1H
BEGIN:VTIMEZONE
TZID:America/St_Johns
BEGIN:DAYLIGHT
TZOFFSETFROM:-0330
TZOFFSETTO:-0230
TZNAME:NDT
DTSTART:20230312T053000
END:DAYLIGHT
BEGIN:STANDARD
TZOFFSETFROM:-0230
TZOFFSETTO:-0330
TZNAME:NST
DTSTART:20231105T043000
END:STANDARD
BEGIN:DAYLIGHT
TZOFFSETFROM:-0330
TZOFFSETTO:-0230
TZNAME:NDT
DTSTART:20240310T053000
END:DAYLIGHT
BEGIN:STANDARD
TZOFFSETFROM:-0230
TZOFFSETTO:-0330
TZNAME:NST
DTSTART:20241103T043000
END:STANDARD
BEGIN:DAYLIGHT
TZOFFSETFROM:-0330
TZOFFSETTO:-0230
TZNAME:NDT
DTSTART:20250309T053000
END:DAYLIGHT
BEGIN:STANDARD
TZOFFSETFROM:-0230
TZOFFSETTO:-0330
TZNAME:NST
DTSTART:20251102T043000
END:STANDARD
END:VTIMEZONE
BEGIN:VEVENT
DTSTART;TZID=America/St_Johns:20240523T090000
DTEND;TZID=America/St_Johns:20240523T123000
DTSTAMP:20260421T094917
CREATED:20240314T184841Z
LAST-MODIFIED:20240314T184841Z
UID:22786-1716454800-1716467400@lsnl.ca
SUMMARY:Advanced Securities 2024: Combo by the Continuing Legal Education Society of British Columbia
DESCRIPTION:Thursdays\, May 9 and 23\, 2024\n9:00 am – 12:30 pm (both days)\nattend via webinar \nCan’t make the webinar or rebroadcasts?\nWant online CPD available 24/7?\nSubscribe to Courses On Demand\, our comprehensive online resource with 1\,500+ videos and 5\,400+ papers from CLEBC courses. This course will be added to Courses on Demand approximately 30 days from the original course date. \nWho should attend: Securities law practitioners (both solicitors and litigators) \nLearning level: Advanced \nSecurities practice doesn’t always leave much time for you to keep up with all the developments and transactions happening in the market. \nBecause it’s hard to leave your desk for a whole day\, we’ve split this conference into a two-part series. This will be your efficient solution to learning about the latest developments. \nLeading securities practitioners have curated only the most important big transactions\, trends\, and hot topics to discuss with you. As always\, we look forward to sharing with you the ever-popular and valuable Case Law Update. You will leave this series confident and current. \nDon’t worry if you can’t make one of the sessions. If you register for the COMBO\, you can access subsequent rebroadcasts in July and December 2024 for free! Rebroadcast dates to be confirmed at a later date. \nJoin for Day 1 Session or Day 2 Session\, or both days. \nLaw Society of BC CPD Hours: 6 hours (this course does not contain professional responsibility and ethics\, client care and relations\, and/or practice management) \nJust want the materials from the course?\nSubscribe to Online Course Materials and access 5\,400+ papers produced for CLEBC courses since 2001.CLEBC Program Lawyer*\nGenevieve Chang\ngchang@cle.bc.ca\n*non-practising \n\n\n\n\n\n\n 
URL:https://lsnl.ca/event/advanced-securities-2024-combo-by-the-continuing-legal-education-society-of-british-columbia-2/
LOCATION:Online
CATEGORIES:Continuing Professional Development
END:VEVENT
END:VCALENDAR