BEGIN:VCALENDAR
VERSION:2.0
PRODID:-//The Law Society of Newfoundland and Labrador - ECPv6.15.19//NONSGML v1.0//EN
CALSCALE:GREGORIAN
METHOD:PUBLISH
X-WR-CALNAME:The Law Society of Newfoundland and Labrador
X-ORIGINAL-URL:https://lsnl.ca
X-WR-CALDESC:Events for The Law Society of Newfoundland and Labrador
REFRESH-INTERVAL;VALUE=DURATION:PT1H
X-Robots-Tag:noindex
X-PUBLISHED-TTL:PT1H
BEGIN:VTIMEZONE
TZID:America/St_Johns
BEGIN:DAYLIGHT
TZOFFSETFROM:-0330
TZOFFSETTO:-0230
TZNAME:NDT
DTSTART:20230312T053000
END:DAYLIGHT
BEGIN:STANDARD
TZOFFSETFROM:-0230
TZOFFSETTO:-0330
TZNAME:NST
DTSTART:20231105T043000
END:STANDARD
BEGIN:DAYLIGHT
TZOFFSETFROM:-0330
TZOFFSETTO:-0230
TZNAME:NDT
DTSTART:20240310T053000
END:DAYLIGHT
BEGIN:STANDARD
TZOFFSETFROM:-0230
TZOFFSETTO:-0330
TZNAME:NST
DTSTART:20241103T043000
END:STANDARD
BEGIN:DAYLIGHT
TZOFFSETFROM:-0330
TZOFFSETTO:-0230
TZNAME:NDT
DTSTART:20250309T053000
END:DAYLIGHT
BEGIN:STANDARD
TZOFFSETFROM:-0230
TZOFFSETTO:-0330
TZNAME:NST
DTSTART:20251102T043000
END:STANDARD
END:VTIMEZONE
BEGIN:VEVENT
DTSTART;VALUE=DATE:20240529
DTEND;VALUE=DATE:20240530
DTSTAMP:20260421T094905
CREATED:20240425T155611Z
LAST-MODIFIED:20240425T155611Z
UID:23034-1716940800-1717027199@lsnl.ca
SUMMARY:Managing Workplace Stress
DESCRIPTION:REGISTER NOW \n\n\n\nLearn how to identify\, manage\, reduce\, and even eliminate sources of stress in the workplace to increase organizational productivity\, improve morale\, and contribute to overall workplace wellness. \nWorkplace stress is an ever-increasing reality in today’s modern work environment.  Employees are faced with competing priorities at work and at home\, technology-induced demand for access 24/7\, and lean staffing which adds to overall workload.  These modern stressors\, if unmanaged\, can affect productivity and the general sense of well-being within an organization. Understanding how to identify the sources of stress and incorporating realistic coping strategies into the work environment will help both employees and organizations enhance overall performance and improve morale.  This experiential workshop is designed to help participants identify workplace stressors and develop a stress management plan. \nKey Learning Outcomes \n\nUnderstanding positive versus negative stress\nRecognizing the four key sources of stress\nDeveloping insight into “negative stress” concepts\nDifferentiating between three major types of stress\nUnderstanding how to turn negative stressors into positive outcomes\nIdentifying quick-fix techniques\nLearning long-term preventative practices\nCharting a stress baseline\nDeveloping a stress management plan
URL:https://lsnl.ca/event/managing-workplace-stress/
LOCATION:Online
CATEGORIES:Continuing Professional Development
ORGANIZER;CN="The Gardiner Centre":MAILTO:gardinercentre@mun.ca
END:VEVENT
BEGIN:VEVENT
DTSTART;TZID=America/St_Johns:20240529T140000
DTEND;TZID=America/St_Johns:20240529T150000
DTSTAMP:20260421T094905
CREATED:20240524T124751Z
LAST-MODIFIED:20240524T124751Z
UID:23279-1716991200-1716994800@lsnl.ca
SUMMARY:Canada’s Volunteer Awards Q&A - English Session
DESCRIPTION:Do you have questions about how to submit a nomination to Canada’s Volunteer Awards (CVA)? The CVA team can help! \nAn information session will take place via Zoom to answer questions about the steps for submitting a nomination using the CVA online system. \nPlease use the link below to join in the language of your choice. \nEnglish Session: Wednesday\, May 29\, 2024\, 2:00 p.m. to 3:00 p.m. (EDT) \nJoin Zoom Meeting\nhttps://us06web.zoom.us/j/84711661887?pwd=SuTBB3WFa7J0kSVNBLpc0slaj7wyc7.1 \nMeeting ID: 847 1166 1887\nPasscode: 445989 \nFind your local number: https://us06web.zoom.us/u/kbEZkF7Gxw \nFrench Session: Thursday\, May 30\, 2024\, 2:00 p.m. to 3:00 p.m. (EDT) \nJoin Zoom Meeting\nhttps://us06web.zoom.us/j/83689653114?pwd=cLwjnlxkqTsq9a32IqmfEUSGrztj6n.1 \nMeeting ID: 836 8965 3114\nPasscode: 680799 \nFind your local number: https://us06web.zoom.us/u/kbwU9BR9M \nIf you have any questions\, or need help\, please email us at Info-cva-pbc-gd@hrsdc-rhdcc.gc.ca or call 1-877-825-0434. \nWe look forward to seeing you at the session!
URL:https://lsnl.ca/event/canadas-volunteer-awards-qa-english-session/
LOCATION:Online
CATEGORIES:Continuing Professional Development
END:VEVENT
END:VCALENDAR