BEGIN:VCALENDAR
VERSION:2.0
PRODID:-//The Law Society of Newfoundland and Labrador - ECPv6.15.19//NONSGML v1.0//EN
CALSCALE:GREGORIAN
METHOD:PUBLISH
X-ORIGINAL-URL:https://lsnl.ca
X-WR-CALDESC:Events for The Law Society of Newfoundland and Labrador
REFRESH-INTERVAL;VALUE=DURATION:PT1H
X-Robots-Tag:noindex
X-PUBLISHED-TTL:PT1H
BEGIN:VTIMEZONE
TZID:America/St_Johns
BEGIN:DAYLIGHT
TZOFFSETFROM:-0330
TZOFFSETTO:-0230
TZNAME:NDT
DTSTART:20230312T053000
END:DAYLIGHT
BEGIN:STANDARD
TZOFFSETFROM:-0230
TZOFFSETTO:-0330
TZNAME:NST
DTSTART:20231105T043000
END:STANDARD
BEGIN:DAYLIGHT
TZOFFSETFROM:-0330
TZOFFSETTO:-0230
TZNAME:NDT
DTSTART:20240310T053000
END:DAYLIGHT
BEGIN:STANDARD
TZOFFSETFROM:-0230
TZOFFSETTO:-0330
TZNAME:NST
DTSTART:20241103T043000
END:STANDARD
BEGIN:DAYLIGHT
TZOFFSETFROM:-0330
TZOFFSETTO:-0230
TZNAME:NDT
DTSTART:20250309T053000
END:DAYLIGHT
BEGIN:STANDARD
TZOFFSETFROM:-0230
TZOFFSETTO:-0330
TZNAME:NST
DTSTART:20251102T043000
END:STANDARD
END:VTIMEZONE
BEGIN:VEVENT
DTSTART;VALUE=DATE:20240530
DTEND;VALUE=DATE:20240531
DTSTAMP:20260421T095049
CREATED:20240409T121328Z
LAST-MODIFIED:20240409T121328Z
UID:22914-1717027200-1717113599@lsnl.ca
SUMMARY:Estate Planning for Blended Families 2024
DESCRIPTION:9:00 am – 4:00 pm\nvia webinar\n\n\n\n\n\n\n—Rebroadcasts—\nOn the rebroadcast date\, you will have until midnight of that rebroadcast date to access the course. Please note that technical support will be available during regular CLEBC business hours. \nSummer Series 2024\nThursday\, July 18\, 2024\nThursday\, July 25\, 2024 \nCan’t make the webinar or rebroadcasts?\nWant online CPD available 24/7?\nSubscribe to Courses On Demand\, our comprehensive online resource with 21\,500+ videos and 5\,400+ papers from CLEBC courses. This course will be added to Courses on Demand approximately 30 days from the original course date. \n\nWho should attend: Lawyers practicing in the area of wills\, estates and trusts. This course may also be of interest to lawyers practicing in the area of family law. \nLearning level: Intermediate/Advanced \nThis course addresses the interplay between family law and estate planning\, including the often conflicting obligations presented by these two areas of law. The program will outline current trends and tools to consider when advising your clients. A portion of the course will be dedicated to unique practice and ethics considerations applicable to these areas of law. \nAfter taking this program\, you will: \n\nhave up-to-date information on agreements between spouses\nbe aware of tax issues specific to blended families\nunderstand incapacity planning\nbe up to date on wills\, trusts and inter vivos planning issues and litigation issues\n\nLaw Society of BC CPD Hours: 6 hours (this course will contain a minimum of 1 hour pertaining to professional responsibility and ethics\, client care and relations\, and/or practice management) \nCourse Chairs\nIngrid M. Tsui — Alexander Holburn Beaudin & Lang LLP\, Vancouver\nAmanda N. Winters — Farris LLP\, Vancouver \n\n\n\n\n\n\n*Please note: The in-person session is dependent on a minimum number of registrants and may not be confirmed until 4 weeks before the course date. \nAre you a member of the Indigenous legal community (lawyer/Articled Student/legal support staff/paralegal) or a non-lawyer Indigenous community member?\nWe value your contributions and encourage your participation in all of our programs. To increase accessibility\, we offer a 50% discount* to all Indigenous lawyers/Articled Students/legal support staff/paralegals and a limited number of free online registrations to non-lawyer Indigenous community members. (*discount applies to Regular prices\, not Early Bird prices). Please contact Customer Service to find out more. \nUnable to attend a course without financial assistance from CLEBC?\nClick here for bursary information. \nWant to register for a course now\, but prefer a monthly payment plan?\nCheck out our Easy Pay Plan. \nRegistration includes an electronic copy of the reference materials and lunch for in-person registration.\n\n\n\nJust want the materials from the course?\nSubscribe to Online Course Materials and access 5\,400+ papers produced for CLEBC courses since 2001. \nCLEBC Program Lawyer*\nNadia Myerthall\nnmyerthall@cle.bc.ca\n*non-practising
URL:https://lsnl.ca/event/estate-planning-for-blended-families-2024/
LOCATION:Online
CATEGORIES:Continuing Professional Development
END:VEVENT
BEGIN:VEVENT
DTSTART;TZID=America/St_Johns:20240530T140000
DTEND;TZID=America/St_Johns:20240530T150000
DTSTAMP:20260421T095049
CREATED:20240524T125039Z
LAST-MODIFIED:20240524T125039Z
UID:23281-1717077600-1717081200@lsnl.ca
SUMMARY:Canada’s Volunteer Awards Q&A - French Session
DESCRIPTION:Do you have questions about how to submit a nomination to Canada’s Volunteer Awards (CVA)? The CVA team can help! \nAn information session will take place via Zoom to answer questions about the steps for submitting a nomination using the CVA online system. \nPlease use the link below to join in the language of your choice. \nEnglish Session: Wednesday\, May 29\, 2024\, 2:00 p.m. to 3:00 p.m. (EDT) \nJoin Zoom Meeting\nhttps://us06web.zoom.us/j/84711661887?pwd=SuTBB3WFa7J0kSVNBLpc0slaj7wyc7.1 \nMeeting ID: 847 1166 1887\nPasscode: 445989 \nFind your local number: https://us06web.zoom.us/u/kbEZkF7Gxw \nFrench Session: Thursday\, May 30\, 2024\, 2:00 p.m. to 3:00 p.m. (EDT) \nJoin Zoom Meeting\nhttps://us06web.zoom.us/j/83689653114?pwd=cLwjnlxkqTsq9a32IqmfEUSGrztj6n.1 \nMeeting ID: 836 8965 3114\nPasscode: 680799 \nFind your local number: https://us06web.zoom.us/u/kbwU9BR9M \nIf you have any questions\, or need help\, please email us at Info-cva-pbc-gd@hrsdc-rhdcc.gc.ca or call 1-877-825-0434. \nWe look forward to seeing you at the session!
URL:https://lsnl.ca/event/canadas-volunteer-awards-qa-french-session/
LOCATION:Online
CATEGORIES:Continuing Professional Development
END:VEVENT
BEGIN:VEVENT
DTSTART;TZID=America/St_Johns:20240530T140000
DTEND;TZID=America/St_Johns:20240530T160000
DTSTAMP:20260421T095049
CREATED:20240514T143700Z
LAST-MODIFIED:20240514T153247Z
UID:23199-1717077600-1717084800@lsnl.ca
SUMMARY:Open Doors at Justice 2024
DESCRIPTION:Each year\, Justice Canada hosts an Open Doors at Justice event to engage in dialogue with the public and stakeholders on ways to make government more open and accessible. This year\, the Open Doors at Justice event will take place on May 30th\, 2024\, during Open Government Week (May 27th to 31st)\, a worldwide initiative that showcases transparency\, accountability\, and participation in government. This year’s 5th annual Open Doors at Justice event will focus on sharing information and hearing from Justice Canada employees who will be speaking about what they do and why their work is important to supporting Canada’s Justice System. The event is also an opportunity to promote the scope of work that Justice does and the employment opportunities available to those who may wish to join the Department. \nLearn more about this year’s Open Doors at Justice event and register here. This event is both in-person and online.
URL:https://lsnl.ca/event/open-doors-at-justice-2024/
LOCATION:Online
CATEGORIES:Continuing Professional Development
END:VEVENT
END:VCALENDAR