BEGIN:VCALENDAR
VERSION:2.0
PRODID:-//The Law Society of Newfoundland and Labrador - ECPv6.15.19//NONSGML v1.0//EN
CALSCALE:GREGORIAN
METHOD:PUBLISH
X-WR-CALNAME:The Law Society of Newfoundland and Labrador
X-ORIGINAL-URL:https://lsnl.ca
X-WR-CALDESC:Events for The Law Society of Newfoundland and Labrador
REFRESH-INTERVAL;VALUE=DURATION:PT1H
X-Robots-Tag:noindex
X-PUBLISHED-TTL:PT1H
BEGIN:VTIMEZONE
TZID:America/St_Johns
BEGIN:DAYLIGHT
TZOFFSETFROM:-0330
TZOFFSETTO:-0230
TZNAME:NDT
DTSTART:20230312T053000
END:DAYLIGHT
BEGIN:STANDARD
TZOFFSETFROM:-0230
TZOFFSETTO:-0330
TZNAME:NST
DTSTART:20231105T043000
END:STANDARD
BEGIN:DAYLIGHT
TZOFFSETFROM:-0330
TZOFFSETTO:-0230
TZNAME:NDT
DTSTART:20240310T053000
END:DAYLIGHT
BEGIN:STANDARD
TZOFFSETFROM:-0230
TZOFFSETTO:-0330
TZNAME:NST
DTSTART:20241103T043000
END:STANDARD
BEGIN:DAYLIGHT
TZOFFSETFROM:-0330
TZOFFSETTO:-0230
TZNAME:NDT
DTSTART:20250309T053000
END:DAYLIGHT
BEGIN:STANDARD
TZOFFSETFROM:-0230
TZOFFSETTO:-0330
TZNAME:NST
DTSTART:20251102T043000
END:STANDARD
END:VTIMEZONE
BEGIN:VEVENT
DTSTART;TZID=America/St_Johns:20240607T123000
DTEND;TZID=America/St_Johns:20240607T133000
DTSTAMP:20260421T082337
CREATED:20240521T144145Z
LAST-MODIFIED:20240521T144145Z
UID:23262-1717763400-1717767000@lsnl.ca
SUMMARY:Parenting Coordination by the Family Dispute Resolution Institute
DESCRIPTION:12:00 Noon AT / 12:30 PM NT\nOnline Zoom Presentation \n1 hour followed by 15 mins for further discussion with our presenter or FDRIA\nRecording will be available on demand the following week.  \nFamily dispute resolution service for parents who continue to experience significant conflict with a co-parent. \nABSTRACT This webinar is for family law professionals who work with parents epxperiencing significant conflict in co-parenitng and implementing their parening plan often resulting in continuous court motions.  \nWhen children are exposed to ongoing conflict between their parents\, they are at risk for social and mental health problems\, and may experience more difficulty with their own intimate relationships in the long term.  Parenting coordination can help to reduce parents’ conflict and may provide respite from exposure to their parents’ conflict. \nParenting coordination combines education\, coaching\, mediation and where necessary\, arbitration\, to interpret the parenting plan related to day-to-day decisions. The Parenting Coordinator provides information\, effective tools and strategies for parents to improve their co-parent dynamic and communication to provide parents and children some respite from conflict. In some cases\, the role of the parenting coordinator is to disengage the parents completely. \nHilary Linton is a senior family lawyer\, mediator\, parenting coordinator and arbitrator. She founded Riverdale Mediation after litigating family and civil matters for 14 years including as a partner in a Toronto boutique law firm. Riverdale’s team of highly skilled family mediators\, parenting coordinators and arbitrators resolve high conflict and challenging disputes. Riverdale is also internationally known for its high calibre online training programs in Family Dispute Resolution. \nRegister here\nRequest access to a recorded webinar \nLearn more about MDW Law Mediation Training
URL:https://lsnl.ca/event/parenting-coordination-by-the-family-dispute-resolution-institute/
LOCATION:Online
CATEGORIES:Continuing Professional Development
END:VEVENT
END:VCALENDAR