BEGIN:VCALENDAR
VERSION:2.0
PRODID:-//The Law Society of Newfoundland and Labrador - ECPv6.15.19//NONSGML v1.0//EN
CALSCALE:GREGORIAN
METHOD:PUBLISH
X-WR-CALNAME:The Law Society of Newfoundland and Labrador
X-ORIGINAL-URL:https://lsnl.ca
X-WR-CALDESC:Events for The Law Society of Newfoundland and Labrador
REFRESH-INTERVAL;VALUE=DURATION:PT1H
X-Robots-Tag:noindex
X-PUBLISHED-TTL:PT1H
BEGIN:VTIMEZONE
TZID:America/St_Johns
BEGIN:DAYLIGHT
TZOFFSETFROM:-0330
TZOFFSETTO:-0230
TZNAME:NDT
DTSTART:20230312T053000
END:DAYLIGHT
BEGIN:STANDARD
TZOFFSETFROM:-0230
TZOFFSETTO:-0330
TZNAME:NST
DTSTART:20231105T043000
END:STANDARD
BEGIN:DAYLIGHT
TZOFFSETFROM:-0330
TZOFFSETTO:-0230
TZNAME:NDT
DTSTART:20240310T053000
END:DAYLIGHT
BEGIN:STANDARD
TZOFFSETFROM:-0230
TZOFFSETTO:-0330
TZNAME:NST
DTSTART:20241103T043000
END:STANDARD
BEGIN:DAYLIGHT
TZOFFSETFROM:-0330
TZOFFSETTO:-0230
TZNAME:NDT
DTSTART:20250309T053000
END:DAYLIGHT
BEGIN:STANDARD
TZOFFSETFROM:-0230
TZOFFSETTO:-0330
TZNAME:NST
DTSTART:20251102T043000
END:STANDARD
END:VTIMEZONE
BEGIN:VEVENT
DTSTART;TZID=America/St_Johns:20240611T110000
DTEND;TZID=America/St_Johns:20240611T123000
DTSTAMP:20260421T082523
CREATED:20240606T154803Z
LAST-MODIFIED:20240606T154803Z
UID:23374-1718103600-1718109000@lsnl.ca
SUMMARY:A Climb to the Summit of Mont-Tremblant\, with the project ‘’Toucher le Sommet’’ - Webinar
DESCRIPTION:The Youth and Indigenous Justice Division\, Family Law and Youth Justice Section\, of the Department of Justice Canada invites you to participate in a webinar on: \nA Climb to the Summit of Mont-Tremblant\, with the project ‘’Toucher le Sommet’’ \n11:00 to 12:30 p.m. (Eastern Daylight Time) \nPerseverance and working towards a goal culminates in a climb to the summit of Mont-Tremblant. In this webinar\, the winners of the 2023 National Youth Justice Policing Award will share their experience dealing with youth who have been found guilty of their first criminal offence\, and face various challenges and risks. \nThe presenter will discuss the spectrum of youth justice approaches available in these situations. She will also discuss her police service’s initiative\, “Toucher le Sommet”\, where police officers mentor youth through sports and games\, over the course of then weeks\, to support their rehabilitation and reintegration into the community in the City of Saint-Eustache. \nFor her work on “Project Toucher le Sommet”\,  Constable Jessica Bonneville was awarded the Minister of Justice National Youth Justice Policing Award in 2023. \nPresenter \nConstable Jessica Bonneville joined the Saint-Eustache Police Service in 2020 as a patrol officer. In 2022\, she was assigned as a police educator at École secondaire des Patriotes\, where she organized and promoted “Toucher le Sommet” to young people and partner organizations. \nRegistration Details \nThere is no cost to attend the webinar\, but registration is required by June 6th\, 2024.  \n To register on JUScampus\, please use: \nA climb to the summit of Mont-Tremblant\, with the project ‘’Toucher le Sommet’’ (justice.gc.ca) \nOtherwise\, please use:  \nWebinaire: Une escalade au sommet du Mont-Tremblant\, avec le projet « Toucher le Sommet » / Webinar: A climb to the summit of Mont-Tremblant\, with the project ‘’Toucher le Sommet’’ \nFor information about the continuing professional development (CPD) hours for this course\, please consult the 2024 Accreditation Summary. \nThis webinar will be delivered in French with simultaneous interpretation in English.  Viewers are invited to submit questions for the presenter in either official language.
URL:https://lsnl.ca/event/a-climb-to-the-summit-of-mont-tremblant-with-the-project-toucher-le-sommet-webinar/
LOCATION:Online
CATEGORIES:Continuing Professional Development
END:VEVENT
END:VCALENDAR