BEGIN:VCALENDAR
VERSION:2.0
PRODID:-//The Law Society of Newfoundland and Labrador - ECPv6.15.19//NONSGML v1.0//EN
CALSCALE:GREGORIAN
METHOD:PUBLISH
X-ORIGINAL-URL:https://lsnl.ca
X-WR-CALDESC:Events for The Law Society of Newfoundland and Labrador
REFRESH-INTERVAL;VALUE=DURATION:PT1H
X-Robots-Tag:noindex
X-PUBLISHED-TTL:PT1H
BEGIN:VTIMEZONE
TZID:America/St_Johns
BEGIN:DAYLIGHT
TZOFFSETFROM:-0330
TZOFFSETTO:-0230
TZNAME:NDT
DTSTART:20230312T053000
END:DAYLIGHT
BEGIN:STANDARD
TZOFFSETFROM:-0230
TZOFFSETTO:-0330
TZNAME:NST
DTSTART:20231105T043000
END:STANDARD
BEGIN:DAYLIGHT
TZOFFSETFROM:-0330
TZOFFSETTO:-0230
TZNAME:NDT
DTSTART:20240310T053000
END:DAYLIGHT
BEGIN:STANDARD
TZOFFSETFROM:-0230
TZOFFSETTO:-0330
TZNAME:NST
DTSTART:20241103T043000
END:STANDARD
BEGIN:DAYLIGHT
TZOFFSETFROM:-0330
TZOFFSETTO:-0230
TZNAME:NDT
DTSTART:20250309T053000
END:DAYLIGHT
BEGIN:STANDARD
TZOFFSETFROM:-0230
TZOFFSETTO:-0330
TZNAME:NST
DTSTART:20251102T043000
END:STANDARD
END:VTIMEZONE
BEGIN:VEVENT
DTSTART;TZID=America/St_Johns:20240617T090000
DTEND;TZID=America/St_Johns:20240617T123000
DTSTAMP:20260421T082602
CREATED:20240409T122157Z
LAST-MODIFIED:20240409T122157Z
UID:22922-1718614800-1718627400@lsnl.ca
SUMMARY:Current Issues in Social Media and Copyright Law 2024
DESCRIPTION:9:00 am – 12:30 pm\nvia webinar only\n\n\n\n\n\n\n—Rebroadcasts—\nOn the rebroadcast date\, you will have until midnight of that rebroadcast date to access the course. Please note that technical support will be available during regular CLEBC business hours. \nSummer Series 2024\nWednesday\, July 17\, 2024\nWednesday\, July 24\, 2024 \nCan’t make the webinar or rebroadcasts?\nWant online CPD available 24/7?\nSubscribe to Courses On Demand\, our comprehensive online resource with 1\,500+ videos and 5\,400+ papers from CLEBC courses. This course will be added to Courses on Demand approximately 30 days from the original course date. \nWho should attend: Any lawyers interested in learning about the interaction between social media\, copyright\, and the law \nLearning level: All levels \nThis panel of media lawyers/scholars will discuss various challenging legal questions that have recently emerged on the social media landscape in the sphere of copyright law. The course will be broken down into three main segments\, with time for a Q&A at the end. \nThe course will discuss: \n1. Copyright law issues with generative AI \n\nwhen are generative AI tools responsible for copyright infringement?\nwhen do works created through generative AI tools receive copyright protection?\nwhat do lawyers need to know when advising clients on the use of generative AI tools?\n\n2. The law of YouTube and social media platforms \n\nto what extent does contract law replace copyright on social media platforms?\nwhat issues does this raise with respect to the legitimacy of dispute resolution procedures\, Charter protections\, and other legal rights?\nwhat is the current legal framework for Influencer Marketing Disclosures in Canada?\n\n3. Impacts of copyright law on marginalized groups \n\nhow does copyright law address the creation of accessible versions of works for persons with disabilities?\nhow can copyright law better meet the needs of Indigenous communities with respect to the protection of traditional knowledge and traditional cultural expression?\nhow does copyright law affect whose voices are being heard?\n\nLaw Society of BC CPD Hours: 3 hours (this course does not contain professional responsibility and ethics\, client care and relations\, and/or practice management) \nCourse Instructors\nJon Festinger\, KC (he/him) — Of Counsel\, Chandler\, Fogden\, Lyman Law Corporation and Adjunct Professor\, Peter A. Allard School of Law\, UBC\, Vancouver\nRowan Meredith (she/her) — Lawyer\, Delta \n\n\n\nAre you a member of the Indigenous legal community (lawyer/Articled Student/legal support staff/paralegal) or a non-lawyer Indigenous community member?\nWe value your contributions and encourage your participation in all of our programs. To increase accessibility\, we offer a 50% discount* to all Indigenous lawyers/Articled Students/legal support staff/paralegals and a limited number of free online registrations to non-lawyer Indigenous community members. (*discount applies to Regular prices\, not Early Bird prices). Please contact Customer Service to find out more. \nUnable to attend a course without financial assistance from CLEBC?\nClick here for bursary information. \nWant to register for a course now\, but prefer a monthly payment plan?\nCheck out our Easy Pay Plan. \nRegistration includes an electronic copy of the reference materials.\n\n\n\nCLEBC Programs Coordinator\nDarsey Meredith\ndarseym@cle.bc.ca
URL:https://lsnl.ca/event/current-issues-in-social-media-and-copyright-law-2024/
LOCATION:Online
CATEGORIES:Continuing Professional Development
END:VEVENT
BEGIN:VEVENT
DTSTART;TZID=America/St_Johns:20240617T130000
DTEND;TZID=America/St_Johns:20240617T153000
DTSTAMP:20260421T082602
CREATED:20240516T182944Z
LAST-MODIFIED:20240516T182944Z
UID:23238-1718629200-1718638200@lsnl.ca
SUMMARY:An Exclusive Insight: Marie Henein's Legal Expertise Comes to CBA-NL
DESCRIPTION:The Canadian Bar Association – Newfoundland and Labrador (CBA-NL) is thrilled to announce that Marie Henein will be joining them for an exclusive presentation on June 17th at 1:00pm. Widely acknowledged as one of Canada’s foremost litigators\, Ms. Henein brings a wealth of experience as lead counsel in high-profile criminal\, civil\, and regulatory cases. Her legal acumen extends beyond criminal law\, encompassing representation of both plaintiffs and defendants in class actions and major civil and commercial disputes. With appearances at all levels of court\, including the Ontario Court of Appeal and the Supreme Court of Canada\, Ms. Henein’s insights promise to offer a unique perspective to attendees. \nDate: June 17\, 2024\nTime: 1:00pm – 3:30pm\nLocation: 3rd Floor of The Law Society of Newfoundland and Labrador. 196-198 Water St.\nPD Hours 2 Hours \n\n\nMEMBER DISCOUNT\nCBA Member $86.25 ($75+tax)\nNon-CBA Member $115 ($100+tax) for non members \nPD Hours 2. Registration includes a signed copy of Marie’s memoir “Nothing But The Truth”. \nPAYMENT\nPayment can be submitted by emt to cba-nl@cba.org or by cheque\, payable to the Canadian Bar Association – NL Branch\, noting the registrants name(s). \nMail to: Canadian Bar Association – NL Branch\, 55 Elizabeth Avenue\, Box 16\, St. John’s\, NL A1A 1W9.
URL:https://lsnl.ca/event/an-exclusive-insight-marie-heneins-legal-expertise-comes-to-cba-nl/
LOCATION:3rd Floor\, Law Society Building\, 196-198 Water Street\, St. John’s\, Canada
CATEGORIES:Continuing Professional Development
END:VEVENT
END:VCALENDAR