BEGIN:VCALENDAR
VERSION:2.0
PRODID:-//The Law Society of Newfoundland and Labrador - ECPv6.15.19//NONSGML v1.0//EN
CALSCALE:GREGORIAN
METHOD:PUBLISH
X-ORIGINAL-URL:https://lsnl.ca
X-WR-CALDESC:Events for The Law Society of Newfoundland and Labrador
REFRESH-INTERVAL;VALUE=DURATION:PT1H
X-Robots-Tag:noindex
X-PUBLISHED-TTL:PT1H
BEGIN:VTIMEZONE
TZID:America/St_Johns
BEGIN:DAYLIGHT
TZOFFSETFROM:-0330
TZOFFSETTO:-0230
TZNAME:NDT
DTSTART:20230312T053000
END:DAYLIGHT
BEGIN:STANDARD
TZOFFSETFROM:-0230
TZOFFSETTO:-0330
TZNAME:NST
DTSTART:20231105T043000
END:STANDARD
BEGIN:DAYLIGHT
TZOFFSETFROM:-0330
TZOFFSETTO:-0230
TZNAME:NDT
DTSTART:20240310T053000
END:DAYLIGHT
BEGIN:STANDARD
TZOFFSETFROM:-0230
TZOFFSETTO:-0330
TZNAME:NST
DTSTART:20241103T043000
END:STANDARD
BEGIN:DAYLIGHT
TZOFFSETFROM:-0330
TZOFFSETTO:-0230
TZNAME:NDT
DTSTART:20250309T053000
END:DAYLIGHT
BEGIN:STANDARD
TZOFFSETFROM:-0230
TZOFFSETTO:-0330
TZNAME:NST
DTSTART:20251102T043000
END:STANDARD
END:VTIMEZONE
BEGIN:VEVENT
DTSTART;TZID=America/St_Johns:20240618T100000
DTEND;TZID=America/St_Johns:20240618T120000
DTSTAMP:20260421T082828
CREATED:20240603T163540Z
LAST-MODIFIED:20240603T170749Z
UID:23333-1718704800-1718712000@lsnl.ca
SUMMARY:The Law Society: The Regulation of the Legal Profession in NL
DESCRIPTION:Webinar (Online Only) \nSeminar Overview:           \nJoin us for a free seminar regarding the Law Society and the regulation of the legal profession in Newfoundland and Labrador. This session will explore the role of the Law Society\, detailing its governance structure and providing an overview of its operations related to matters involving discipline\, practice management\, education/admissions\, and custodianships. Whether you are a seasoned lawyer or new to the profession\, this seminar offers valuable knowledge to enhance your practice and ensure compliance with regulatory standards. Don’t miss this opportunity to stay informed and engaged with the key aspects of legal regulation in our province. \nSeminar Presenters \nLori Chafe – Director of Professional Responsibility \nChristian Hurley – Director of Admissions and Education \nAimee Rowe – Deputy Executive Director and General Counsel \nNakita Ryan – Director of Custodianships \nAngie Whitehead – Director of Practice Management \n  \nNo Registration Fee \n  \nTo register for this seminar\, please click here. \nCPD Credit:   2 hours
URL:https://lsnl.ca/event/the-law-society-the-regulation-of-the-legal-profession-in-nl/
LOCATION:Online
CATEGORIES:Continuing Professional Development
ORGANIZER;CN="Law Society of Newfoundland & Labrador":MAILTO:churley@lsnl.ca
END:VEVENT
BEGIN:VEVENT
DTSTART;TZID=America/St_Johns:20240618T120000
DTEND;TZID=America/St_Johns:20240618T130000
DTSTAMP:20260421T082828
CREATED:20240528T144407Z
LAST-MODIFIED:20240528T155110Z
UID:23303-1718712000-1718715600@lsnl.ca
SUMMARY:Generative AI: The Future is Here by Thomson Reuters
DESCRIPTION:Webcast Time\n12PM EDT \nThe future is here – The power of generative AI is now available for legal professionals in Canada. \nYou’ve been hearing about how generative AI is likely to have a big impact on the way legal professionals work\, and now you can experience it for yourself.\nThis is just the beginning of our generative AI journey. Join our upcoming webinar to learn how Thomson Reuters is using generative AI-powered CoCounsel skills to jumpstart legal research on Westlaw Edge Canada and accelerate key legal tasks with CoCounsel Core. \nRegister here.
URL:https://lsnl.ca/event/generative-ai-the-future-is-here-by-thomson-reuters/
LOCATION:Online
CATEGORIES:Continuing Professional Development
END:VEVENT
END:VCALENDAR