BEGIN:VCALENDAR
VERSION:2.0
PRODID:-//The Law Society of Newfoundland and Labrador - ECPv6.15.19//NONSGML v1.0//EN
CALSCALE:GREGORIAN
METHOD:PUBLISH
X-WR-CALNAME:The Law Society of Newfoundland and Labrador
X-ORIGINAL-URL:https://lsnl.ca
X-WR-CALDESC:Events for The Law Society of Newfoundland and Labrador
REFRESH-INTERVAL;VALUE=DURATION:PT1H
X-Robots-Tag:noindex
X-PUBLISHED-TTL:PT1H
BEGIN:VTIMEZONE
TZID:America/St_Johns
BEGIN:DAYLIGHT
TZOFFSETFROM:-0330
TZOFFSETTO:-0230
TZNAME:NDT
DTSTART:20230312T053000
END:DAYLIGHT
BEGIN:STANDARD
TZOFFSETFROM:-0230
TZOFFSETTO:-0330
TZNAME:NST
DTSTART:20231105T043000
END:STANDARD
BEGIN:DAYLIGHT
TZOFFSETFROM:-0330
TZOFFSETTO:-0230
TZNAME:NDT
DTSTART:20240310T053000
END:DAYLIGHT
BEGIN:STANDARD
TZOFFSETFROM:-0230
TZOFFSETTO:-0330
TZNAME:NST
DTSTART:20241103T043000
END:STANDARD
BEGIN:DAYLIGHT
TZOFFSETFROM:-0330
TZOFFSETTO:-0230
TZNAME:NDT
DTSTART:20250309T053000
END:DAYLIGHT
BEGIN:STANDARD
TZOFFSETFROM:-0230
TZOFFSETTO:-0330
TZNAME:NST
DTSTART:20251102T043000
END:STANDARD
END:VTIMEZONE
BEGIN:VEVENT
DTSTART;VALUE=DATE:20240619
DTEND;VALUE=DATE:20240622
DTSTAMP:20260421T082414
CREATED:20240226T141752Z
LAST-MODIFIED:20240226T141752Z
UID:22648-1718755200-1719014399@lsnl.ca
SUMMARY:Screening – Best Practices for Identifying and Managing Power Imbalances and Family Violence by MDW Mediation
DESCRIPTION:Dates: June 19-21\, 2024 (21 hours) \nCost: $1\,000 \nMulti-course discount: Deduct $100 off the price of your second\, and each subsequent\, course. \nPre-requisites: Law degree or mental health professional\, unless otherwise approved. \n\nAcquire skills to identify and assess power imbalances and family violence for safer and more effective family dispute resolution.\nScreening is an essential first step when engaging in any family dispute resolution process. This three day in-person session will use lectures\, group discussions\, and role plays to help you to: \n\nUnderstand and identify power imbalances and family violence\nRecognize the impacts that power imbalances and family violence can have in families and dispute resolution processes\nConsider how diversity of various types may impact power imbalances\nUse screening tools\nAssess and manage risk\nDesign a safer process\nEngage in safety planning\nPrepare for a safe termination\n\nEnroll now at mediationinfo@mdwlaw.ca
URL:https://lsnl.ca/event/screening-best-practices-for-identifying-and-managing-power-imbalances-and-family-violence-by-mdw-mediation/
LOCATION:Online
CATEGORIES:Continuing Professional Development
END:VEVENT
BEGIN:VEVENT
DTSTART;TZID=America/St_Johns:20240619T090000
DTEND;TZID=America/St_Johns:20240619T120000
DTSTAMP:20260421T082414
CREATED:20240409T122455Z
LAST-MODIFIED:20240409T122455Z
UID:22924-1718787600-1718798400@lsnl.ca
SUMMARY:Introduction to Financial Statements for Legal Professionals 2024
DESCRIPTION:Everything you need to know about financial statements in a legal environment \n9:00 am – 12:00 pm\nvia webinar only \n—Rebroadcasts—\nOn the rebroadcast date\, you will have until midnight of that rebroadcast date to access the course. Please note that technical support will be available during regular CLEBC business hours. \nSummer Series 2024\nMonday\, July 15\, 2024\nMonday\, July 22\, 2024 \nCan’t make the webinar or rebroadcasts?\nWant online CPD available 24/7?\nSubscribe to Courses On Demand\, our comprehensive online resource with 1\,500+ videos and 5\,400+ papers from CLEBC courses. This course will be added to Courses on Demand approximately 30 days from the original course date. \nWho should attend: Corporate/commercial lawyers and business litigators new to this area and from all Canadian jurisdictions; this course is also of interest to legal staff who deal with financial statements and family law practitioners \nLearning level: Fundamental \nBeing able to understand and use financial statements is a critical skill to have in order to give effective advice to your business or family law clients. \nAt this introductory workshop\, Chartered Professional Accountants experienced in working with lawyers will teach you basic accounting concepts\, along with what financial statements reveal about a company’s performance and viability. \nYou will also learn what financial statements do not tell you. You will increase confidence in your ability to review financial statements\, explain them to your clients\, and use them to benefit your negotiations or case. Popular and well-loved\, this course is as a past attendee said “one of the most effective CLEs that I have attended.” \nAfter taking this course\, you will be able to: \n\nunderstand the principles involved in creating a set of financial statements\nassess the financial position and operating performance of a company after reading a set of financial statements\nrecognize the different types of public accountant reports and the reliance that can be placed on each\n\nJoin us to better understand financial statements today! \nLaw Society of BC CPD Hours: 3 hours (this course will contain a minimum of 1 hour pertaining to professional responsibility and ethics\, client care and relations\, and/or practice management) \nCourse Chair\nAndrew Mackenzie\, CPA\, CA\, CBV — Blair Mackay Mynett Valuations Inc.\, Vancouver \n\n\n\nAre you a member of the Indigenous legal community (lawyer/Articled Student/legal support staff/paralegal) or a non-lawyer Indigenous community member?\nWe value your contributions and encourage your participation in all of our programs. To increase accessibility\, we offer a 50% discount* to all Indigenous lawyers/Articled Students/legal support staff/paralegals and a limited number of free online registrations to non-lawyer Indigenous community members. (*discount applies to Regular prices\, not Early Bird prices). Please contact Customer Service to find out more. \nUnable to attend a course without financial assistance from CLEBC?\nClick here for bursary information. \nWant to register for a course now\, but prefer a monthly payment plan?\nCheck out our Easy Pay Plan. \nRegistration includes an electronic copy of the reference materials.\n\n\n\nJust want the materials from the course?\nSubscribe to Online Course Materials and access 5\,400+ papers produced for CLEBC courses since 2001. \nCLEBC Programs Coordinator\nJessica Hodgins\njhodgins@cle.bc.ca
URL:https://lsnl.ca/event/introduction-to-financial-statements-for-legal-professionals-2024/
LOCATION:Online
CATEGORIES:Continuing Professional Development
END:VEVENT
BEGIN:VEVENT
DTSTART;TZID=America/St_Johns:20240619T130000
DTEND;TZID=America/St_Johns:20240619T160000
DTSTAMP:20260421T082414
CREATED:20240506T173923Z
LAST-MODIFIED:20240506T173923Z
UID:23142-1718802000-1718812800@lsnl.ca
SUMMARY:Insurance Law Basics 2024
DESCRIPTION:via webinar only \n—Rebroadcasts—\nOn the rebroadcast date\, you will have until midnight of that rebroadcast date to access the course. Please note that technical support will be available during regular CLEBC business hours. \nCan’t make the webinar or rebroadcasts?\nWant online CPD available 24/7?\nSubscribe to Courses On Demand\, our comprehensive online resource with 1\,500+ videos and 5\,400+ papers from CLEBC courses. This course will be added to Courses on Demand approximately 30 days from the original course date. \nWho should attend: Plaintiff counsel\, defence counsel\, corporate counsel\, in-house counsel\, claim managers\, senior claims executives\, mediators\, arbitrators\, underwriters\, and insurance adjusters \nLearning level: Fundamental \nThis course is CLEBC’s primer on the essentials of insurance law. Insurance contracts are not just another type of contract—there are numerous unique features with insurance law contracts: declarations\, insuring agreements\, definitions\, exclusions and conditions\, and endorsements. \nThis course will cover critical elements of insurance contracts\, such as the insuring agreement and the rules regarding exclusions. Also covered will be duty to defend and the implications of the tripartite relationship between insurer\, insured\, and defence counsel. \nThis half-day program is an essential introduction for solicitors and litigators to what they really need to know to navigate insurance contracts and insurance law generally. \nLaw Society of BC CPD Hours: 3 hours (this course will contain a minimum of .5 hours pertaining to professional responsibility and ethics\, client care and relations\, and/or practice management). Please note: The CPD hours of the rebroadcast will either meet or exceed the CPD hours of the original live webinar course. \nCourse Chairs\nRoger Tangry — Lindsay LLP\, Vancouver\nScott W. Urquhart — Senior Legal Counsel\, Legal Department – Claims\, Intact Insurance\, Vancouver
URL:https://lsnl.ca/event/insurance-law-basics-2024/
LOCATION:Online
CATEGORIES:Continuing Professional Development
END:VEVENT
END:VCALENDAR