BEGIN:VCALENDAR
VERSION:2.0
PRODID:-//The Law Society of Newfoundland and Labrador - ECPv6.15.19//NONSGML v1.0//EN
CALSCALE:GREGORIAN
METHOD:PUBLISH
X-WR-CALNAME:The Law Society of Newfoundland and Labrador
X-ORIGINAL-URL:https://lsnl.ca
X-WR-CALDESC:Events for The Law Society of Newfoundland and Labrador
REFRESH-INTERVAL;VALUE=DURATION:PT1H
X-Robots-Tag:noindex
X-PUBLISHED-TTL:PT1H
BEGIN:VTIMEZONE
TZID:America/St_Johns
BEGIN:DAYLIGHT
TZOFFSETFROM:-0330
TZOFFSETTO:-0230
TZNAME:NDT
DTSTART:20230312T053000
END:DAYLIGHT
BEGIN:STANDARD
TZOFFSETFROM:-0230
TZOFFSETTO:-0330
TZNAME:NST
DTSTART:20231105T043000
END:STANDARD
BEGIN:DAYLIGHT
TZOFFSETFROM:-0330
TZOFFSETTO:-0230
TZNAME:NDT
DTSTART:20240310T053000
END:DAYLIGHT
BEGIN:STANDARD
TZOFFSETFROM:-0230
TZOFFSETTO:-0330
TZNAME:NST
DTSTART:20241103T043000
END:STANDARD
BEGIN:DAYLIGHT
TZOFFSETFROM:-0330
TZOFFSETTO:-0230
TZNAME:NDT
DTSTART:20250309T053000
END:DAYLIGHT
BEGIN:STANDARD
TZOFFSETFROM:-0230
TZOFFSETTO:-0330
TZNAME:NST
DTSTART:20251102T043000
END:STANDARD
END:VTIMEZONE
BEGIN:VEVENT
DTSTART;VALUE=DATE:20240619
DTEND;VALUE=DATE:20240622
DTSTAMP:20260421T081803
CREATED:20240226T141752Z
LAST-MODIFIED:20240226T141752Z
UID:22648-1718755200-1719014399@lsnl.ca
SUMMARY:Screening – Best Practices for Identifying and Managing Power Imbalances and Family Violence by MDW Mediation
DESCRIPTION:Dates: June 19-21\, 2024 (21 hours) \nCost: $1\,000 \nMulti-course discount: Deduct $100 off the price of your second\, and each subsequent\, course. \nPre-requisites: Law degree or mental health professional\, unless otherwise approved. \n\nAcquire skills to identify and assess power imbalances and family violence for safer and more effective family dispute resolution.\nScreening is an essential first step when engaging in any family dispute resolution process. This three day in-person session will use lectures\, group discussions\, and role plays to help you to: \n\nUnderstand and identify power imbalances and family violence\nRecognize the impacts that power imbalances and family violence can have in families and dispute resolution processes\nConsider how diversity of various types may impact power imbalances\nUse screening tools\nAssess and manage risk\nDesign a safer process\nEngage in safety planning\nPrepare for a safe termination\n\nEnroll now at mediationinfo@mdwlaw.ca
URL:https://lsnl.ca/event/screening-best-practices-for-identifying-and-managing-power-imbalances-and-family-violence-by-mdw-mediation/
LOCATION:Online
CATEGORIES:Continuing Professional Development
END:VEVENT
BEGIN:VEVENT
DTSTART;VALUE=DATE:20240621
DTEND;VALUE=DATE:20240622
DTSTAMP:20260421T081803
CREATED:20240409T122625Z
LAST-MODIFIED:20240409T122625Z
UID:22926-1718928000-1719014399@lsnl.ca
SUMMARY:Advanced Conveyancing Topics for Paralegals and Legal Support Staff 2024
DESCRIPTION:It’s more than just a “title”— sharpen your skills so you can recognize and deal with the exceptions! \nFriday\, June 21\, 2024\n9:00 am – 4:00 pm\nvia webinar only \n—Rebroadcasts—\nOn the rebroadcast date\, you will have until midnight of that rebroadcast date to access the course. Please note that technical support will be available during regular CLEBC business hours. \nSummer Series 2024\nFriday\, July 19\, 2024\nFriday\, July 26\, 2024 \nCan’t make the webinar or rebroadcasts?\nWant online CPD available 24/7?\nSubscribe to Courses On Demand\, our comprehensive online resource with 1\,500+ videos and 5\,400+ papers from CLEBC courses. This course will be added to Courses on Demand approximately 30 days from the original course date. \nWho should attend: Experienced conveyancing professionals including paralegals\, legal assistants\, and other legal support staff; the course may also be of interest to lawyers practicing in the area of residential conveyancing and to real estate agents \nLearning level: Advanced \nConveyancing is like the English language—there is an exception to every rule. Keeping knowledgeable in your busy practice will make you an invaluable asset to your firm. \nIn this course\, our senior faculty will focus on a variety of advanced issues faced by conveyancers every day\, including many hot topics. \nA senior conveyancer will be on hand to answer any questions and comment on her experience with many of the topics that will be discussed throughout the day. \nLaw Society of BC CPD Hours: 5.5 hours (this course will contain a minimum of 1 hour pertaining to professional responsibility and ethics\, client care and relations\, and/or practice management) \nCourse Chair\nDick H.K. Chan — Spagnuolo & Company LLP\, Coquitlam \n\n\n\nAre you a member of the Indigenous legal community (lawyer/Articled Student/legal support staff/paralegal) or a non-lawyer Indigenous community member?\nWe value your contributions and encourage your participation in all of our programs. To increase accessibility\, we offer a 50% discount* to all Indigenous lawyers/Articled Students/legal support staff/paralegals and a limited number of free online registrations to non-lawyer Indigenous community members. (*discount applies to Regular prices\, not Early Bird prices). Please contact Customer Service to find out more. \nUnable to attend a course without financial assistance from CLEBC?\nClick here for bursary information. \nWant to register for a course now\, but prefer a monthly payment plan?\nCheck out our Easy Pay Plan. \nRegistration includes an electronic copy of the reference materials.\n\n\n\nJust want the materials from the course?\nSubscribe to Online Course Materials and access 5\,400+ papers produced for CLEBC courses since 2001. \nCLEBC Programs Coordinator\nJessica Hodgins\njhodgins@cle.bc.ca
URL:https://lsnl.ca/event/advanced-conveyancing-topics-for-paralegals-and-legal-support-staff-2024/
LOCATION:Online
CATEGORIES:Continuing Professional Development
END:VEVENT
BEGIN:VEVENT
DTSTART;TZID=America/St_Johns:20240621T090000
DTEND;TZID=America/St_Johns:20240621T110000
DTSTAMP:20260421T081803
CREATED:20240521T120731Z
LAST-MODIFIED:20240521T120731Z
UID:23248-1718960400-1718967600@lsnl.ca
SUMMARY:Cross-Examination of Witnesses Through Interpreters 2024
DESCRIPTION:Don’t let your cross get lost in translation!\n\n\n\n\n\n\n\nCan’t make the webinar or rebroadcasts?\nWant online CPD available 24/7?\nSubscribe to Courses On Demand\, our comprehensive online resource with 1\,500+ videos and 5\,400+ papers from CLEBC courses. This course will be added to Courses on Demand approximately 30 days from the original course date. \nWho should attend: Litigation lawyers in all practice areas: civil\, criminal\, family\, and commercial who face opposing witnesses who will testify through an interpreter \nLearning level: Intermediate \nLawyers in BC represent clients in a multicultural and multilingual environment. Litigation lawyers\, across practice areas\, often must conduct examinations for discovery and trials where witnesses give evidence through an interpreter. \nIn this two-hour session\, panelists Scott Turner\, David Taylor\, and Nerissa Yan will provide their insight into the legal\, ethical\, and practical challenges and considerations on how to effectively collect and test evidence through the use of interpreters. \nThis course has ethics and professionalism components.
URL:https://lsnl.ca/event/cross-examination-of-witnesses-through-interpreters-2024/
LOCATION:Online
CATEGORIES:Continuing Professional Development
END:VEVENT
END:VCALENDAR