BEGIN:VCALENDAR
VERSION:2.0
PRODID:-//The Law Society of Newfoundland and Labrador - ECPv6.15.19//NONSGML v1.0//EN
CALSCALE:GREGORIAN
METHOD:PUBLISH
X-ORIGINAL-URL:https://lsnl.ca
X-WR-CALDESC:Events for The Law Society of Newfoundland and Labrador
REFRESH-INTERVAL;VALUE=DURATION:PT1H
X-Robots-Tag:noindex
X-PUBLISHED-TTL:PT1H
BEGIN:VTIMEZONE
TZID:America/St_Johns
BEGIN:DAYLIGHT
TZOFFSETFROM:-0330
TZOFFSETTO:-0230
TZNAME:NDT
DTSTART:20230312T053000
END:DAYLIGHT
BEGIN:STANDARD
TZOFFSETFROM:-0230
TZOFFSETTO:-0330
TZNAME:NST
DTSTART:20231105T043000
END:STANDARD
BEGIN:DAYLIGHT
TZOFFSETFROM:-0330
TZOFFSETTO:-0230
TZNAME:NDT
DTSTART:20240310T053000
END:DAYLIGHT
BEGIN:STANDARD
TZOFFSETFROM:-0230
TZOFFSETTO:-0330
TZNAME:NST
DTSTART:20241103T043000
END:STANDARD
BEGIN:DAYLIGHT
TZOFFSETFROM:-0330
TZOFFSETTO:-0230
TZNAME:NDT
DTSTART:20250309T053000
END:DAYLIGHT
BEGIN:STANDARD
TZOFFSETFROM:-0230
TZOFFSETTO:-0330
TZNAME:NST
DTSTART:20251102T043000
END:STANDARD
END:VTIMEZONE
BEGIN:VEVENT
DTSTART;TZID=America/St_Johns:20240703T090000
DTEND;TZID=America/St_Johns:20240703T120000
DTSTAMP:20260421T083409
CREATED:20240514T170305Z
LAST-MODIFIED:20240514T170434Z
UID:23201-1719997200-1720008000@lsnl.ca
SUMMARY:Animals and the Law 2024
DESCRIPTION:(REPLAY) \n\n\nDescription \n\nAnimal Law is now recognized as an important and evolving area of practice as companion animals become subject to custody disputes\, and service providers – including animal welfare and entertainment venues – face litigation challenges or legislative changes to their activities. While many North American law schools begin to carve out academic and research space for this developing area\, our half-day program helps you to get a handle on the key issues involved. Join us to learn more. \n\nLearn about the intersection of animal law with other areas of legal practice\nEvaluate the distinctions between sentient beings vs. other inanimate forms of property\nFind out about recent case law in respect to this emerging area of law\n\nABOUT LIVE WEBCAST REPLAYS WITH LIVE CHAT \nThis live webcast replay contains an online chat feature that allows you to view the previously broadcast program and interact\, share ideas\, and exchange comments with fellow registrants online.
URL:https://lsnl.ca/event/animals-and-the-law-2024/
LOCATION:Online
CATEGORIES:Continuing Professional Development
END:VEVENT
END:VCALENDAR