BEGIN:VCALENDAR
VERSION:2.0
PRODID:-//The Law Society of Newfoundland and Labrador - ECPv6.15.19//NONSGML v1.0//EN
CALSCALE:GREGORIAN
METHOD:PUBLISH
X-ORIGINAL-URL:https://lsnl.ca
X-WR-CALDESC:Events for The Law Society of Newfoundland and Labrador
REFRESH-INTERVAL;VALUE=DURATION:PT1H
X-Robots-Tag:noindex
X-PUBLISHED-TTL:PT1H
BEGIN:VTIMEZONE
TZID:America/St_Johns
BEGIN:DAYLIGHT
TZOFFSETFROM:-0330
TZOFFSETTO:-0230
TZNAME:NDT
DTSTART:20230312T053000
END:DAYLIGHT
BEGIN:STANDARD
TZOFFSETFROM:-0230
TZOFFSETTO:-0330
TZNAME:NST
DTSTART:20231105T043000
END:STANDARD
BEGIN:DAYLIGHT
TZOFFSETFROM:-0330
TZOFFSETTO:-0230
TZNAME:NDT
DTSTART:20240310T053000
END:DAYLIGHT
BEGIN:STANDARD
TZOFFSETFROM:-0230
TZOFFSETTO:-0330
TZNAME:NST
DTSTART:20241103T043000
END:STANDARD
BEGIN:DAYLIGHT
TZOFFSETFROM:-0330
TZOFFSETTO:-0230
TZNAME:NDT
DTSTART:20250309T053000
END:DAYLIGHT
BEGIN:STANDARD
TZOFFSETFROM:-0230
TZOFFSETTO:-0330
TZNAME:NST
DTSTART:20251102T043000
END:STANDARD
END:VTIMEZONE
BEGIN:VEVENT
DTSTART;VALUE=DATE:20240708
DTEND;VALUE=DATE:20240710
DTSTAMP:20260421T082705
CREATED:20240314T122058Z
LAST-MODIFIED:20240314T122411Z
UID:22767-1720396800-1720569599@lsnl.ca
SUMMARY:Federation of Law Societies 2024 National Criminal Law Program
DESCRIPTION:Registration is now open for the Federation of Law Societies 49th National Criminal Law Program\, scheduled to take place in Halifax from July 8-12\, 2024. This conference offers a unique opportunity to meet your Continuing Professional Development (CPD) requirements in just one week. The NCLP features top-notch content\,  focused this year on Substantive Criminal Law\, Advocacy\, and the Administration of Justice\, with insights provided by a distinguished faculty comprising some of Canada’s leading judges\, Crown Prosecutors\, and Defense Counsel. Immerse yourself in discussions and workshops that reflect the latest developments in the legal landscape. \nFor more information\, the detailed program schedule\, and to secure your spot\, please visit NCLP Registration.
URL:https://lsnl.ca/event/federation-of-law-societies-2024-national-criminal-law-program/
CATEGORIES:Continuing Professional Development
END:VEVENT
BEGIN:VEVENT
DTSTART;TZID=America/St_Johns:20240708T140000
DTEND;TZID=America/St_Johns:20240708T150000
DTSTAMP:20260421T082705
CREATED:20240628T123304Z
LAST-MODIFIED:20240628T123304Z
UID:23565-1720447200-1720450800@lsnl.ca
SUMMARY:Atlantic Immigrant Career Loan Fund Online Information Session
DESCRIPTION:On July 8th\, join us for a one-hour webinar at 2:00 pm ADT to learn about the Atlantic Immigrant Career Loan Fund (AICLF). This ISANS-led initiative can help immigrants with permanent resident status or Canadian citizenship obtain training and certification in their chosen fields or related fields in their new home provinces. \n During this event\, you will learn: \n\nWho is eligible for the AICLF\nWhat costs the AICLF can cover\nThe kinds of programs the AICLF can help pay for\nHow the AICLF is funded and how it is administered across Atlantic Canada\nWhy the AICLF is a better choice for immigrants in Atlantic Canada than funding through a private institution on their own\n\n During and after the presentation\, you can also ask any questions you might have about AICLF. \n Registration and attendance details: \n\nRegister for the event by filling in this registration form.\nThe registration deadline is 5 pm ADT Friday\, July 5th \nYou will receive a link to the meeting before the event\n\nFor more information\, please contact:   Ken Partridge  |  kpartridge@isans.ca \nMonday\, July 8 \n2:00 – 3:00 pm ADT \n  \nPlatform: Microsoft Teams
URL:https://lsnl.ca/event/atlantic-immigrant-career-loan-fund-online-information-session-2/
LOCATION:Online
CATEGORIES:Continuing Professional Development
END:VEVENT
END:VCALENDAR