BEGIN:VCALENDAR
VERSION:2.0
PRODID:-//The Law Society of Newfoundland and Labrador - ECPv6.15.19//NONSGML v1.0//EN
CALSCALE:GREGORIAN
METHOD:PUBLISH
X-ORIGINAL-URL:https://lsnl.ca
X-WR-CALDESC:Events for The Law Society of Newfoundland and Labrador
REFRESH-INTERVAL;VALUE=DURATION:PT1H
X-Robots-Tag:noindex
X-PUBLISHED-TTL:PT1H
BEGIN:VTIMEZONE
TZID:America/St_Johns
BEGIN:DAYLIGHT
TZOFFSETFROM:-0330
TZOFFSETTO:-0230
TZNAME:NDT
DTSTART:20230312T053000
END:DAYLIGHT
BEGIN:STANDARD
TZOFFSETFROM:-0230
TZOFFSETTO:-0330
TZNAME:NST
DTSTART:20231105T043000
END:STANDARD
BEGIN:DAYLIGHT
TZOFFSETFROM:-0330
TZOFFSETTO:-0230
TZNAME:NDT
DTSTART:20240310T053000
END:DAYLIGHT
BEGIN:STANDARD
TZOFFSETFROM:-0230
TZOFFSETTO:-0330
TZNAME:NST
DTSTART:20241103T043000
END:STANDARD
BEGIN:DAYLIGHT
TZOFFSETFROM:-0330
TZOFFSETTO:-0230
TZNAME:NDT
DTSTART:20250309T053000
END:DAYLIGHT
BEGIN:STANDARD
TZOFFSETFROM:-0230
TZOFFSETTO:-0330
TZNAME:NST
DTSTART:20251102T043000
END:STANDARD
END:VTIMEZONE
BEGIN:VEVENT
DTSTART;VALUE=DATE:20240710
DTEND;VALUE=DATE:20240711
DTSTAMP:20260421T082742
CREATED:20240618T162432Z
LAST-MODIFIED:20240618T162432Z
UID:23465-1720569600-1720655999@lsnl.ca
SUMMARY:Strategic Risk Management (in person)
DESCRIPTION:Offered by the Gardiner Centre. \n \n\n\n\n\n\nMaster the frameworks for identifying\, assessing\, acting on\, and communicating risk issues in order to plan for the future. \n\n\n\nThe Strategic Risk Management course identifies recent innovations in risk management approaches and focuses on using risk management processes and tools for organizational success. Participants will learn how to be proactive in identifying and managing risk to improve decision-making\, increase capacity and enhance performance. Risk in projects\, initiatives and policy development are also explored to understand how to ensure benefits and maximize value for the organization. \nKey Learning Outcomes \n\nAssess the meaning of risk and how risk affects all aspects of an organization\nDefine your role in risk management\nDevelop an organizational risk profile\nIdentify risk in your organization and incorporate the assessment of these risks into your strategic planning\nImprove risk response decisions and incorporate risk management in project planning and execution\nTranslate your organizational values and objectives into daily actions focused on success and future planning\n\nCourse Endorsements & Partnerships \nThis course qualifies for Professional Development Units (PDUs) as defined by the Project Management Institute (PMI). \nEach course has a specific qualifying factor for PDUs. See the table below for a specific PDU breakdown for this Gardiner Center program. \nTo learn more about PDUs and how to apply these credits to your active credential please see www.pmi.org. \nInstructor \n\nTom Cooper\n\n\nDr. Tom Cooper is a Professor of Strategic Management at the Faculty of Business Administration at Memorial University. \nPrior to taking his position at Memorial University\, Dr. Cooper was a senior manager in PwC’s Performance Improvement Consulting practice in London\, UK. He is an active facilitator with the Gardiner Centre at Memorial\, a business consultant\, company founder\, board member\, and is a Certified Management Consultant.
URL:https://lsnl.ca/event/strategic-risk-management-in-person/
LOCATION:The Gardiner Centre\, Emera Innovation Exchange\, Signal Hill Campus Suite 1014\, 100 Signal Hill Road\, St. John's\, NL\, A1A 1B3\, Canada
CATEGORIES:Continuing Professional Development
END:VEVENT
END:VCALENDAR