BEGIN:VCALENDAR
VERSION:2.0
PRODID:-//The Law Society of Newfoundland and Labrador - ECPv6.15.19//NONSGML v1.0//EN
CALSCALE:GREGORIAN
METHOD:PUBLISH
X-WR-CALNAME:The Law Society of Newfoundland and Labrador
X-ORIGINAL-URL:https://lsnl.ca
X-WR-CALDESC:Events for The Law Society of Newfoundland and Labrador
REFRESH-INTERVAL;VALUE=DURATION:PT1H
X-Robots-Tag:noindex
X-PUBLISHED-TTL:PT1H
BEGIN:VTIMEZONE
TZID:America/St_Johns
BEGIN:DAYLIGHT
TZOFFSETFROM:-0330
TZOFFSETTO:-0230
TZNAME:NDT
DTSTART:20230312T053000
END:DAYLIGHT
BEGIN:STANDARD
TZOFFSETFROM:-0230
TZOFFSETTO:-0330
TZNAME:NST
DTSTART:20231105T043000
END:STANDARD
BEGIN:DAYLIGHT
TZOFFSETFROM:-0330
TZOFFSETTO:-0230
TZNAME:NDT
DTSTART:20240310T053000
END:DAYLIGHT
BEGIN:STANDARD
TZOFFSETFROM:-0230
TZOFFSETTO:-0330
TZNAME:NST
DTSTART:20241103T043000
END:STANDARD
BEGIN:DAYLIGHT
TZOFFSETFROM:-0330
TZOFFSETTO:-0230
TZNAME:NDT
DTSTART:20250309T053000
END:DAYLIGHT
BEGIN:STANDARD
TZOFFSETFROM:-0230
TZOFFSETTO:-0330
TZNAME:NST
DTSTART:20251102T043000
END:STANDARD
END:VTIMEZONE
BEGIN:VEVENT
DTSTART;VALUE=DATE:20240717
DTEND;VALUE=DATE:20240718
DTSTAMP:20260421T082326
CREATED:20240514T181545Z
LAST-MODIFIED:20240514T181545Z
UID:23227-1721174400-1721260799@lsnl.ca
SUMMARY:Family Law Basics for Paralegals and Legal Support Staff 2024
DESCRIPTION:Can’t make the webinar or rebroadcasts? \nWant online CPD available 24/7?\n\nSubscribe to Courses On Demand\, our comprehensive online resource with 21\,500+ videos and 5\,400+ papers from CLEBC courses. This course will be added to Courses on Demand approximately 30 days from the original course date. \nWho should attend: All junior paralegals and legal support staff wishing to excel in their role; this course may also be of interest to lawyers transitioning to family practice \nLearning level: Fundamental \nThis course covers everything legal support staff and junior paralegals need to know to begin a successful career in a family law office. You will learn about preparing and managing documents\, opening and organizing a file\, desk order divorce applications\, an overview of child and spousal support\, preparing for chambers\, and tips on how to excel as a valuable member of your team. \nHear from experienced lawyers and paralegals who have successfully handled the challenges you will meet every day. \nTopics on the agenda include: \n\nDesk Order Application for Final Orders\nChild and Spousal Support\nChambers Practice\nFile and Document Management\nNew Tech Trends and AI in the Legal Realm\n\nWe welcome any questions on course day regarding what it’s like to be a Designated Paralegal—please send your questions in advance to Mary Kingston at maryk@cle.bc.ca.
URL:https://lsnl.ca/event/family-law-basics-for-paralegals-and-legal-support-staff-2024/
LOCATION:Online
CATEGORIES:Continuing Professional Development
END:VEVENT
END:VCALENDAR