BEGIN:VCALENDAR
VERSION:2.0
PRODID:-//The Law Society of Newfoundland and Labrador - ECPv6.15.19//NONSGML v1.0//EN
CALSCALE:GREGORIAN
METHOD:PUBLISH
X-WR-CALNAME:The Law Society of Newfoundland and Labrador
X-ORIGINAL-URL:https://lsnl.ca
X-WR-CALDESC:Events for The Law Society of Newfoundland and Labrador
REFRESH-INTERVAL;VALUE=DURATION:PT1H
X-Robots-Tag:noindex
X-PUBLISHED-TTL:PT1H
BEGIN:VTIMEZONE
TZID:America/St_Johns
BEGIN:DAYLIGHT
TZOFFSETFROM:-0330
TZOFFSETTO:-0230
TZNAME:NDT
DTSTART:20230312T053000
END:DAYLIGHT
BEGIN:STANDARD
TZOFFSETFROM:-0230
TZOFFSETTO:-0330
TZNAME:NST
DTSTART:20231105T043000
END:STANDARD
BEGIN:DAYLIGHT
TZOFFSETFROM:-0330
TZOFFSETTO:-0230
TZNAME:NDT
DTSTART:20240310T053000
END:DAYLIGHT
BEGIN:STANDARD
TZOFFSETFROM:-0230
TZOFFSETTO:-0330
TZNAME:NST
DTSTART:20241103T043000
END:STANDARD
BEGIN:DAYLIGHT
TZOFFSETFROM:-0330
TZOFFSETTO:-0230
TZNAME:NDT
DTSTART:20250309T053000
END:DAYLIGHT
BEGIN:STANDARD
TZOFFSETFROM:-0230
TZOFFSETTO:-0330
TZNAME:NST
DTSTART:20251102T043000
END:STANDARD
END:VTIMEZONE
BEGIN:VEVENT
DTSTART;VALUE=DATE:20240808
DTEND;VALUE=DATE:20240809
DTSTAMP:20260421T050646
CREATED:20240514T172525Z
LAST-MODIFIED:20240514T172538Z
UID:23215-1723075200-1723161599@lsnl.ca
SUMMARY:Technology and Legal Practice
DESCRIPTION:(REPLAY) \n\n\nDescription \n\nArtificial intelligence platforms\, such as ChatGPT\, are creating unprecedented opportunities and challenges for the profession. Whether navigating implications in the areas of IP\, employment law\, and information security\, or grappling with the business model implications and potential regulations around the use of AI\, everyone in the legal profession needs to pay attention. Fellow practitioners\, technology experts\, legal app developers\, professors\, and judges address how AI is impacting the delivery of legal services\, the emerging practice issues\, the substantive law and evidence\, and the justice system\, and how you might prepare.\n\nWhat are some practical applications of AI in legal practice?\nHow can you address the ethical challenges that arise using AI?\nHow do you guard against misuse of AI in the evidentiary context?\nHow is\, and how should the use of AI in legal practice be regulated?\n\nABOUT LIVE WEBCAST REPLAYS WITH LIVE CHAT \nThis live webcast replay contains an online chat feature that allows you to view the previously broadcast program and interact\, share ideas\, and exchange comments with fellow registrants online.
URL:https://lsnl.ca/event/technology-and-legal-practice/
CATEGORIES:Continuing Professional Development
END:VEVENT
END:VCALENDAR