BEGIN:VCALENDAR
VERSION:2.0
PRODID:-//The Law Society of Newfoundland and Labrador - ECPv6.15.19//NONSGML v1.0//EN
CALSCALE:GREGORIAN
METHOD:PUBLISH
X-ORIGINAL-URL:https://lsnl.ca
X-WR-CALDESC:Events for The Law Society of Newfoundland and Labrador
REFRESH-INTERVAL;VALUE=DURATION:PT1H
X-Robots-Tag:noindex
X-PUBLISHED-TTL:PT1H
BEGIN:VTIMEZONE
TZID:America/St_Johns
BEGIN:DAYLIGHT
TZOFFSETFROM:-0330
TZOFFSETTO:-0230
TZNAME:NDT
DTSTART:20230312T053000
END:DAYLIGHT
BEGIN:STANDARD
TZOFFSETFROM:-0230
TZOFFSETTO:-0330
TZNAME:NST
DTSTART:20231105T043000
END:STANDARD
BEGIN:DAYLIGHT
TZOFFSETFROM:-0330
TZOFFSETTO:-0230
TZNAME:NDT
DTSTART:20240310T053000
END:DAYLIGHT
BEGIN:STANDARD
TZOFFSETFROM:-0230
TZOFFSETTO:-0330
TZNAME:NST
DTSTART:20241103T043000
END:STANDARD
BEGIN:DAYLIGHT
TZOFFSETFROM:-0330
TZOFFSETTO:-0230
TZNAME:NDT
DTSTART:20250309T053000
END:DAYLIGHT
BEGIN:STANDARD
TZOFFSETFROM:-0230
TZOFFSETTO:-0330
TZNAME:NST
DTSTART:20251102T043000
END:STANDARD
END:VTIMEZONE
BEGIN:VEVENT
DTSTART;VALUE=DATE:20240826
DTEND;VALUE=DATE:20240829
DTSTAMP:20260421T083412
CREATED:20240819T130356Z
LAST-MODIFIED:20240819T131856Z
UID:23911-1724630400-1724889599@lsnl.ca
SUMMARY:Stories of Respect\, Dignity\, & Mutual Concern: Restorative Justice in Education
DESCRIPTION:Stories of Respect\, Dignity\, & Mutual Concern: Restorative Justice in Education by the RFNL Summer Institute will feature a blend of compelling stories and practical advice related to restorative justice from our presenters\, along with two powerful keynote events that underscore the crucial connection between justice and education in our communities. \nThe importance of this content at this moment in history cannot be overstated. Here are a few highlights: \n\nIn our Opening Keynote Event\, Danielle McGettigan will share what she heard about the K-12 experiences of people who are incarcerated in NL.\nExplore the impact of student-planned and facilitated circles with Alyssa Brennan\, who has just returned from presenting at NACRJ in Washington\, DC!\nHear from Rod Jeddore and dorothy vaandering as they integrate key learnings from the Summer Institute with their personal stories of relationality and restorative justice.\n…and SO MUCH MORE!\n\nRegistration information is available at www.rfnl.org or through this link. \nTaking place August 26-28\, 2024.
URL:https://lsnl.ca/event/stories-of-respect-dignity-mutual-concern-restorative-justice-in-education/
LOCATION:Online
CATEGORIES:Continuing Professional Development
END:VEVENT
BEGIN:VEVENT
DTSTART;TZID=America/St_Johns:20240828T093000
DTEND;TZID=America/St_Johns:20240828T120000
DTSTAMP:20260421T083412
CREATED:20240723T165642Z
LAST-MODIFIED:20240723T165642Z
UID:23781-1724837400-1724846400@lsnl.ca
SUMMARY:Municipal Issues Arising in Real Estate Transactions
DESCRIPTION:Seminar Overview        \nJoin us for our upcoming seminar focused on municipal issues impacting real estate transactions in Newfoundland and Labrador. This session will explore critical topics such as expropriation (including an overview of the recent Lynch and Shute decisions)\, tax sales\, non-conformity\, subdivision/consolidation\, and the purchase and sale of municipal land. Our presenters will also discuss notable provisions of the Urban Rural and Planning Act (including the Occupancy and Maintenance Regulations)\, the St. John’s Act\, and the Towns and Local Service Districts Act. Attendees will gain valuable knowledge on how these issues influence real estate transactions and learn strategies to navigate potential challenges. \nSeminar Presenters \nLinda Bishop – Senior Legal Counsel\, City of St. John’s\nJustin Hewitt – Associate\, Stewart McKelvey\nLorilee Sharpe – City Solicitor\, City of Corner Brook\nAndrew Woodland – Legal Counsel\, City of St. John’s \nRegistration Fee \n$172.50 ($150.00 + HST)\nHST # R108086463 \nTo register for this seminar\, please click here. \nCPD Credit \n2.5 hours
URL:https://lsnl.ca/event/municipal-issues-arising-in-real-estate-transactions/
LOCATION:3rd Floor\, Law Society Building\, 196-198 Water Street\, St. John’s\, Canada
CATEGORIES:Continuing Professional Development,Law Society
ORGANIZER;CN="Law Society of Newfoundland & Labrador":MAILTO:churley@lsnl.ca
END:VEVENT
END:VCALENDAR