BEGIN:VCALENDAR
VERSION:2.0
PRODID:-//The Law Society of Newfoundland and Labrador - ECPv6.15.19//NONSGML v1.0//EN
CALSCALE:GREGORIAN
METHOD:PUBLISH
X-ORIGINAL-URL:https://lsnl.ca
X-WR-CALDESC:Events for The Law Society of Newfoundland and Labrador
REFRESH-INTERVAL;VALUE=DURATION:PT1H
X-Robots-Tag:noindex
X-PUBLISHED-TTL:PT1H
BEGIN:VTIMEZONE
TZID:America/St_Johns
BEGIN:DAYLIGHT
TZOFFSETFROM:-0330
TZOFFSETTO:-0230
TZNAME:NDT
DTSTART:20230312T053000
END:DAYLIGHT
BEGIN:STANDARD
TZOFFSETFROM:-0230
TZOFFSETTO:-0330
TZNAME:NST
DTSTART:20231105T043000
END:STANDARD
BEGIN:DAYLIGHT
TZOFFSETFROM:-0330
TZOFFSETTO:-0230
TZNAME:NDT
DTSTART:20240310T053000
END:DAYLIGHT
BEGIN:STANDARD
TZOFFSETFROM:-0230
TZOFFSETTO:-0330
TZNAME:NST
DTSTART:20241103T043000
END:STANDARD
BEGIN:DAYLIGHT
TZOFFSETFROM:-0330
TZOFFSETTO:-0230
TZNAME:NDT
DTSTART:20250309T053000
END:DAYLIGHT
BEGIN:STANDARD
TZOFFSETFROM:-0230
TZOFFSETTO:-0330
TZNAME:NST
DTSTART:20251102T043000
END:STANDARD
END:VTIMEZONE
BEGIN:VEVENT
DTSTART;TZID=America/St_Johns:20240909T123000
DTEND;TZID=America/St_Johns:20240909T140000
DTSTAMP:20260421T031321
CREATED:20240904T124853Z
LAST-MODIFIED:20240904T124853Z
UID:24052-1725885000-1725890400@lsnl.ca
SUMMARY:Gladue Review for Crown Attorneys\, Defence Counsel\, and Judges
DESCRIPTION:Seminar Overview: \nTo coincide with the launch of the Gladue Writer Pilot Project portal\, we are pleased to offer a Continuing Professional Development (CPD) seminar focused on the Gladue process. This seminar is designed to provide members with an in-depth understanding of how to request Gladue reports and navigate the Gladue process in our justice system. \nAgenda Highlights: \nGladue Report Process: Learn about the newly launched portal\, understand who is responsible for requesting reports from the courts\, and get an overview of expected timelines.\nConfirmation of Heritage: Learn about how heritage is confirmed in a manner that keeps access barriers low. \nGladue Information in an Open Court: Explore the use of discretion in handling Gladue information\, the potential for closing the courtroom\, and recent court rulings on the legal threshold for demonstrating consideration of Gladue factors. \nQ&A Period: An opportunity for participants to ask questions and engage with the presenters. \nSeminar Presenter: \nJane Dickson\, PhD (Law\, London School of Economics and Political Science\, University of London\, U.K.); MA\, BA (School of Criminology\, Simon Fraser University\, Canada) \nNo registration fee \nTo register for this seminar\, please click the following link: \nhttps://us06web.zoom.us/webinar/register/WN_hUkRnXmtSAidLSvnfGi6-g \nPLEASE NOTE: Although the start time states 12:30\, the seminar begins at 12:45 as noted above. \nCPD credit \n1 hour
URL:https://lsnl.ca/event/gladue-review-for-crown-attorneys-defence-counsel-and-judges/
LOCATION:3rd Floor\, Law Society Building\, 196-198 Water Street\, St. John’s\, Canada
CATEGORIES:Continuing Professional Development
END:VEVENT
BEGIN:VEVENT
DTSTART;TZID=America/St_Johns:20240909T140000
DTEND;TZID=America/St_Johns:20240909T150000
DTSTAMP:20260421T031321
CREATED:20240829T173502Z
LAST-MODIFIED:20240829T173502Z
UID:24040-1725890400-1725894000@lsnl.ca
SUMMARY:Atlantic Immigrant Career Loan Fund Information Session
DESCRIPTION:On September 9th\, join us for a one-hour webinar at 2:00 pm ADT to learn about the Atlantic Immigrant Career Loan Fund (AICLF). This ISANS-led initiative can help immigrants with permanent resident status or Canadian citizenship obtain training and certification in their chosen fields or related fields in their new home provinces. \nDuring this event\, you will learn: \n\nWho is eligible for the AICLF\nWhat costs the AICLF can cover\nThe kinds of programs the AICLF can help pay for\nHow the AICLF is funded and how it is administered across Atlantic Canada\nWhy the AICLF is a better choice for immigrants in Atlantic Canada than funding through a private institution on their own\n\nDuring and after the presentation\, you can also ask any questions you might have about AICLF. \nRegistration and attendance details: \n\nRegister for the event by filling in this form.\nThe registration deadline is 5 pm ADT Friday\, September 6th \nYou will receive a link to the meeting before the event\n\nFor more information\, please contact:   Ken Partridge  |  kpartridge@isans.ca \nPlatform: Microsoft Teams
URL:https://lsnl.ca/event/atlantic-immigrant-career-loan-fund-information-session/
LOCATION:Online
CATEGORIES:Continuing Professional Development
END:VEVENT
END:VCALENDAR