BEGIN:VCALENDAR
VERSION:2.0
PRODID:-//The Law Society of Newfoundland and Labrador - ECPv6.15.19//NONSGML v1.0//EN
CALSCALE:GREGORIAN
METHOD:PUBLISH
X-ORIGINAL-URL:https://lsnl.ca
X-WR-CALDESC:Events for The Law Society of Newfoundland and Labrador
REFRESH-INTERVAL;VALUE=DURATION:PT1H
X-Robots-Tag:noindex
X-PUBLISHED-TTL:PT1H
BEGIN:VTIMEZONE
TZID:America/St_Johns
BEGIN:DAYLIGHT
TZOFFSETFROM:-0330
TZOFFSETTO:-0230
TZNAME:NDT
DTSTART:20230312T053000
END:DAYLIGHT
BEGIN:STANDARD
TZOFFSETFROM:-0230
TZOFFSETTO:-0330
TZNAME:NST
DTSTART:20231105T043000
END:STANDARD
BEGIN:DAYLIGHT
TZOFFSETFROM:-0330
TZOFFSETTO:-0230
TZNAME:NDT
DTSTART:20240310T053000
END:DAYLIGHT
BEGIN:STANDARD
TZOFFSETFROM:-0230
TZOFFSETTO:-0330
TZNAME:NST
DTSTART:20241103T043000
END:STANDARD
BEGIN:DAYLIGHT
TZOFFSETFROM:-0330
TZOFFSETTO:-0230
TZNAME:NDT
DTSTART:20250309T053000
END:DAYLIGHT
BEGIN:STANDARD
TZOFFSETFROM:-0230
TZOFFSETTO:-0330
TZNAME:NST
DTSTART:20251102T043000
END:STANDARD
END:VTIMEZONE
BEGIN:VEVENT
DTSTART;TZID=America/St_Johns:20240926T100000
DTEND;TZID=America/St_Johns:20240926T113000
DTSTAMP:20260421T031300
CREATED:20240909T171616Z
LAST-MODIFIED:20240909T171616Z
UID:24080-1727344800-1727350200@lsnl.ca
SUMMARY:Legal AI in Canada: What is it\, why it is important and why you need to know?
DESCRIPTION:Seminar Overview           \nIn this session\, we will delve into the critical aspects of responsible AI development\, with a focus on the rapidly evolving field of Generative AI. We will explore the best practices that help ensure the safe and trustworthy deployment of these powerful technologies. Additionally\, we will discuss the importance of transparency\, accountability\, and stakeholder engagement to mitigate potential risks. \nSeminar Presenter \nSophie Majeau\, Senior Director Strategy & Marketing at LexisNexis® Canada \nSophie Majeau has been working at LexisNexis Canada for over 25 years. Initially an Account Manager and Trainer for the Quebec and Northern New Brunswick region\, she is now Senior Director Strategy & Marketing for Canada. As part of her duties\, she contributes to analyzing customer needs as well as marketing products. She works closely with the company’s various divisions to offer the best solutions to clients such as Lexis+® and Lexis+ AI™. Ms. Majeau holds a bachelor’s degree in law and a certificate in journalism from the University of Montreal\, as well as a master’s degree in alternative dispute resolution from the Faculty of Law at the University of Sherbrooke. \nTo register for this seminar\, please click the following link: \nhttps://us06web.zoom.us/webinar/register/WN_mPG-2VBqTu2ZZGWhuAm2aQ \nNo registration fee. \nCPD Credit:   1.5 hours
URL:https://lsnl.ca/event/legal-ai-in-canada-what-is-it-why-it-is-important-and-why-you-need-to-know/
LOCATION:3rd Floor\, Law Society Building\, 196-198 Water Street\, St. John’s\, Canada
CATEGORIES:Continuing Professional Development
END:VEVENT
BEGIN:VEVENT
DTSTART;TZID=America/St_Johns:20240926T110000
DTEND;TZID=America/St_Johns:20240926T123000
DTSTAMP:20260421T031300
CREATED:20240808T125632Z
LAST-MODIFIED:20240904T171831Z
UID:23872-1727348400-1727353800@lsnl.ca
SUMMARY:The Future of Artificial Intelligence and Automated Decision-Making in Public Law Decision-Making
DESCRIPTION:The CLA’s Public and Administrative Law Committee webinar focusing on “The Future of Artificial Intelligence in Public Law Decision Making”\n26th September 2024 – 11am BST \nTitle: “The Future of Artificial Intelligence in Public Law Decision Making” \nRegister here: https://us02web.zoom.us/webinar/register/WN_FWARYD2BRGCYmN1IRl_7vw#/registration \nView the poster here.
URL:https://lsnl.ca/event/the-future-of-artificial-intelligence-and-automated-decision-making-in-public-law-decision-making/
LOCATION:Online
CATEGORIES:Continuing Professional Development
END:VEVENT
BEGIN:VEVENT
DTSTART;TZID=America/St_Johns:20240926T180000
DTEND;TZID=America/St_Johns:20240926T190000
DTSTAMP:20260421T031300
CREATED:20240912T131117Z
LAST-MODIFIED:20240912T131117Z
UID:24097-1727373600-1727377200@lsnl.ca
SUMMARY:Atlantic Immigrant Career Loan Fund Information Session
DESCRIPTION:On September 26th\, join us for a one-hour webinar at 6:00 pm ADT to learn about the Atlantic Immigrant Career Loan Fund (AICLF). This ISANS-led initiative can help immigrants with permanent resident status or Canadian citizenship obtain training and certification in their chosen fields or related fields in their new home provinces. \nDuring this event\, you will learn: \n\nWho is eligible for the AICLF\nWhat costs the AICLF can cover\nThe kinds of programs the AICLF can help pay for\nHow the AICLF is funded and how it is administered across Atlantic Canada\nWhy the AICLF is a better choice for immigrants in Atlantic Canada than funding through a private institution on their own\n\nDuring and after the presentation\, you can also ask any questions you might have about AICLF. \nRegistration and attendance details: \n\nRegister for the event by filling in this form.\nThe registration deadline is 5 pm ADT Wednesday\, September 25th \nYou will receive a link to the meeting before the event\n\nFor more information\, please contact:   Ken Partridge  |  kpartridge@isans.ca \nThursday\, September 26 \n6:00 – 7:00 pm ADT \n  \nPlatform: Microsoft Teams
URL:https://lsnl.ca/event/atlantic-immigrant-career-loan-fund-information-session-2/
LOCATION:Online
CATEGORIES:Continuing Professional Development
END:VEVENT
END:VCALENDAR