BEGIN:VCALENDAR
VERSION:2.0
PRODID:-//The Law Society of Newfoundland and Labrador - ECPv6.15.19//NONSGML v1.0//EN
CALSCALE:GREGORIAN
METHOD:PUBLISH
X-WR-CALNAME:The Law Society of Newfoundland and Labrador
X-ORIGINAL-URL:https://lsnl.ca
X-WR-CALDESC:Events for The Law Society of Newfoundland and Labrador
REFRESH-INTERVAL;VALUE=DURATION:PT1H
X-Robots-Tag:noindex
X-PUBLISHED-TTL:PT1H
BEGIN:VTIMEZONE
TZID:America/St_Johns
BEGIN:DAYLIGHT
TZOFFSETFROM:-0330
TZOFFSETTO:-0230
TZNAME:NDT
DTSTART:20230312T053000
END:DAYLIGHT
BEGIN:STANDARD
TZOFFSETFROM:-0230
TZOFFSETTO:-0330
TZNAME:NST
DTSTART:20231105T043000
END:STANDARD
BEGIN:DAYLIGHT
TZOFFSETFROM:-0330
TZOFFSETTO:-0230
TZNAME:NDT
DTSTART:20240310T053000
END:DAYLIGHT
BEGIN:STANDARD
TZOFFSETFROM:-0230
TZOFFSETTO:-0330
TZNAME:NST
DTSTART:20241103T043000
END:STANDARD
BEGIN:DAYLIGHT
TZOFFSETFROM:-0330
TZOFFSETTO:-0230
TZNAME:NDT
DTSTART:20250309T053000
END:DAYLIGHT
BEGIN:STANDARD
TZOFFSETFROM:-0230
TZOFFSETTO:-0330
TZNAME:NST
DTSTART:20251102T043000
END:STANDARD
END:VTIMEZONE
BEGIN:VEVENT
DTSTART;TZID=America/St_Johns:20241001T080000
DTEND;TZID=America/St_Johns:20241001T170000
DTSTAMP:20260421T013329
CREATED:20240823T150106Z
LAST-MODIFIED:20240911T121849Z
UID:23947-1727769600-1727802000@lsnl.ca
SUMMARY:Legal French for Beginners
DESCRIPTION:  \nRegister here.
URL:https://lsnl.ca/event/legal-french-for-beginners/
LOCATION:Online
CATEGORIES:Continuing Professional Development
END:VEVENT
BEGIN:VEVENT
DTSTART;TZID=America/St_Johns:20241001T120000
DTEND;TZID=America/St_Johns:20241001T130000
DTSTAMP:20260421T013329
CREATED:20231221T163402Z
LAST-MODIFIED:20231221T163402Z
UID:22185-1727784000-1727787600@lsnl.ca
SUMMARY:Killer Correspondence by the Toronto Lawyers Association
DESCRIPTION:One of the sharpest tools in the lawyer’s arsenal is a surprisingly common item. The letter.\nWhether it’s a demand letter\, a note sent during negotiations\, or a client communication\, your success could be dependent on a piece of correspondence. Join the CLE Performer\, Stuart Teicher as he explains how to write a variety of effective letter types. \nSpeaker\n\nStuart Teicher\, Legal Educator \nStuart Teicher is a professional legal educator who focuses on ethics law and writing instruction. A practicing lawyer for 30 years\, Stuart’s career is now dedicated to helping fellow lawyers survive the practice of law and thrive in the profession. \nMr. Teicher teaches seminars\, provides in-house training to law firms and legal departments\, provides CLE instruction at law firm client events\, and also gives keynote speeches at conventions and association meetings. His highly informative seminars are delivered in a uniquely entertaining manner\, earning him the nickname “the CLE Performer.” \nProgram Details \n\nOnline via Zoom Webinar 2-step registration. You will receive additional instructions in your confirmation email.
URL:https://lsnl.ca/event/killer-correspondence-by-the-toronto-lawyers-association/
LOCATION:Online
CATEGORIES:Continuing Professional Development
END:VEVENT
END:VCALENDAR