BEGIN:VCALENDAR
VERSION:2.0
PRODID:-//The Law Society of Newfoundland and Labrador - ECPv6.15.19//NONSGML v1.0//EN
CALSCALE:GREGORIAN
METHOD:PUBLISH
X-ORIGINAL-URL:https://lsnl.ca
X-WR-CALDESC:Events for The Law Society of Newfoundland and Labrador
REFRESH-INTERVAL;VALUE=DURATION:PT1H
X-Robots-Tag:noindex
X-PUBLISHED-TTL:PT1H
BEGIN:VTIMEZONE
TZID:America/St_Johns
BEGIN:DAYLIGHT
TZOFFSETFROM:-0330
TZOFFSETTO:-0230
TZNAME:NDT
DTSTART:20230312T053000
END:DAYLIGHT
BEGIN:STANDARD
TZOFFSETFROM:-0230
TZOFFSETTO:-0330
TZNAME:NST
DTSTART:20231105T043000
END:STANDARD
BEGIN:DAYLIGHT
TZOFFSETFROM:-0330
TZOFFSETTO:-0230
TZNAME:NDT
DTSTART:20240310T053000
END:DAYLIGHT
BEGIN:STANDARD
TZOFFSETFROM:-0230
TZOFFSETTO:-0330
TZNAME:NST
DTSTART:20241103T043000
END:STANDARD
BEGIN:DAYLIGHT
TZOFFSETFROM:-0330
TZOFFSETTO:-0230
TZNAME:NDT
DTSTART:20250309T053000
END:DAYLIGHT
BEGIN:STANDARD
TZOFFSETFROM:-0230
TZOFFSETTO:-0330
TZNAME:NST
DTSTART:20251102T043000
END:STANDARD
END:VTIMEZONE
BEGIN:VEVENT
DTSTART;VALUE=DATE:20241002
DTEND;VALUE=DATE:20241003
DTSTAMP:20260421T013430
CREATED:20240827T163245Z
LAST-MODIFIED:20240827T163245Z
UID:24003-1727827200-1727913599@lsnl.ca
SUMMARY:Regulatory Offences and Criminal Prosecution 2024
DESCRIPTION:Understand the nuances of the regulatory regime/criminal law nexus! \nCan’t make the webinar or rebroadcasts?\nWant online CPD available 24/7?\n \nSubscribe to Courses On Demand\, our comprehensive online resource with 1\,500+ videos and 5\,400+ papers from CLEBC courses. This course will be added to Courses on Demand approximately 30 days from the original course date. \nWho should attend: Crown counsel\, defence counsel\, corporate solicitors\, civil litigators\, and in-house counsel at all levels \nLearning level: All levels \nRegulated industries are most often regulated by criminal\, quasi-criminal\, and administrative sanctions. However\, each enforcement branch requires counsel to practice in very different institutional and legal environments. \nOften\, defence counsel must defend persons accused of regulatory offences in parallel administrative proceedings. Conversely\, defence counsel assisting a client during an investigation\, review\, audit\, or other regulatory inquiry must be aware of when such a process might lead to a criminal or quasi-criminal prosecution. The practice is fraught with procedural\, legal\, and strategic peril. \nThis course will examine regulatory processes\, their operation\, and their implications for counsel who must handle proceedings in this dual-function context. The regulated industries covered in this program will include securities\, forestry\, mining\, environmental protection\, taxation\, and workplace safety\, among others. \nLaw Society of BC CPD Hours: 6 hours (this course will contain a minimum of 1 hour pertaining to professional responsibility and ethics\, client care and relations\, and/or practice management) \nCourse Chair\nChilwin Cheng — Ascendion Law\, Vancouver\n \n\n\n\n\n*Please note: The in-person session is dependent on a minimum number of registrants and may not be confirmed until 4 weeks before the course date. \nAre you a member of the Indigenous legal community (lawyer/Articled Student/legal support staff/paralegal) or a non-lawyer Indigenous community member?\nWe value your contributions and encourage your participation in all of our programs. To increase accessibility\, we offer a 50% discount* to all Indigenous lawyers/Articled Students/legal support staff/paralegals and a limited number of free online registrations to non-lawyer Indigenous community members (*discount applies to Regular prices\, not Early Bird prices). Please contact Customer Service to find out more. \nUnable to attend a course without financial assistance from CLEBC?\nClick here for bursary information. \nWant to register for a course now\, but prefer a monthly payment plan?\nCheck out our Easy Pay Plan. \nRegistration includes an electronic copy of the reference materials and lunch for in-person registration.\n\n\n\nCLEBC Program Lawyer*\nRaymond Lee\nrlee@cle.bc.ca\n*non-practising
URL:https://lsnl.ca/event/regulatory-offences-and-criminal-prosecution-2024/
LOCATION:Online
CATEGORIES:Continuing Professional Development
END:VEVENT
END:VCALENDAR