BEGIN:VCALENDAR
VERSION:2.0
PRODID:-//The Law Society of Newfoundland and Labrador - ECPv6.15.19//NONSGML v1.0//EN
CALSCALE:GREGORIAN
METHOD:PUBLISH
X-ORIGINAL-URL:https://lsnl.ca
X-WR-CALDESC:Events for The Law Society of Newfoundland and Labrador
REFRESH-INTERVAL;VALUE=DURATION:PT1H
X-Robots-Tag:noindex
X-PUBLISHED-TTL:PT1H
BEGIN:VTIMEZONE
TZID:America/St_Johns
BEGIN:DAYLIGHT
TZOFFSETFROM:-0330
TZOFFSETTO:-0230
TZNAME:NDT
DTSTART:20230312T053000
END:DAYLIGHT
BEGIN:STANDARD
TZOFFSETFROM:-0230
TZOFFSETTO:-0330
TZNAME:NST
DTSTART:20231105T043000
END:STANDARD
BEGIN:DAYLIGHT
TZOFFSETFROM:-0330
TZOFFSETTO:-0230
TZNAME:NDT
DTSTART:20240310T053000
END:DAYLIGHT
BEGIN:STANDARD
TZOFFSETFROM:-0230
TZOFFSETTO:-0330
TZNAME:NST
DTSTART:20241103T043000
END:STANDARD
BEGIN:DAYLIGHT
TZOFFSETFROM:-0330
TZOFFSETTO:-0230
TZNAME:NDT
DTSTART:20250309T053000
END:DAYLIGHT
BEGIN:STANDARD
TZOFFSETFROM:-0230
TZOFFSETTO:-0330
TZNAME:NST
DTSTART:20251102T043000
END:STANDARD
END:VTIMEZONE
BEGIN:VEVENT
DTSTART;VALUE=DATE:20241003
DTEND;VALUE=DATE:20241005
DTSTAMP:20260421T031309
CREATED:20240409T123058Z
LAST-MODIFIED:20240409T123058Z
UID:22930-1727913600-1728086399@lsnl.ca
SUMMARY:Family Violence Screening Training for Litigators and DR Professionals
DESCRIPTION:Practices to help you effectively identify family violence \nThursday and Friday\, October 3 and 4\, 2024\n9:00 am – 5:30 pm (both days)\nvia webinar only \nLimited enrolment. Register early to avoid disappointment! \nPlease note: This course will not be added to Courses on Demand. Courses involving professional speakers and skills-based workshops generally do not get added to Courses on Demand. \nWho should attend: “Family Law Dispute Resolution Professionals” as defined by the Family Law Act\, including: family justice counselors\, mediators\, arbitrators\, parenting coordinators\, and family lawyers \nLearning level: All levels \nFor many\, ending an intimate partnership is a time of danger. “Family violence” is defined under the BC Family Law Act (“FLA“) to include all elements of physical and emotional violence and abuse. Research shows that family law professionals often fail to ask questions needed to properly assess risk and may also fail to recommend the most appropriate dispute resolution processes for their clients. \nThis highly interactive two-day workshop is the only comprehensive family violence training available in BC. Featuring real case studies\, personal stories\, role-playing\, coaching\, and review of current literature\, research\, and statistics\, this is a must-attend event for family dispute resolution professionals looking to meet their training requirements under the FLA. \nAfter participating in this workshop\, you will be able to: \n\nassess presence of emotional or psychological family violence\, in addition to physical violence\nidentify any danger present from children\, family members\, and other individuals\, in addition to former partners\nunderstand complex family violence dynamics\, including mental illness\, stress of separation\, and personalities of parties involved\nassist clients in choosing dispute resolution processes that best keep them and their children safe\nempower your clients to negotiate effectively\n\nJoin us and improve your family violence awareness. \nPlease note: This course is offered remotely through a Zoom platform. A device equipped with a camera and microphone will be required to participate. \n*DISCLAIMER:  Learners are required to participate fully in the course. “Full participation” is in the faculty’s sole discretion. Activities such as reading the paper\, watching videos on the computer\, not being present\, engaging in phone calls\, and disrupting the class with irrelevant activities will demonstrate a lack of full participation. \n\n\n\nTHE CHAIRS OF THIS COURSE HAVE THE RIGHT TO REVOKE [MEDIATION] ACCREDITATION TO DISTRACTED OR “NON-PRESENT” INDIVIDUALS ENROLLED IN THE COURSE.\n\n\n\nLaw Society of BC CPD Hours: 14 hours (including a minimum of 2 hours involving aspects of professional responsibility and ethics\, client care\, and relations\, and/or practice management) \nCourse Chairs\nCarol W. Hickman\, KC — West Coast ADR\, New Westminster\nArlene H. Henry\, KC — Arlene H. Henry Law Corporation\, Vancouver \n\n\n\n\nMediate BC Roster mediators will receive 20% off the full regular course registration fee. Please contact Customer Service to register. \nAre you a member of the Indigenous legal community (lawyer/Articled Student/legal support staff/paralegal) or a non-lawyer Indigenous community member?\nWe value your contributions and encourage your participation in all of our programs. To increase accessibility\, we offer a 50% discount* to all Indigenous lawyers/Articled Students/legal support staff/paralegals and a limited number of free online registrations to non-lawyer Indigenous community members (*discount applies to Regular prices\, not Early Bird prices). Please contact Customer Service to find out more. \nUnable to attend a course without financial assistance from CLEBC?\nClick here for bursary information. \nWant to register for a course now\, but prefer a monthly payment plan?\nCheck out our Easy Pay Plan. \nRegistration includes an electronic copy and a print copy of the workshop materials.\n\n\n\nDiscover all of our Family Law resources here \nCLEBC Programs Coordinator\nDarsey Meredith\ndarseym@cle.bc.ca
URL:https://lsnl.ca/event/family-violence-screening-training-for-litigators-and-dr-professionals/
LOCATION:Online
CATEGORIES:Continuing Professional Development
END:VEVENT
BEGIN:VEVENT
DTSTART;TZID=America/St_Johns:20241003T093000
DTEND;TZID=America/St_Johns:20241003T103000
DTSTAMP:20260421T031309
CREATED:20240808T123416Z
LAST-MODIFIED:20240808T123416Z
UID:23858-1727947800-1727951400@lsnl.ca
SUMMARY:Can ADR transform a Society? The Jamaican Experience: Part 2 of 6 - Mediation Guest Lecture Series by the Commonwealth Lawyers Association
DESCRIPTION:Episode 1: “Mediators; Not Judges\, Not Arbitrators\, Not Decision makers. What\, really\, is mediation?” 19th September 2024 – Past Event \n  \nEpisode 2: “Can ADR transform a Society? The Jamaican Experience” 3rd October 2024\, 1pm BST\nJohn Bassie Register here\nThe various forms of ADR mechanisms are touching global societies and groups. Jamaica has been experiencing growth with ADR for over 30 years. This will provide a review of ADR’ s effect on the Youth\, communities\, the Legal system and Private Sector and a peak into the future expectations. \n  \nEpisode 3: “Mediation – The Changing face of Access to Justice” 17th October 2024\, 1pm BST\nRené M. Baptiste CMG Register here\nReferring different matters to Mediation is growing in importance allowing parties more freedom to be actively engaged in resolving their issues. Is it the alternative for Smaller States and their citizens? \n  \nEpisode 4: “Peace jurisprudence and constitutional reform- incorporating Mediation Principles into Supreme Law” 31st October 2024\, 1pm GMT\nJustice Vasheist V Kokaram JA Register here\nConstitutions must respond to developing norms of shared regional and international values of human rights and the rule of law. It is a visioning of a community of human beings collaborating to create an optimum environment for the celebration of our human dignity\, flourishing of our human potential\, sustainability of our human development and preservation of our species. But what all of our aspirations involved in constitutionalism cannot avoid is conflict which inevitably emerges in whatever political systems are designed. In my presentation I explore our baseline jurisprudential approach to the management of conflict and demonstrate the relevance of the DNA of mediation to develop new constitutional values and our instincts for peace. Can positive peace outcomes be achieved\, reinforced and sustained when we reorient our constitutional frameworks to a “meditative” and positive approach to conflict? What approaches to peacebuilding can be embedded within our task of constitutional reform to avoid conflict\, minimize its occurrence and harness its positive lessons? \n  \nEpisode 5: “Mediation Advocacy: The Ignored Middle Child?” 7th November 2024\, 1pm GMT\nGregory Vijayendran SC\nRegister here \nOpportunities abound these days to pursue a credentials and career as a mediator. As the “eldest child” in the room\, mediators guide\, facilitate\, nurture and set the agenda and pace of mediation. Clients new to mediation or relatively inexperienced are the “youngest child” who often need handholding and careful navigation about the process and practice of mediation. But what of the advocates themselves? Are they the proverbial “ignored middle children”? The speaker will touch on culture\, language\, ethos\, principles and best practices of mediation advocacy – a topic sometimes understated but mostly forgotten. He will contend that mediation advocacy plays a vital and overlooked role in mediation’s success \n  \nEpisode 6: “Interplay of Psychology\, Neuroscience and Conflict in Mediation” 14th November 2024\, 1pm GMT\nA. J. Jawad Register here\nMediation operates on a paradigm of conflict resolution unlike litigation or arbitration that operate on the paradigm of dispute adjudication. Mediation perceives conflict as a problem arising from the different perspectives and perceptions of the parties to the conflict and the emotions that get triggered due to such differing perceptions. It is therefore important for a mediator to understand these drivers of the conflict and move the parties to a position of understanding each others perspective. Therefore understanding the interplay of psychology\, neuroscience and conflict in mediation forms an integral part of mediation training.
URL:https://lsnl.ca/event/can-adr-transform-a-society-the-jamaican-experience-part-2-of-6-mediation-guest-lecture-series-by-the-commonwealth-lawyers-association/
LOCATION:Online
CATEGORIES:Continuing Professional Development
END:VEVENT
BEGIN:VEVENT
DTSTART;TZID=America/St_Johns:20241003T133000
DTEND;TZID=America/St_Johns:20241003T150000
DTSTAMP:20260421T031309
CREATED:20240716T153924Z
LAST-MODIFIED:20240716T153924Z
UID:23737-1727962200-1727967600@lsnl.ca
SUMMARY:Creating a Digital Assets Estate Plan
DESCRIPTION:Learning Options:\nLive webinar with chat*\nincludes 60 day replay\n9:00 am – 10:30 am (Pacific)\n10:00 am – 11:30 am (Mountain)\n11:00 am – 12:30 pm (Central)\n12:00 pm – 1:30 pm (Eastern)\n1:00 pm – 2:30 pm (Atlantic)\n1:30 pm – 3:00 pm (Newfoundland) \n*This program features real-time audio and video of the presenter with synchronized presentation slides\, and a chat feature that allows for live Q & A. SK attendees please verify whether you align with Central (MB) or Mountain (AB) time based on season and location. \n\n\nTechnical Information:\nLive webinars allow you to hear and view faculty\, see their presentation slides\, and ask questions by chat. You will need a current web browser (Chrome (Chrome works best)\, Safari\, Firefox)\, a wired (better than wireless) connection to the Internet of at least 2 Mbps. You can test your internet speed/bandwidth here. If you miss the live program\, you can access the archive\, at your convenience\, for 60 days. \n\n\n\n\nWho Should Attend\nThis program is designed for lawyers who want to update their current estate and incapacity planning and estate administration practices to address digital assets. \n\n\nAbout the Program\nWe interact with digital assets hundreds of times a day – from the photos and videos stored on our smartphones and computers to our social media accounts and downloaded music. Some of these assets add significant financial value to our estate while others have purely sentimental value\, but all can easily slip through the cracks. Do you have the knowledge to ensure your client’s digital assets are managed in accordance with their wishes? This 90-minute webinar with experienced estates lawyer Charlotte McCurdy will explain the rules that govern this rapidly growing asset class\, address how to gain control of them upon mental incapacity or after death\, and show you how to create a digital assets estate plan\, with administration in mind. You will learn: \n\nWhich digital assets are often lost at death\nImpact of policy and law on digital asset planning\nPractical planning tips: what works\, what doesn’t\, and what we still don’t know\n\nDigital assets are a big part of your clients’ lives. Attend this program and learn what you can do to help their fiduciaries access and preserve those assets after your clients’ loss of capacity or death. \n\n\nMeet Your Presenter \n\nCharlotte McCurdy practises with Perley-Robertson\, Hill & McDougall LLP in Ottawa. She joined the firm in 2021 after having been partner at Taylor McCaffrey LLP in Winnipeg for many years.Charlotte’s dual jurisdiction (Manitoba and Ontario) practice focusses primarily on corporate and commercial law\, estate and incapacity planning\, estate administration and elder law. She is a member of the Law Society of Manitoba and the Law Society of Ontario. Charlotte has her TEP designation\, is currently Co-Chair of the MBA Wills\, Estates & Trusts Section\, and on the Executive of the CBA National Wills\, Estates & Trusts Section. Charlotte has written about digital asset planning and regularly speaks to audiences of lawyers and non-lawyers about estate-related topics.
URL:https://lsnl.ca/event/creating-a-digital-assets-estate-plan/
LOCATION:Online
CATEGORIES:Continuing Professional Development
END:VEVENT
END:VCALENDAR