BEGIN:VCALENDAR
VERSION:2.0
PRODID:-//The Law Society of Newfoundland and Labrador - ECPv6.15.19//NONSGML v1.0//EN
CALSCALE:GREGORIAN
METHOD:PUBLISH
X-ORIGINAL-URL:https://lsnl.ca
X-WR-CALDESC:Events for The Law Society of Newfoundland and Labrador
REFRESH-INTERVAL;VALUE=DURATION:PT1H
X-Robots-Tag:noindex
X-PUBLISHED-TTL:PT1H
BEGIN:VTIMEZONE
TZID:America/St_Johns
BEGIN:DAYLIGHT
TZOFFSETFROM:-0330
TZOFFSETTO:-0230
TZNAME:NDT
DTSTART:20230312T053000
END:DAYLIGHT
BEGIN:STANDARD
TZOFFSETFROM:-0230
TZOFFSETTO:-0330
TZNAME:NST
DTSTART:20231105T043000
END:STANDARD
BEGIN:DAYLIGHT
TZOFFSETFROM:-0330
TZOFFSETTO:-0230
TZNAME:NDT
DTSTART:20240310T053000
END:DAYLIGHT
BEGIN:STANDARD
TZOFFSETFROM:-0230
TZOFFSETTO:-0330
TZNAME:NST
DTSTART:20241103T043000
END:STANDARD
BEGIN:DAYLIGHT
TZOFFSETFROM:-0330
TZOFFSETTO:-0230
TZNAME:NDT
DTSTART:20250309T053000
END:DAYLIGHT
BEGIN:STANDARD
TZOFFSETFROM:-0230
TZOFFSETTO:-0330
TZNAME:NST
DTSTART:20251102T043000
END:STANDARD
END:VTIMEZONE
BEGIN:VEVENT
DTSTART;VALUE=DATE:20241007
DTEND;VALUE=DATE:20241008
DTSTAMP:20260421T013448
CREATED:20240827T163557Z
LAST-MODIFIED:20240827T163557Z
UID:24005-1728259200-1728345599@lsnl.ca
SUMMARY:Dealing with High Conflict Behaviours
DESCRIPTION:Simple strategies for resolving high conflict situations with high conflict people \nLimited enrolment for in-person registrations. Register early to avoid disappointment! \nPlease note: This course will not be added to Courses on Demand. Courses involving professional speakers and skills-based workshops generally do not get added to Courses on Demand. \nWho should attend: Lawyers\, mediators; this course may also be of interest to paralegals and legal support staff \nLearning level: All levels \nHave you noticed more people engaging in “high conflict” behaviour these days? Someone yelling at a receptionist? A colleague who often gets into arguments and doesn’t take responsibility for their actions? A client who files multiple complaints over a miscommunication? \nThese types of behaviours are increasingly common\, and as a legal professional\, it is more important than ever to be able to manage individuals with high conflict personalities who repeat patterns of high conflict behaviours. \nAt this one-day workshop\, you will learn the theory of high conflict behaviour\, and explore skills and techniques to manage high conflict disputes. You will draw from your own experiences\, refine your existing skillset\, and practice new strategies\, so that you can leave this course with insight and confidence when dealing with high conflict behaviour. \nCourse Chair\nMichael J. Lomax\, JD — Michael Lomax CDR Inc.\, Victoria
URL:https://lsnl.ca/event/dealing-with-high-conflict-behaviours/
LOCATION:Online
CATEGORIES:Continuing Professional Development
END:VEVENT
END:VCALENDAR