BEGIN:VCALENDAR
VERSION:2.0
PRODID:-//The Law Society of Newfoundland and Labrador - ECPv6.15.19//NONSGML v1.0//EN
CALSCALE:GREGORIAN
METHOD:PUBLISH
X-WR-CALNAME:The Law Society of Newfoundland and Labrador
X-ORIGINAL-URL:https://lsnl.ca
X-WR-CALDESC:Events for The Law Society of Newfoundland and Labrador
REFRESH-INTERVAL;VALUE=DURATION:PT1H
X-Robots-Tag:noindex
X-PUBLISHED-TTL:PT1H
BEGIN:VTIMEZONE
TZID:America/St_Johns
BEGIN:DAYLIGHT
TZOFFSETFROM:-0330
TZOFFSETTO:-0230
TZNAME:NDT
DTSTART:20230312T053000
END:DAYLIGHT
BEGIN:STANDARD
TZOFFSETFROM:-0230
TZOFFSETTO:-0330
TZNAME:NST
DTSTART:20231105T043000
END:STANDARD
BEGIN:DAYLIGHT
TZOFFSETFROM:-0330
TZOFFSETTO:-0230
TZNAME:NDT
DTSTART:20240310T053000
END:DAYLIGHT
BEGIN:STANDARD
TZOFFSETFROM:-0230
TZOFFSETTO:-0330
TZNAME:NST
DTSTART:20241103T043000
END:STANDARD
BEGIN:DAYLIGHT
TZOFFSETFROM:-0330
TZOFFSETTO:-0230
TZNAME:NDT
DTSTART:20250309T053000
END:DAYLIGHT
BEGIN:STANDARD
TZOFFSETFROM:-0230
TZOFFSETTO:-0330
TZNAME:NST
DTSTART:20251102T043000
END:STANDARD
END:VTIMEZONE
BEGIN:VEVENT
DTSTART;TZID=America/St_Johns:20241014T140000
DTEND;TZID=America/St_Johns:20241014T150000
DTSTAMP:20260421T013327
CREATED:20241001T121828Z
LAST-MODIFIED:20241001T121828Z
UID:24220-1728914400-1728918000@lsnl.ca
SUMMARY:Atlantic Immigrant Career Loan Fund Information Session by the Immigrant Services Association of Nova Scotia
DESCRIPTION:On October 14th\, join us for a one-hour webinar at 2:00 pm ADT to learn about the Atlantic Immigrant Career Loan Fund (AICLF). This ISANS-led initiative can help immigrants with permanent resident status or Canadian citizenship obtain training and certification in their chosen fields or related fields in their new home provinces. \nDuring this event\, you will learn: \n\nWho is eligible for the AICLF\nWhat costs the AICLF can cover\nThe kinds of programs the AICLF can help pay for\nHow the AICLF is funded and how it is administered across Atlantic Canada\nWhy the AICLF is a better choice for immigrants in Atlantic Canada than funding through a private institution on their own\n\nDuring and after the presentation\, you can also ask any questions you might have about AICLF. Anyone interested in attending a French version of this webinar on Mercredi 09 octobre 2024 de 18h à 19h (Heure de l’Atlantique) can register by clicking: Lien  \nRegistration and attendance details: \n\nRegister for the event by filling in this form.\nThe registration deadline is 5 pm ADT Friday\, October 11th \nYou will receive a link to the meeting before the event\n\nFor more information\, please contact:\nKen Partridge\nkpartridge@isans.ca \n Platform: Microsoft Teams
URL:https://lsnl.ca/event/atlantic-immigrant-career-loan-fund-information-session-by-the-immigrant-services-association-of-nova-scotia/
LOCATION:Online
CATEGORIES:Continuing Professional Development
END:VEVENT
END:VCALENDAR