BEGIN:VCALENDAR
VERSION:2.0
PRODID:-//The Law Society of Newfoundland and Labrador - ECPv6.15.19//NONSGML v1.0//EN
CALSCALE:GREGORIAN
METHOD:PUBLISH
X-ORIGINAL-URL:https://lsnl.ca
X-WR-CALDESC:Events for The Law Society of Newfoundland and Labrador
REFRESH-INTERVAL;VALUE=DURATION:PT1H
X-Robots-Tag:noindex
X-PUBLISHED-TTL:PT1H
BEGIN:VTIMEZONE
TZID:America/St_Johns
BEGIN:DAYLIGHT
TZOFFSETFROM:-0330
TZOFFSETTO:-0230
TZNAME:NDT
DTSTART:20230312T053000
END:DAYLIGHT
BEGIN:STANDARD
TZOFFSETFROM:-0230
TZOFFSETTO:-0330
TZNAME:NST
DTSTART:20231105T043000
END:STANDARD
BEGIN:DAYLIGHT
TZOFFSETFROM:-0330
TZOFFSETTO:-0230
TZNAME:NDT
DTSTART:20240310T053000
END:DAYLIGHT
BEGIN:STANDARD
TZOFFSETFROM:-0230
TZOFFSETTO:-0330
TZNAME:NST
DTSTART:20241103T043000
END:STANDARD
BEGIN:DAYLIGHT
TZOFFSETFROM:-0330
TZOFFSETTO:-0230
TZNAME:NDT
DTSTART:20250309T053000
END:DAYLIGHT
BEGIN:STANDARD
TZOFFSETFROM:-0230
TZOFFSETTO:-0330
TZNAME:NST
DTSTART:20251102T043000
END:STANDARD
END:VTIMEZONE
BEGIN:VEVENT
DTSTART;VALUE=DATE:20241015
DTEND;VALUE=DATE:20241017
DTSTAMP:20260421T013446
CREATED:20240827T160822Z
LAST-MODIFIED:20240827T160822Z
UID:23995-1728950400-1729123199@lsnl.ca
SUMMARY:Administrative Law and Practice
DESCRIPTION:What You’ll Learn\nWho Should Attend\nFaculty\nAgenda\nPricing and Group Rates\nFinancial Assistance\nCPD and Accreditation\nFAQs\nClient and Technical Support\n\nRegister\n\n\n\n\n\n\n\n\n\nThe not-to-be-missed annual forum for practitioners in the administrative and regulatory sectors—now in its 19th year.\nGet up to date on the most significant administrative law developments in Canada \nFor 19 years\, the OsgoodePD Annual National Forum on Administrative Law and Practice has brought together leading practitioners\, decision-makers\, and academics for two days of discussion and debate. \nWhether you appear before\, advise\, or sit as a member of a tribunal\, or act in judicial review applications\, it is essential to remain up to date on recent decisions\, legislative updates\, and developing trends in policy and practice. \nBack in-person for the first time since 2019\, the 2024 Administrative Law & Practice Forum gives you the chance to connect with peers and leaders in the field\, and deepen your understanding of current and developing issues in administrative law in Canada. \n\nCan’t Make the Date? Registration includes 120-day unlimited\, online access to the recorded program. \n\n\n\nWhat You’ll Learn\n\n\n\n\n\nCritical Developments in Administrative Law in 2024\nRegulation of harmful content on social media: challenges and implications of the Online Harms Act\nArtificial Intelligence: Regulation challenges in Canada and around the world\nCases to Watch in 2025\nNational Security and Administrative Law\nDevelopments on the Charter and Administrative Decision-Makers\nImportant Updates in Aboriginal Law\n\n\n\n\n\n\n\n\n\n\n\nWho Should Attend\n\n\n\n\n\nLawyers who appear before agencies\, boards and tribunals anywhere in Canada\nGovernment counsel\nTribunal counsel\nTribunal and board members\nAdjudicators\nRegulators\nCounsel who advise on government regulations and the regulatory process
URL:https://lsnl.ca/event/administrative-law-and-practice/
LOCATION:Online
CATEGORIES:Continuing Professional Development
END:VEVENT
END:VCALENDAR