BEGIN:VCALENDAR
VERSION:2.0
PRODID:-//The Law Society of Newfoundland and Labrador - ECPv6.15.19//NONSGML v1.0//EN
CALSCALE:GREGORIAN
METHOD:PUBLISH
X-WR-CALNAME:The Law Society of Newfoundland and Labrador
X-ORIGINAL-URL:https://lsnl.ca
X-WR-CALDESC:Events for The Law Society of Newfoundland and Labrador
REFRESH-INTERVAL;VALUE=DURATION:PT1H
X-Robots-Tag:noindex
X-PUBLISHED-TTL:PT1H
BEGIN:VTIMEZONE
TZID:America/St_Johns
BEGIN:DAYLIGHT
TZOFFSETFROM:-0330
TZOFFSETTO:-0230
TZNAME:NDT
DTSTART:20230312T053000
END:DAYLIGHT
BEGIN:STANDARD
TZOFFSETFROM:-0230
TZOFFSETTO:-0330
TZNAME:NST
DTSTART:20231105T043000
END:STANDARD
BEGIN:DAYLIGHT
TZOFFSETFROM:-0330
TZOFFSETTO:-0230
TZNAME:NDT
DTSTART:20240310T053000
END:DAYLIGHT
BEGIN:STANDARD
TZOFFSETFROM:-0230
TZOFFSETTO:-0330
TZNAME:NST
DTSTART:20241103T043000
END:STANDARD
BEGIN:DAYLIGHT
TZOFFSETFROM:-0330
TZOFFSETTO:-0230
TZNAME:NDT
DTSTART:20250309T053000
END:DAYLIGHT
BEGIN:STANDARD
TZOFFSETFROM:-0230
TZOFFSETTO:-0330
TZNAME:NST
DTSTART:20251102T043000
END:STANDARD
END:VTIMEZONE
BEGIN:VEVENT
DTSTART;VALUE=DATE:20241022
DTEND;VALUE=DATE:20241023
DTSTAMP:20260421T013324
CREATED:20240827T161303Z
LAST-MODIFIED:20240827T161303Z
UID:23997-1729555200-1729641599@lsnl.ca
SUMMARY:Regulatory Compliance and Legal Risk Management for Financial Institutions
DESCRIPTION:What You’ll Learn\nWho Should Attend\nFaculty\nAgenda\nPricing and Group Rates\nFinancial Assistance\nCPD and Accreditation\nFAQs\nClient and Technical Support\n\nRegister\n\n\n\n\n\n\n\n\n\n\n\n\nThe must-attend event for financial services. Get unparalleled access and the opportunity to interact with major regulators and industry leaders including: FCAC\, CIRO\, CCIR\, AMF\, OPC\, OSC/CSA and FSRA.\nFinancial institutions are facing escalating demands and risks to innovate by optimizing the use of rapidly developing technology and need to satisfy evolving regulatory standards and ethical obligations in high-stakes areas including privacy\, data\, AML\, climate and sustainability\, and open banking. \nProfessionals must top-up their knowledge and skills with the latest in law and risk management for creating more sophisticated and adaptive compliance\, risk and oversight frameworks and strategies. \nInteract and learn from major regulators and industry leaders and stay on top of evolving expectations and industry best practices. \nDeveloped for industry leaders and professionals\, this annual OsgoodePD program provides a roadmap to successfully navigate current and anticipated regulatory and legal risk management developments.  In one information-packed day\, you will get expert insights\, guidance\, and proactive tips for managing key changes\, obligations\, and emerging issues. \n*NEW* EVENT NETWORKING LIST FOR THE OCTOBER 22\, 2024 PROGRAM – YOU MUST OPT-IN \nDelegates who register for the October 22\, 2024\, program may opt-in to participate in a voluntary networking list for the event. Check your confirmation email for details\, including a link for you to complete a brief consent form to opt-in and to provide your preferred contact details. \n\nCan’t Make the Date? Registration includes 120-day unlimited\, online access to the recorded program. \n\n\n\nWhat You’ll Learn\n\n\n\n\nGet critical updates from major regulators and industry associations in Canada’s financial services sector\, including pandemic-related impacts\, focused on: \n\nBanking\nSecurities/investment firms\nInsurance companies\n\n\n\nPractical insights and tips to ready your organization for the future and ongoing economic uncertainty \n\n\nCrucial forecasts and insights to prepare your organization for progress within the shifting regulatory framework and anticipated changes\, with a focus on key compliance impacts \n\n\nStrategies for implementing procedural and process-based changes involving judgement-based assessments of business conduct\, ethics\, and culture to improve your compliance program \n\n\nTips for improving your organization’s strategic compliance and risk management oversight efforts with a focus on consumer consent\, data portability rights and interoperability obligations\, and the strengthening of regulators’ powers and ability to collaborate \n\n\n\n\n\n\nTechniques to help you effectively navigate emerging industry issues\, risks and trends\, including pandemic-related impacts \n\nData\, privacy and cybersecurity obligations and risks impacting compliance\nOptimizing crucial operational and legal risk management elements in the current climate\nDriving corporate values while satisfying regulators’ greater focus on ethical standards and integrity culture\nApplying behavioural economics lessons and insights within your organization\nExploring the use of rapidly changing technologies and digital solutions to foster innovation for your organization and customers and meet regulators’ expectations\n\n\n\nBest practices for preparing your organization to adapt to key regulatory changes and evolving expectations\, including the new frontier of open banking \n\n\n\n\n\n\n\n\n\n\nWho Should Attend\n\nProfessionals working in or with financial institutions\, including banking\, insurance\, securities or investments:\nCompliance\, risk and privacy\nData ethics\, AI/technology and innovations\nGovernance\, operations and quality assurance\nPolicy and procedures analysts\nPortfolio managers\, fund and investment managers and securities dealers\nGovernment and regulatory counsel\nIn-house lawyers\, analysts\, investigations and enforcement counsel\nPrivate practice lawyers working in financial services\nProfessionals in a managerial\, executive or director position looking to increase their knowledge in financial services compliance or risk management
URL:https://lsnl.ca/event/regulatory-compliance-and-legal-risk-management-for-financial-institutions/
LOCATION:Online
CATEGORIES:Continuing Professional Development
END:VEVENT
BEGIN:VEVENT
DTSTART;TZID=America/St_Johns:20241022T190000
DTEND;TZID=America/St_Johns:20241022T213000
DTSTAMP:20260421T013324
CREATED:20241016T130158Z
LAST-MODIFIED:20241016T130158Z
UID:24296-1729623600-1729632600@lsnl.ca
SUMMARY:Invitation to the launch of Invisible Prisons with Lisa Moore & Jack Whalen
DESCRIPTION:From a review of the book: Invisible Prisons is an extraordinary\, empathetic collaboration between the magnificent writer Lisa Moore\, best-known for her award-winning fiction\, and a man named Jack Whalen\, who as a child was held for four years at a reform school for boys in St John’s\, where he suffered jaw-dropping abuses and deprivations. Despite the odds stacked against him\, he found love on the other side\, and managed to turn his life around as a husband and father. His daughter\, Brittany\, vowed at a young age to become a lawyer so that she could seek justice for him. Today\, that is exactly what she is doing—and Jack’s case is part of a lawsuit currently before the courts. \nThe story has parallels with Unholy Orders by Michael Harris about the Mount Cashel orphanage\, and with the many horrific stories about residential schools—all of which expose a paternalistic state causing harm and a larger society looking away. Yet two powerful qualities set this story apart. As much as it is about an abusive system preying on children\, it is also a tender tale of love between Jack and his wife Glennis\, who saw the good man inside a damaged person and believed in him. And it is written in a novelistic way by the great Lisa Moore\, who makes vividly real every moment and character in these pages. \nAuthors \nJACK WHALEN is the son\, brother\, husband\, and father whose story became this book. He divides his time between family homes in Oshawa\, Ontario\, and St. John’s\, Newfoundland. Recently\, he can sometimes be found crossing the country in a truck carrying a replica of the cell in which he was once imprisoned\, seeking justice for those who endured solitary confinement as children. \nLISA MOORE is the author of the bestselling novels Alligator\, February\, and Caught; the story collections Open and Something for Everyone; and a young adult novel\, Flannery. Her books have been finalists for the Commonwealth Writers’ Prize\, CBC Canada Reads\, the Writers’ Trust Fiction Prize\, the Scotiabank Giller Prize\, and the Man Booker Prize\, among many other honours and accolades. Lisa lives in St. John’s\, Newfoundland.
URL:https://lsnl.ca/event/invitation-to-the-launch-of-invisible-prisons-with-lisa-moore-jack-whalen/
CATEGORIES:Continuing Professional Development
END:VEVENT
END:VCALENDAR